Workbook

Sheet Mode d'emploi
B1: Mode d'emploi du tableau de pointage
B3: Pour tous·tes les utilisateur·trice·s,
B4: Nous sommes heureux de vous offrir ce système de comptabilisation des points pour votre finale locale du DGI 2025-2026.
B5: Assurez-vous de bien lire ces instructions avant d'utiliser le fichier Excel. Nous recommandons de faire des tests avec celui-ci avant votre finale.
B6: Si vous rencontrez des problèmes avec le fichier, veuillez nous écrire au faqdgi@technoscience.ca. Merci et bon défi!
B8: Onglets Équipes :
B9: - | C9: Entrer les numéros d'équipe, les nom des participant·e·s, les noms des prototypes et les noms d'écoles.
B10: - | C10: Entrer les résultats des rapports écrits dans la colonne /100.
B11: - | C11: Les noms s'inscriront automatiquement dans les onglets "Pointage" et dans les tableaux de classement.
B12: - | C12: ATTENTION : Il est nécessaire d'inscrire des numéros d'équipe pour que le calcul du pointage s'effectue de la bonne façon. Rentrer uniquement des chiffres entiers (et non des lettres ou des décimales).
B14: Onglets Pointage :
B15: - | C15: Entrer la distance parcourue et mesurée en cm, par le prototype (mesurée à partir du milieu de la ligne de départ jusqu'au point de la chaîne le plus éloigné de celle-ci).
B16: - | C16: Si l'équipe n'a pas réussi à installer son prototype en 30 secondes, inscrire X dans la case "d" (d = 0).
B18: Onglets Résultats préliminaires :
B19: - | C19: Les résultats de la 1ère et 2e manches s'affichent dans l'onglet correspondant.
B20: - | C20: Ils ne tiennent pas compte des notes des rapports écrits.
B22: Onglets Classement :
B23: - | C23: Les résultats finaux présentés selon le classement s'affichent dans l'onglet correspondant. Ils incluent la note du rapport écrit.
B25: En cas d'égalité :
B26: - | C26: Si deux équipes arrivent à égalité, la masse de leur prototype sera prise en compte. L’équipe dont le véhicule aura la masse la plus faible s’assurera du meilleur classement.
B27: - | C27: Dans ce cas, les résultats des équipes ex-aequo s'affichent en rouge dans les tableaux "Pointage".
B28: - | C28: Une fois les deux véhicules pesés, inscrire le classement de chacun dans la colonne ex-aequo (ex: 1 et 2)
B29: - | C29: S'il y a des équipes ex-aequo et qu'elles n'ont pas été départagées dans le tableau "Pointage", des cases rouges apparaîtront dans le tableau "Classement" également.

Sheet Équipes 1er cycle
A1: Résultats des rapports écrits
A2: 1er cycle
A4: No d'équipe | B4: Participant·e·s | C4: Prototype | D4: École | E4: Note du rapport écrit
E5: /100 | F5: /15
A6: 1 | B6: Léo & Florence | C6: La licorne magique | D6: Polyvalente | E6: 75 | F6: =E6*15/100 -> 11.25
F7: =ROUND(E7*15/100,2) -> 0
F8: =ROUND(E8*15/100,2) -> 0
F9: =ROUND(E9*15/100,2) -> 0
F10: =ROUND(E10*15/100,2) -> 0
F11: =ROUND(E11*15/100,2) -> 0
F12: =ROUND(E12*15/100,2) -> 0
F13: =ROUND(E13*15/100,2) -> 0
F14: =ROUND(E14*15/100,2) -> 0
F15: =ROUND(E15*15/100,2) -> 0
F16: =ROUND(E16*15/100,2) -> 0
F17: =ROUND(E17*15/100,2) -> 0
F18: =ROUND(E18*15/100,2) -> 0
... F106: =ROUND(E106*15/100,2) -> 0

Sheet Pointage 1er cycle
B2: Édition 2025-2026
B3: TIRE LA CHAÎNE!
B4: Nom de l'école
B5: 1er cycle
A7: GRAND TOTAL | B7: No d'équipe | C7: Participant·e·s | D7: Prototype | E7: École | F7: Manche 1 | H7: Manche 2 | J7: m1 + m2 | K7: Rapport écrit | L7: Classement des ex-aequo | M7: GRAND TOTAL
F8: d1 (cm) "X" si l'équipe n'a pas réussi à installer son prototype en moins de 30 secondes ou si la chaîne dépasse le prototype. | G8: m1 | H8: d2 (cm) "X" si l'équipe n'a pas réussi à installer son prototype en moins de 30 secondes ou si la chaîne dépasse le prototype. | I8: m2 | J8: =MAX($J$9:$J$108) -> 0 | K8: R /15
A9: =M9 -> 0 | B9: ='Équipes 1er cycle'!A7 -> 0 | C9: =VLOOKUP($B9,'Équipes 1er cycle'!$A$7:$F$106,2,FALSE) -> #N/A | D9: =VLOOKUP($B9,'Équipes 1er cycle'!$A$7:$F$106,3,FALSE) -> #N/A | E9: =VLOOKUP($B9,'Équipes 1er cycle'!$A$7:$F$106,4,FALSE) -> #N/A | G9: =IF(F9="X",0,IF(F9="",0,F9)) -> 0 | I9: =IF(H9="X",0,IF(H9="",0,H9)) -> 0 | J9: =$G9+$I9 -> 0 | K9: =VLOOKUP($B9,'Équipes 1er cycle'!$A$7:$F$106,6,FALSE) -> #N/A | M9: =IFERROR((85*$J9/J8+$K9)+IF(L9="",0,1/L9/1000),0) -> 0
A10: =M10 -> 0 | B10: ='Équipes 1er cycle'!A8 -> 0 | C10: =VLOOKUP($B10,'Équipes 1er cycle'!$A$7:$F$106,2,FALSE) -> #N/A | D10: =VLOOKUP($B10,'Équipes 1er cycle'!$A$7:$F$106,3,FALSE) -> #N/A | E10: =VLOOKUP($B10,'Équipes 1er cycle'!$A$7:$F$106,4,FALSE) -> #N/A | G10: =IF(F10="X",0,IF(F10="",0,F10)) -> 0 | I10: =IF(H10="X",0,IF(H10="",0,H10)) -> 0 | J10: =$G10+$I10 -> 0 | K10: =VLOOKUP($B10,'Équipes 1er cycle'!$A$7:$F$106,6,FALSE) -> #N/A | M10: =IFERROR((85*$J10/J8+$K10)+IF(L10="",0,1/L10/1000),0) -> 0
A11: =M11 -> 0 | B11: ='Équipes 1er cycle'!A9 -> 0 | C11: =VLOOKUP($B11,'Équipes 1er cycle'!$A$7:$F$106,2,FALSE) -> #N/A | D11: =VLOOKUP($B11,'Équipes 1er cycle'!$A$7:$F$106,3,FALSE) -> #N/A | E11: =VLOOKUP($B11,'Équipes 1er cycle'!$A$7:$F$106,4,FALSE) -> #N/A | G11: =IF(F11="X",0,IF(F11="",0,F11)) -> 0 | I11: =IF(H11="X",0,IF(H11="",0,H11)) -> 0 | J11: =$G11+$I11 -> 0 | K11: =VLOOKUP($B11,'Équipes 1er cycle'!$A$7:$F$106,6,FALSE) -> #N/A | M11: =IFERROR((85*$J11/J8+$K11)+IF(L11="",0,1/L11/1000),0) -> 0
A12: =M12 -> 0 | B12: ='Équipes 1er cycle'!A10 -> 0 | C12: =VLOOKUP($B12,'Équipes 1er cycle'!$A$7:$F$106,2,FALSE) -> #N/A | D12: =VLOOKUP($B12,'Équipes 1er cycle'!$A$7:$F$106,3,FALSE) -> #N/A | E12: =VLOOKUP($B12,'Équipes 1er cycle'!$A$7:$F$106,4,FALSE) -> #N/A | G12: =IF(F12="X",0,IF(F12="",0,F12)) -> 0 | I12: =IF(H12="X",0,IF(H12="",0,H12)) -> 0 | J12: =$G12+$I12 -> 0 | K12: =VLOOKUP($B12,'Équipes 1er cycle'!$A$7:$F$106,6,FALSE) -> #N/A | M12: =IFERROR((85*$J12/J8+$K12)+IF(L12="",0,1/L12/1000),0) -> 0
A13: =M13 -> 0 | B13: ='Équipes 1er cycle'!A11 -> 0 | C13: =VLOOKUP($B13,'Équipes 1er cycle'!$A$7:$F$106,2,FALSE) -> #N/A | D13: =VLOOKUP($B13,'Équipes 1er cycle'!$A$7:$F$106,3,FALSE) -> #N/A | E13: =VLOOKUP($B13,'Équipes 1er cycle'!$A$7:$F$106,4,FALSE) -> #N/A | G13: =IF(F13="X",0,IF(F13="",0,F13)) -> 0 | I13: =IF(H13="X",0,IF(H13="",0,H13)) -> 0 | J13: =$G13+$I13 -> 0 | K13: =VLOOKUP($B13,'Équipes 1er cycle'!$A$7:$F$106,6,FALSE) -> #N/A | M13: =IFERROR((85*$J13/J8+$K13)+IF(L13="",0,1/L13/1000),0) -> 0
A14: =M14 -> 0 | B14: ='Équipes 1er cycle'!A12 -> 0 | C14: =VLOOKUP($B14,'Équipes 1er cycle'!$A$7:$F$106,2,FALSE) -> #N/A | D14: =VLOOKUP($B14,'Équipes 1er cycle'!$A$7:$F$106,3,FALSE) -> #N/A | E14: =VLOOKUP($B14,'Équipes 1er cycle'!$A$7:$F$106,4,FALSE) -> #N/A | G14: =IF(F14="X",0,IF(F14="",0,F14)) -> 0 | I14: =IF(H14="X",0,IF(H14="",0,H14)) -> 0 | J14: =$G14+$I14 -> 0 | K14: =VLOOKUP($B14,'Équipes 1er cycle'!$A$7:$F$106,6,FALSE) -> #N/A | M14: =IFERROR((85*$J14/J8+$K14)+IF(L14="",0,1/L14/1000),0) -> 0
A15: =M15 -> 0 | B15: ='Équipes 1er cycle'!A13 -> 0 | C15: =VLOOKUP($B15,'Équipes 1er cycle'!$A$7:$F$106,2,FALSE) -> #N/A | D15: =VLOOKUP($B15,'Équipes 1er cycle'!$A$7:$F$106,3,FALSE) -> #N/A | E15: =VLOOKUP($B15,'Équipes 1er cycle'!$A$7:$F$106,4,FALSE) -> #N/A | G15: =IF(F15="X",0,IF(F15="",0,F15)) -> 0 | I15: =IF(H15="X",0,IF(H15="",0,H15)) -> 0 | J15: =$G15+$I15 -> 0 | K15: =VLOOKUP($B15,'Équipes 1er cycle'!$A$7:$F$106,6,FALSE) -> #N/A | M15: =IFERROR((85*$J15/J8+$K15)+IF(L15="",0,1/L15/1000),0) -> 0
A16: =M16 -> 0 | B16: ='Équipes 1er cycle'!A14 -> 0 | C16: =VLOOKUP($B16,'Équipes 1er cycle'!$A$7:$F$106,2,FALSE) -> #N/A | D16: =VLOOKUP($B16,'Équipes 1er cycle'!$A$7:$F$106,3,FALSE) -> #N/A | E16: =VLOOKUP($B16,'Équipes 1er cycle'!$A$7:$F$106,4,FALSE) -> #N/A | G16: =IF(F16="X",0,IF(F16="",0,F16)) -> 0 | I16: =IF(H16="X",0,IF(H16="",0,H16)) -> 0 | J16: =$G16+$I16 -> 0 | K16: =VLOOKUP($B16,'Équipes 1er cycle'!$A$7:$F$106,6,FALSE) -> #N/A | M16: =IFERROR((85*$J16/J8+$K16)+IF(L16="",0,1/L16/1000),0) -> 0
A17: =M17 -> 0 | B17: ='Équipes 1er cycle'!A15 -> 0 | C17: =VLOOKUP($B17,'Équipes 1er cycle'!$A$7:$F$106,2,FALSE) -> #N/A | D17: =VLOOKUP($B17,'Équipes 1er cycle'!$A$7:$F$106,3,FALSE) -> #N/A | E17: =VLOOKUP($B17,'Équipes 1er cycle'!$A$7:$F$106,4,FALSE) -> #N/A | G17: =IF(F17="X",0,IF(F17="",0,F17)) -> 0 | I17: =IF(H17="X",0,IF(H17="",0,H17)) -> 0 | J17: =$G17+$I17 -> 0 | K17: =VLOOKUP($B17,'Équipes 1er cycle'!$A$7:$F$106,6,FALSE) -> #N/A | M17: =IFERROR((85*$J17/J8+$K17)+IF(L17="",0,1/L17/1000),0) -> 0
A18: =M18 -> 0 | B18: ='Équipes 1er cycle'!A16 -> 0 | C18: =VLOOKUP($B18,'Équipes 1er cycle'!$A$7:$F$106,2,FALSE) -> #N/A | D18: =VLOOKUP($B18,'Équipes 1er cycle'!$A$7:$F$106,3,FALSE) -> #N/A | E18: =VLOOKUP($B18,'Équipes 1er cycle'!$A$7:$F$106,4,FALSE) -> #N/A | G18: =IF(F18="X",0,IF(F18="",0,F18)) -> 0 | I18: =IF(H18="X",0,IF(H18="",0,H18)) -> 0 | J18: =$G18+$I18 -> 0 | K18: =VLOOKUP($B18,'Équipes 1er cycle'!$A$7:$F$106,6,FALSE) -> #N/A | M18: =IFERROR((85*$J18/J8+$K18)+IF(L18="",0,1/L18/1000),0) -> 0
A19: =M19 -> 0 | B19: ='Équipes 1er cycle'!A17 -> 0 | C19: =VLOOKUP($B19,'Équipes 1er cycle'!$A$7:$F$106,2,FALSE) -> #N/A | D19: =VLOOKUP($B19,'Équipes 1er cycle'!$A$7:$F$106,3,FALSE) -> #N/A | E19: =VLOOKUP($B19,'Équipes 1er cycle'!$A$7:$F$106,4,FALSE) -> #N/A | G19: =IF(F19="X",0,IF(F19="",0,F19)) -> 0 | I19: =IF(H19="X",0,IF(H19="",0,H19)) -> 0 | J19: =$G19+$I19 -> 0 | K19: =VLOOKUP($B19,'Équipes 1er cycle'!$A$7:$F$106,6,FALSE) -> #N/A | M19: =IFERROR((85*$J19/J8+$K19)+IF(L19="",0,1/L19/1000),0) -> 0
A20: =M20 -> 0 | B20: ='Équipes 1er cycle'!A18 -> 0 | C20: =VLOOKUP($B20,'Équipes 1er cycle'!$A$7:$F$106,2,FALSE) -> #N/A | D20: =VLOOKUP($B20,'Équipes 1er cycle'!$A$7:$F$106,3,FALSE) -> #N/A | E20: =VLOOKUP($B20,'Équipes 1er cycle'!$A$7:$F$106,4,FALSE) -> #N/A | G20: =IF(F20="X",0,IF(F20="",0,F20)) -> 0 | I20: =IF(H20="X",0,IF(H20="",0,H20)) -> 0 | J20: =$G20+$I20 -> 0 | K20: =VLOOKUP($B20,'Équipes 1er cycle'!$A$7:$F$106,6,FALSE) -> #N/A | M20: =IFERROR((85*$J20/J8+$K20)+IF(L20="",0,1/L20/1000),0) -> 0
A21: =M21 -> 0 | B21: ='Équipes 1er cycle'!A19 -> 0 | C21: =VLOOKUP($B21,'Équipes 1er cycle'!$A$7:$F$106,2,FALSE) -> #N/A | D21: =VLOOKUP($B21,'Équipes 1er cycle'!$A$7:$F$106,3,FALSE) -> #N/A | E21: =VLOOKUP($B21,'Équipes 1er cycle'!$A$7:$F$106,4,FALSE) -> #N/A | G21: =IF(F21="X",0,IF(F21="",0,F21)) -> 0 | I21: =IF(H21="X",0,IF(H21="",0,H21)) -> 0 | J21: =$G21+$I21 -> 0 | K21: =VLOOKUP($B21,'Équipes 1er cycle'!$A$7:$F$106,6,FALSE) -> #N/A | M21: =IFERROR((85*$J21/J8+$K21)+IF(L21="",0,1/L21/1000),0) -> 0
A22: =M22 -> 0 | B22: ='Équipes 1er cycle'!A20 -> 0 | C22: =VLOOKUP($B22,'Équipes 1er cycle'!$A$7:$F$106,2,FALSE) -> #N/A | D22: =VLOOKUP($B22,'Équipes 1er cycle'!$A$7:$F$106,3,FALSE) -> #N/A | E22: =VLOOKUP($B22,'Équipes 1er cycle'!$A$7:$F$106,4,FALSE) -> #N/A | G22: =IF(F22="X",0,IF(F22="",0,F22)) -> 0 | I22: =IF(H22="X",0,IF(H22="",0,H22)) -> 0 | J22: =$G22+$I22 -> 0 | K22: =VLOOKUP($B22,'Équipes 1er cycle'!$A$7:$F$106,6,FALSE) -> #N/A | M22: =IFERROR((85*$J22/J8+$K22)+IF(L22="",0,1/L22/1000),0) -> 0
A23: =M23 -> 0 | B23: ='Équipes 1er cycle'!A21 -> 0 | C23: =VLOOKUP($B23,'Équipes 1er cycle'!$A$7:$F$106,2,FALSE) -> #N/A | D23: =VLOOKUP($B23,'Équipes 1er cycle'!$A$7:$F$106,3,FALSE) -> #N/A | E23: =VLOOKUP($B23,'Équipes 1er cycle'!$A$7:$F$106,4,FALSE) -> #N/A | G23: =IF(F23="X",0,IF(F23="",0,F23)) -> 0 | I23: =IF(H23="X",0,IF(H23="",0,H23)) -> 0 | J23: =$G23+$I23 -> 0 | K23: =VLOOKUP($B23,'Équipes 1er cycle'!$A$7:$F$106,6,FALSE) -> #N/A | M23: =IFERROR((85*$J23/J8+$K23)+IF(L23="",0,1/L23/1000),0) -> 0
A24: =M24 -> 0 | B24: ='Équipes 1er cycle'!A22 -> 0 | C24: =VLOOKUP($B24,'Équipes 1er cycle'!$A$7:$F$106,2,FALSE) -> #N/A | D24: =VLOOKUP($B24,'Équipes 1er cycle'!$A$7:$F$106,3,FALSE) -> #N/A | E24: =VLOOKUP($B24,'Équipes 1er cycle'!$A$7:$F$106,4,FALSE) -> #N/A | G24: =IF(F24="X",0,IF(F24="",0,F24)) -> 0 | I24: =IF(H24="X",0,IF(H24="",0,H24)) -> 0 | J24: =$G24+$I24 -> 0 | K24: =VLOOKUP($B24,'Équipes 1er cycle'!$A$7:$F$106,6,FALSE) -> #N/A | M24: =IFERROR((85*$J24/J8+$K24)+IF(L24="",0,1/L24/1000),0) -> 0
A25: =M25 -> 0 | B25: ='Équipes 1er cycle'!A23 -> 0 | C25: =VLOOKUP($B25,'Équipes 1er cycle'!$A$7:$F$106,2,FALSE) -> #N/A | D25: =VLOOKUP($B25,'Équipes 1er cycle'!$A$7:$F$106,3,FALSE) -> #N/A | E25: =VLOOKUP($B25,'Équipes 1er cycle'!$A$7:$F$106,4,FALSE) -> #N/A | G25: =IF(F25="X",0,IF(F25="",0,F25)) -> 0 | I25: =IF(H25="X",0,IF(H25="",0,H25)) -> 0 | J25: =$G25+$I25 -> 0 | K25: =VLOOKUP($B25,'Équipes 1er cycle'!$A$7:$F$106,6,FALSE) -> #N/A | M25: =IFERROR((85*$J25/J8+$K25)+IF(L25="",0,1/L25/1000),0) -> 0
A26: =M26 -> 0 | B26: ='Équipes 1er cycle'!A24 -> 0 | C26: =VLOOKUP($B26,'Équipes 1er cycle'!$A$7:$F$106,2,FALSE) -> #N/A | D26: =VLOOKUP($B26,'Équipes 1er cycle'!$A$7:$F$106,3,FALSE) -> #N/A | E26: =VLOOKUP($B26,'Équipes 1er cycle'!$A$7:$F$106,4,FALSE) -> #N/A | G26: =IF(F26="X",0,IF(F26="",0,F26)) -> 0 | I26: =IF(H26="X",0,IF(H26="",0,H26)) -> 0 | J26: =$G26+$I26 -> 0 | K26: =VLOOKUP($B26,'Équipes 1er cycle'!$A$7:$F$106,6,FALSE) -> #N/A | M26: =IFERROR((85*$J26/J8+$K26)+IF(L26="",0,1/L26/1000),0) -> 0
A27: =M27 -> 0 | B27: ='Équipes 1er cycle'!A25 -> 0 | C27: =VLOOKUP($B27,'Équipes 1er cycle'!$A$7:$F$106,2,FALSE) -> #N/A | D27: =VLOOKUP($B27,'Équipes 1er cycle'!$A$7:$F$106,3,FALSE) -> #N/A | E27: =VLOOKUP($B27,'Équipes 1er cycle'!$A$7:$F$106,4,FALSE) -> #N/A | G27: =IF(F27="X",0,IF(F27="",0,F27)) -> 0 | I27: =IF(H27="X",0,IF(H27="",0,H27)) -> 0 | J27: =$G27+$I27 -> 0 | K27: =VLOOKUP($B27,'Équipes 1er cycle'!$A$7:$F$106,6,FALSE) -> #N/A | M27: =IFERROR((85*$J27/J8+$K27)+IF(L27="",0,1/L27/1000),0) -> 0
A28: =M28 -> 0 | B28: ='Équipes 1er cycle'!A26 -> 0 | C28: =VLOOKUP($B28,'Équipes 1er cycle'!$A$7:$F$106,2,FALSE) -> #N/A | D28: =VLOOKUP($B28,'Équipes 1er cycle'!$A$7:$F$106,3,FALSE) -> #N/A | E28: =VLOOKUP($B28,'Équipes 1er cycle'!$A$7:$F$106,4,FALSE) -> #N/A | G28: =IF(F28="X",0,IF(F28="",0,F28)) -> 0 | I28: =IF(H28="X",0,IF(H28="",0,H28)) -> 0 | J28: =$G28+$I28 -> 0 | K28: =VLOOKUP($B28,'Équipes 1er cycle'!$A$7:$F$106,6,FALSE) -> #N/A | M28: =IFERROR((85*$J28/J8+$K28)+IF(L28="",0,1/L28/1000),0) -> 0
A29: =M29 -> 0 | B29: ='Équipes 1er cycle'!A27 -> 0 | C29: =VLOOKUP($B29,'Équipes 1er cycle'!$A$7:$F$106,2,FALSE) -> #N/A | D29: =VLOOKUP($B29,'Équipes 1er cycle'!$A$7:$F$106,3,FALSE) -> #N/A | E29: =VLOOKUP($B29,'Équipes 1er cycle'!$A$7:$F$106,4,FALSE) -> #N/A | G29: =IF(F29="X",0,IF(F29="",0,F29)) -> 0 | I29: =IF(H29="X",0,IF(H29="",0,H29)) -> 0 | J29: =$G29+$I29 -> 0 | K29: =VLOOKUP($B29,'Équipes 1er cycle'!$A$7:$F$106,6,FALSE) -> #N/A | M29: =IFERROR((85*$J29/J8+$K29)+IF(L29="",0,1/L29/1000),0) -> 0
A30: =M30 -> 0 | B30: ='Équipes 1er cycle'!A28 -> 0 | C30: =VLOOKUP($B30,'Équipes 1er cycle'!$A$7:$F$106,2,FALSE) -> #N/A | D30: =VLOOKUP($B30,'Équipes 1er cycle'!$A$7:$F$106,3,FALSE) -> #N/A | E30: =VLOOKUP($B30,'Équipes 1er cycle'!$A$7:$F$106,4,FALSE) -> #N/A | G30: =IF(F30="X",0,IF(F30="",0,F30)) -> 0 | I30: =IF(H30="X",0,IF(H30="",0,H30)) -> 0 | J30: =$G30+$I30 -> 0 | K30: =VLOOKUP($B30,'Équipes 1er cycle'!$A$7:$F$106,6,FALSE) -> #N/A | M30: =IFERROR((85*$J30/J8+$K30)+IF(L30="",0,1/L30/1000),0) -> 0
A31: =M31 -> 0 | B31: ='Équipes 1er cycle'!A29 -> 0 | C31: =VLOOKUP($B31,'Équipes 1er cycle'!$A$7:$F$106,2,FALSE) -> #N/A | D31: =VLOOKUP($B31,'Équipes 1er cycle'!$A$7:$F$106,3,FALSE) -> #N/A | E31: =VLOOKUP($B31,'Équipes 1er cycle'!$A$7:$F$106,4,FALSE) -> #N/A | G31: =IF(F31="X",0,IF(F31="",0,F31)) -> 0 | I31: =IF(H31="X",0,IF(H31="",0,H31)) -> 0 | J31: =$G31+$I31 -> 0 | K31: =VLOOKUP($B31,'Équipes 1er cycle'!$A$7:$F$106,6,FALSE) -> #N/A | M31: =IFERROR((85*$J31/J8+$K31)+IF(L31="",0,1/L31/1000),0) -> 0
A32: =M32 -> 0 | B32: ='Équipes 1er cycle'!A30 -> 0 | C32: =VLOOKUP($B32,'Équipes 1er cycle'!$A$7:$F$106,2,FALSE) -> #N/A | D32: =VLOOKUP($B32,'Équipes 1er cycle'!$A$7:$F$106,3,FALSE) -> #N/A | E32: =VLOOKUP($B32,'Équipes 1er cycle'!$A$7:$F$106,4,FALSE) -> #N/A | G32: =IF(F32="X",0,IF(F32="",0,F32)) -> 0 | I32: =IF(H32="X",0,IF(H32="",0,H32)) -> 0 | J32: =$G32+$I32 -> 0 | K32: =VLOOKUP($B32,'Équipes 1er cycle'!$A$7:$F$106,6,FALSE) -> #N/A | M32: =IFERROR((85*$J32/J8+$K32)+IF(L32="",0,1/L32/1000),0) -> 0
A33: =M33 -> 0 | B33: ='Équipes 1er cycle'!A31 -> 0 | C33: =VLOOKUP($B33,'Équipes 1er cycle'!$A$7:$F$106,2,FALSE) -> #N/A | D33: =VLOOKUP($B33,'Équipes 1er cycle'!$A$7:$F$106,3,FALSE) -> #N/A | E33: =VLOOKUP($B33,'Équipes 1er cycle'!$A$7:$F$106,4,FALSE) -> #N/A | G33: =IF(F33="X",0,IF(F33="",0,F33)) -> 0 | I33: =IF(H33="X",0,IF(H33="",0,H33)) -> 0 | J33: =$G33+$I33 -> 0 | K33: =VLOOKUP($B33,'Équipes 1er cycle'!$A$7:$F$106,6,FALSE) -> #N/A | M33: =IFERROR((85*$J33/J8+$K33)+IF(L33="",0,1/L33/1000),0) -> 0
A34: =M34 -> 0 | B34: ='Équipes 1er cycle'!A32 -> 0 | C34: =VLOOKUP($B34,'Équipes 1er cycle'!$A$7:$F$106,2,FALSE) -> #N/A | D34: =VLOOKUP($B34,'Équipes 1er cycle'!$A$7:$F$106,3,FALSE) -> #N/A | E34: =VLOOKUP($B34,'Équipes 1er cycle'!$A$7:$F$106,4,FALSE) -> #N/A | G34: =IF(F34="X",0,IF(F34="",0,F34)) -> 0 | I34: =IF(H34="X",0,IF(H34="",0,H34)) -> 0 | J34: =$G34+$I34 -> 0 | K34: =VLOOKUP($B34,'Équipes 1er cycle'!$A$7:$F$106,6,FALSE) -> #N/A | M34: =IFERROR((85*$J34/J8+$K34)+IF(L34="",0,1/L34/1000),0) -> 0
A35: =M35 -> 0 | B35: ='Équipes 1er cycle'!A33 -> 0 | C35: =VLOOKUP($B35,'Équipes 1er cycle'!$A$7:$F$106,2,FALSE) -> #N/A | D35: =VLOOKUP($B35,'Équipes 1er cycle'!$A$7:$F$106,3,FALSE) -> #N/A | E35: =VLOOKUP($B35,'Équipes 1er cycle'!$A$7:$F$106,4,FALSE) -> #N/A | G35: =IF(F35="X",0,IF(F35="",0,F35)) -> 0 | I35: =IF(H35="X",0,IF(H35="",0,H35)) -> 0 | J35: =$G35+$I35 -> 0 | K35: =VLOOKUP($B35,'Équipes 1er cycle'!$A$7:$F$106,6,FALSE) -> #N/A | M35: =IFERROR((85*$J35/J8+$K35)+IF(L35="",0,1/L35/1000),0) -> 0
A36: =M36 -> 0 | B36: ='Équipes 1er cycle'!A34 -> 0 | C36: =VLOOKUP($B36,'Équipes 1er cycle'!$A$7:$F$106,2,FALSE) -> #N/A | D36: =VLOOKUP($B36,'Équipes 1er cycle'!$A$7:$F$106,3,FALSE) -> #N/A | E36: =VLOOKUP($B36,'Équipes 1er cycle'!$A$7:$F$106,4,FALSE) -> #N/A | G36: =IF(F36="X",0,IF(F36="",0,F36)) -> 0 | I36: =IF(H36="X",0,IF(H36="",0,H36)) -> 0 | J36: =$G36+$I36 -> 0 | K36: =VLOOKUP($B36,'Équipes 1er cycle'!$A$7:$F$106,6,FALSE) -> #N/A | M36: =IFERROR((85*$J36/J8+$K36)+IF(L36="",0,1/L36/1000),0) -> 0
A37: =M37 -> 0 | B37: ='Équipes 1er cycle'!A35 -> 0 | C37: =VLOOKUP($B37,'Équipes 1er cycle'!$A$7:$F$106,2,FALSE) -> #N/A | D37: =VLOOKUP($B37,'Équipes 1er cycle'!$A$7:$F$106,3,FALSE) -> #N/A | E37: =VLOOKUP($B37,'Équipes 1er cycle'!$A$7:$F$106,4,FALSE) -> #N/A | G37: =IF(F37="X",0,IF(F37="",0,F37)) -> 0 | I37: =IF(H37="X",0,IF(H37="",0,H37)) -> 0 | J37: =$G37+$I37 -> 0 | K37: =VLOOKUP($B37,'Équipes 1er cycle'!$A$7:$F$106,6,FALSE) -> #N/A | M37: =IFERROR((85*$J37/J8+$K37)+IF(L37="",0,1/L37/1000),0) -> 0
A38: =M38 -> 0 | B38: ='Équipes 1er cycle'!A36 -> 0 | C38: =VLOOKUP($B38,'Équipes 1er cycle'!$A$7:$F$106,2,FALSE) -> #N/A | D38: =VLOOKUP($B38,'Équipes 1er cycle'!$A$7:$F$106,3,FALSE) -> #N/A | E38: =VLOOKUP($B38,'Équipes 1er cycle'!$A$7:$F$106,4,FALSE) -> #N/A | G38: =IF(F38="X",0,IF(F38="",0,F38)) -> 0 | I38: =IF(H38="X",0,IF(H38="",0,H38)) -> 0 | J38: =$G38+$I38 -> 0 | K38: =VLOOKUP($B38,'Équipes 1er cycle'!$A$7:$F$106,6,FALSE) -> #N/A | M38: =IFERROR((85*$J38/J8+$K38)+IF(L38="",0,1/L38/1000),0) -> 0
B39: ='Équipes 1er cycle'!A37 -> 0 | C39: =VLOOKUP($B39,'Équipes 1er cycle'!$A$7:$F$106,2,FALSE) -> #N/A | D39: =VLOOKUP($B39,'Équipes 1er cycle'!$A$7:$F$106,3,FALSE) -> #N/A | E39: =VLOOKUP($B39,'Équipes 1er cycle'!$A$7:$F$106,4,FALSE) -> #N/A | G39: =IF(F39="X",0,IF(F39="",0,F39)) -> 0 | I39: =IF(H39="X",0,IF(H39="",0,H39)) -> 0 | J39: =$G39+$I39 -> 0 | K39: =VLOOKUP($B39,'Équipes 1er cycle'!$A$7:$F$106,6,FALSE) -> #N/A | M39: =IFERROR((85*$J39/J8+$K39)+IF(L39="",0,1/L39/1000),0) -> 0
B40: ='Équipes 1er cycle'!A38 -> 0 | C40: =VLOOKUP($B40,'Équipes 1er cycle'!$A$7:$F$106,2,FALSE) -> #N/A | D40: =VLOOKUP($B40,'Équipes 1er cycle'!$A$7:$F$106,3,FALSE) -> #N/A | E40: =VLOOKUP($B40,'Équipes 1er cycle'!$A$7:$F$106,4,FALSE) -> #N/A | G40: =IF(F40="X",0,IF(F40="",0,F40)) -> 0 | I40: =IF(H40="X",0,IF(H40="",0,H40)) -> 0 | J40: =$G40+$I40 -> 0 | K40: =VLOOKUP($B40,'Équipes 1er cycle'!$A$7:$F$106,6,FALSE) -> #N/A | M40: =IFERROR((85*$J40/J8+$K40)+IF(L40="",0,1/L40/1000),0) -> 0
B41: ='Équipes 1er cycle'!A39 -> 0 | C41: =VLOOKUP($B41,'Équipes 1er cycle'!$A$7:$F$106,2,FALSE) -> #N/A | D41: =VLOOKUP($B41,'Équipes 1er cycle'!$A$7:$F$106,3,FALSE) -> #N/A | E41: =VLOOKUP($B41,'Équipes 1er cycle'!$A$7:$F$106,4,FALSE) -> #N/A | G41: =IF(F41="X",0,IF(F41="",0,F41)) -> 0 | I41: =IF(H41="X",0,IF(H41="",0,H41)) -> 0 | J41: =$G41+$I41 -> 0 | K41: =VLOOKUP($B41,'Équipes 1er cycle'!$A$7:$F$106,6,FALSE) -> #N/A | M41: =IFERROR((85*$J41/J8+$K41)+IF(L41="",0,1/L41/1000),0) -> 0
B42: ='Équipes 1er cycle'!A40 -> 0 | C42: =VLOOKUP($B42,'Équipes 1er cycle'!$A$7:$F$106,2,FALSE) -> #N/A | D42: =VLOOKUP($B42,'Équipes 1er cycle'!$A$7:$F$106,3,FALSE) -> #N/A | E42: =VLOOKUP($B42,'Équipes 1er cycle'!$A$7:$F$106,4,FALSE) -> #N/A | G42: =IF(F42="X",0,IF(F42="",0,F42)) -> 0 | I42: =IF(H42="X",0,IF(H42="",0,H42)) -> 0 | J42: =$G42+$I42 -> 0 | K42: =VLOOKUP($B42,'Équipes 1er cycle'!$A$7:$F$106,6,FALSE) -> #N/A | M42: =IFERROR((85*$J42/J8+$K42)+IF(L42="",0,1/L42/1000),0) -> 0
B43: ='Équipes 1er cycle'!A41 -> 0 | C43: =VLOOKUP($B43,'Équipes 1er cycle'!$A$7:$F$106,2,FALSE) -> #N/A | D43: =VLOOKUP($B43,'Équipes 1er cycle'!$A$7:$F$106,3,FALSE) -> #N/A | E43: =VLOOKUP($B43,'Équipes 1er cycle'!$A$7:$F$106,4,FALSE) -> #N/A | G43: =IF(F43="X",0,IF(F43="",0,F43)) -> 0 | I43: =IF(H43="X",0,IF(H43="",0,H43)) -> 0 | J43: =$G43+$I43 -> 0 | K43: =VLOOKUP($B43,'Équipes 1er cycle'!$A$7:$F$106,6,FALSE) -> #N/A | M43: =IFERROR((85*$J43/J8+$K43)+IF(L43="",0,1/L43/1000),0) -> 0
B44: ='Équipes 1er cycle'!A42 -> 0 | C44: =VLOOKUP($B44,'Équipes 1er cycle'!$A$7:$F$106,2,FALSE) -> #N/A | D44: =VLOOKUP($B44,'Équipes 1er cycle'!$A$7:$F$106,3,FALSE) -> #N/A | E44: =VLOOKUP($B44,'Équipes 1er cycle'!$A$7:$F$106,4,FALSE) -> #N/A | G44: =IF(F44="X",0,IF(F44="",0,F44)) -> 0 | I44: =IF(H44="X",0,IF(H44="",0,H44)) -> 0 | J44: =$G44+$I44 -> 0 | K44: =VLOOKUP($B44,'Équipes 1er cycle'!$A$7:$F$106,6,FALSE) -> #N/A | M44: =IFERROR((85*$J44/J8+$K44)+IF(L44="",0,1/L44/1000),0) -> 0
B45: ='Équipes 1er cycle'!A43 -> 0 | C45: =VLOOKUP($B45,'Équipes 1er cycle'!$A$7:$F$106,2,FALSE) -> #N/A | D45: =VLOOKUP($B45,'Équipes 1er cycle'!$A$7:$F$106,3,FALSE) -> #N/A | E45: =VLOOKUP($B45,'Équipes 1er cycle'!$A$7:$F$106,4,FALSE) -> #N/A | G45: =IF(F45="X",0,IF(F45="",0,F45)) -> 0 | I45: =IF(H45="X",0,IF(H45="",0,H45)) -> 0 | J45: =$G45+$I45 -> 0 | K45: =VLOOKUP($B45,'Équipes 1er cycle'!$A$7:$F$106,6,FALSE) -> #N/A | M45: =IFERROR((85*$J45/J8+$K45)+IF(L45="",0,1/L45/1000),0) -> 0
B46: ='Équipes 1er cycle'!A44 -> 0 | C46: =VLOOKUP($B46,'Équipes 1er cycle'!$A$7:$F$106,2,FALSE) -> #N/A | D46: =VLOOKUP($B46,'Équipes 1er cycle'!$A$7:$F$106,3,FALSE) -> #N/A | E46: =VLOOKUP($B46,'Équipes 1er cycle'!$A$7:$F$106,4,FALSE) -> #N/A | G46: =IF(F46="X",0,IF(F46="",0,F46)) -> 0 | I46: =IF(H46="X",0,IF(H46="",0,H46)) -> 0 | J46: =$G46+$I46 -> 0 | K46: =VLOOKUP($B46,'Équipes 1er cycle'!$A$7:$F$106,6,FALSE) -> #N/A | M46: =IFERROR((85*$J46/J8+$K46)+IF(L46="",0,1/L46/1000),0) -> 0
B47: ='Équipes 1er cycle'!A45 -> 0 | C47: =VLOOKUP($B47,'Équipes 1er cycle'!$A$7:$F$106,2,FALSE) -> #N/A | D47: =VLOOKUP($B47,'Équipes 1er cycle'!$A$7:$F$106,3,FALSE) -> #N/A | E47: =VLOOKUP($B47,'Équipes 1er cycle'!$A$7:$F$106,4,FALSE) -> #N/A | G47: =IF(F47="X",0,IF(F47="",0,F47)) -> 0 | I47: =IF(H47="X",0,IF(H47="",0,H47)) -> 0 | J47: =$G47+$I47 -> 0 | K47: =VLOOKUP($B47,'Équipes 1er cycle'!$A$7:$F$106,6,FALSE) -> #N/A | M47: =IFERROR((85*$J47/J8+$K47)+IF(L47="",0,1/L47/1000),0) -> 0
B48: ='Équipes 1er cycle'!A46 -> 0 | C48: =VLOOKUP($B48,'Équipes 1er cycle'!$A$7:$F$106,2,FALSE) -> #N/A | D48: =VLOOKUP($B48,'Équipes 1er cycle'!$A$7:$F$106,3,FALSE) -> #N/A | E48: =VLOOKUP($B48,'Équipes 1er cycle'!$A$7:$F$106,4,FALSE) -> #N/A | G48: =IF(F48="X",0,IF(F48="",0,F48)) -> 0 | I48: =IF(H48="X",0,IF(H48="",0,H48)) -> 0 | J48: =$G48+$I48 -> 0 | K48: =VLOOKUP($B48,'Équipes 1er cycle'!$A$7:$F$106,6,FALSE) -> #N/A | M48: =IFERROR((85*$J48/J8+$K48)+IF(L48="",0,1/L48/1000),0) -> 0
B49: ='Équipes 1er cycle'!A47 -> 0 | C49: =VLOOKUP($B49,'Équipes 1er cycle'!$A$7:$F$106,2,FALSE) -> #N/A | D49: =VLOOKUP($B49,'Équipes 1er cycle'!$A$7:$F$106,3,FALSE) -> #N/A | E49: =VLOOKUP($B49,'Équipes 1er cycle'!$A$7:$F$106,4,FALSE) -> #N/A | G49: =IF(F49="X",0,IF(F49="",0,F49)) -> 0 | I49: =IF(H49="X",0,IF(H49="",0,H49)) -> 0 | J49: =$G49+$I49 -> 0 | K49: =VLOOKUP($B49,'Équipes 1er cycle'!$A$7:$F$106,6,FALSE) -> #N/A | M49: =IFERROR((85*$J49/J8+$K49)+IF(L49="",0,1/L49/1000),0) -> 0
B50: ='Équipes 1er cycle'!A48 -> 0 | C50: =VLOOKUP($B50,'Équipes 1er cycle'!$A$7:$F$106,2,FALSE) -> #N/A | D50: =VLOOKUP($B50,'Équipes 1er cycle'!$A$7:$F$106,3,FALSE) -> #N/A | E50: =VLOOKUP($B50,'Équipes 1er cycle'!$A$7:$F$106,4,FALSE) -> #N/A | G50: =IF(F50="X",0,IF(F50="",0,F50)) -> 0 | I50: =IF(H50="X",0,IF(H50="",0,H50)) -> 0 | J50: =$G50+$I50 -> 0 | K50: =VLOOKUP($B50,'Équipes 1er cycle'!$A$7:$F$106,6,FALSE) -> #N/A | M50: =IFERROR((85*$J50/J8+$K50)+IF(L50="",0,1/L50/1000),0) -> 0
B51: ='Équipes 1er cycle'!A49 -> 0 | C51: =VLOOKUP($B51,'Équipes 1er cycle'!$A$7:$F$106,2,FALSE) -> #N/A | D51: =VLOOKUP($B51,'Équipes 1er cycle'!$A$7:$F$106,3,FALSE) -> #N/A | E51: =VLOOKUP($B51,'Équipes 1er cycle'!$A$7:$F$106,4,FALSE) -> #N/A | G51: =IF(F51="X",0,IF(F51="",0,F51)) -> 0 | I51: =IF(H51="X",0,IF(H51="",0,H51)) -> 0 | J51: =$G51+$I51 -> 0 | K51: =VLOOKUP($B51,'Équipes 1er cycle'!$A$7:$F$106,6,FALSE) -> #N/A | M51: =IFERROR((85*$J51/J8+$K51)+IF(L51="",0,1/L51/1000),0) -> 0
B52: ='Équipes 1er cycle'!A50 -> 0 | C52: =VLOOKUP($B52,'Équipes 1er cycle'!$A$7:$F$106,2,FALSE) -> #N/A | D52: =VLOOKUP($B52,'Équipes 1er cycle'!$A$7:$F$106,3,FALSE) -> #N/A | E52: =VLOOKUP($B52,'Équipes 1er cycle'!$A$7:$F$106,4,FALSE) -> #N/A | G52: =IF(F52="X",0,IF(F52="",0,F52)) -> 0 | I52: =IF(H52="X",0,IF(H52="",0,H52)) -> 0 | J52: =$G52+$I52 -> 0 | K52: =VLOOKUP($B52,'Équipes 1er cycle'!$A$7:$F$106,6,FALSE) -> #N/A | M52: =IFERROR((85*$J52/J8+$K52)+IF(L52="",0,1/L52/1000),0) -> 0
B53: ='Équipes 1er cycle'!A51 -> 0 | C53: =VLOOKUP($B53,'Équipes 1er cycle'!$A$7:$F$106,2,FALSE) -> #N/A | D53: =VLOOKUP($B53,'Équipes 1er cycle'!$A$7:$F$106,3,FALSE) -> #N/A | E53: =VLOOKUP($B53,'Équipes 1er cycle'!$A$7:$F$106,4,FALSE) -> #N/A | G53: =IF(F53="X",0,IF(F53="",0,F53)) -> 0 | I53: =IF(H53="X",0,IF(H53="",0,H53)) -> 0 | J53: =$G53+$I53 -> 0 | K53: =VLOOKUP($B53,'Équipes 1er cycle'!$A$7:$F$106,6,FALSE) -> #N/A | M53: =IFERROR((85*$J53/J8+$K53)+IF(L53="",0,1/L53/1000),0) -> 0
B54: ='Équipes 1er cycle'!A52 -> 0 | C54: =VLOOKUP($B54,'Équipes 1er cycle'!$A$7:$F$106,2,FALSE) -> #N/A | D54: =VLOOKUP($B54,'Équipes 1er cycle'!$A$7:$F$106,3,FALSE) -> #N/A | E54: =VLOOKUP($B54,'Équipes 1er cycle'!$A$7:$F$106,4,FALSE) -> #N/A | G54: =IF(F54="X",0,IF(F54="",0,F54)) -> 0 | I54: =IF(H54="X",0,IF(H54="",0,H54)) -> 0 | J54: =$G54+$I54 -> 0 | K54: =VLOOKUP($B54,'Équipes 1er cycle'!$A$7:$F$106,6,FALSE) -> #N/A | M54: =IFERROR((85*$J54/J8+$K54)+IF(L54="",0,1/L54/1000),0) -> 0
B55: ='Équipes 1er cycle'!A53 -> 0 | C55: =VLOOKUP($B55,'Équipes 1er cycle'!$A$7:$F$106,2,FALSE) -> #N/A | D55: =VLOOKUP($B55,'Équipes 1er cycle'!$A$7:$F$106,3,FALSE) -> #N/A | E55: =VLOOKUP($B55,'Équipes 1er cycle'!$A$7:$F$106,4,FALSE) -> #N/A | G55: =IF(F55="X",0,IF(F55="",0,F55)) -> 0 | I55: =IF(H55="X",0,IF(H55="",0,H55)) -> 0 | J55: =$G55+$I55 -> 0 | K55: =VLOOKUP($B55,'Équipes 1er cycle'!$A$7:$F$106,6,FALSE) -> #N/A | M55: =IFERROR((85*$J55/J8+$K55)+IF(L55="",0,1/L55/1000),0) -> 0
B56: ='Équipes 1er cycle'!A54 -> 0 | C56: =VLOOKUP($B56,'Équipes 1er cycle'!$A$7:$F$106,2,FALSE) -> #N/A | D56: =VLOOKUP($B56,'Équipes 1er cycle'!$A$7:$F$106,3,FALSE) -> #N/A | E56: =VLOOKUP($B56,'Équipes 1er cycle'!$A$7:$F$106,4,FALSE) -> #N/A | G56: =IF(F56="X",0,IF(F56="",0,F56)) -> 0 | I56: =IF(H56="X",0,IF(H56="",0,H56)) -> 0 | J56: =$G56+$I56 -> 0 | K56: =VLOOKUP($B56,'Équipes 1er cycle'!$A$7:$F$106,6,FALSE) -> #N/A | M56: =IFERROR((85*$J56/J8+$K56)+IF(L56="",0,1/L56/1000),0) -> 0
B57: ='Équipes 1er cycle'!A55 -> 0 | C57: =VLOOKUP($B57,'Équipes 1er cycle'!$A$7:$F$106,2,FALSE) -> #N/A | D57: =VLOOKUP($B57,'Équipes 1er cycle'!$A$7:$F$106,3,FALSE) -> #N/A | E57: =VLOOKUP($B57,'Équipes 1er cycle'!$A$7:$F$106,4,FALSE) -> #N/A | G57: =IF(F57="X",0,IF(F57="",0,F57)) -> 0 | I57: =IF(H57="X",0,IF(H57="",0,H57)) -> 0 | J57: =$G57+$I57 -> 0 | K57: =VLOOKUP($B57,'Équipes 1er cycle'!$A$7:$F$106,6,FALSE) -> #N/A | M57: =IFERROR((85*$J57/J8+$K57)+IF(L57="",0,1/L57/1000),0) -> 0
B58: ='Équipes 1er cycle'!A56 -> 0 | C58: =VLOOKUP($B58,'Équipes 1er cycle'!$A$7:$F$106,2,FALSE) -> #N/A | D58: =VLOOKUP($B58,'Équipes 1er cycle'!$A$7:$F$106,3,FALSE) -> #N/A | E58: =VLOOKUP($B58,'Équipes 1er cycle'!$A$7:$F$106,4,FALSE) -> #N/A | G58: =IF(F58="X",0,IF(F58="",0,F58)) -> 0 | I58: =IF(H58="X",0,IF(H58="",0,H58)) -> 0 | J58: =$G58+$I58 -> 0 | K58: =VLOOKUP($B58,'Équipes 1er cycle'!$A$7:$F$106,6,FALSE) -> #N/A | M58: =IFERROR((85*$J58/J8+$K58)+IF(L58="",0,1/L58/1000),0) -> 0
B59: ='Équipes 1er cycle'!A57 -> 0 | C59: =VLOOKUP($B59,'Équipes 1er cycle'!$A$7:$F$106,2,FALSE) -> #N/A | D59: =VLOOKUP($B59,'Équipes 1er cycle'!$A$7:$F$106,3,FALSE) -> #N/A | E59: =VLOOKUP($B59,'Équipes 1er cycle'!$A$7:$F$106,4,FALSE) -> #N/A | G59: =IF(F59="X",0,IF(F59="",0,F59)) -> 0 | I59: =IF(H59="X",0,IF(H59="",0,H59)) -> 0 | J59: =$G59+$I59 -> 0 | K59: =VLOOKUP($B59,'Équipes 1er cycle'!$A$7:$F$106,6,FALSE) -> #N/A | M59: =IFERROR((85*$J59/J8+$K59)+IF(L59="",0,1/L59/1000),0) -> 0
B60: ='Équipes 1er cycle'!A58 -> 0 | C60: =VLOOKUP($B60,'Équipes 1er cycle'!$A$7:$F$106,2,FALSE) -> #N/A | D60: =VLOOKUP($B60,'Équipes 1er cycle'!$A$7:$F$106,3,FALSE) -> #N/A | E60: =VLOOKUP($B60,'Équipes 1er cycle'!$A$7:$F$106,4,FALSE) -> #N/A | G60: =IF(F60="X",0,IF(F60="",0,F60)) -> 0 | I60: =IF(H60="X",0,IF(H60="",0,H60)) -> 0 | J60: =$G60+$I60 -> 0 | K60: =VLOOKUP($B60,'Équipes 1er cycle'!$A$7:$F$106,6,FALSE) -> #N/A | M60: =IFERROR((85*$J60/J8+$K60)+IF(L60="",0,1/L60/1000),0) -> 0
B61: ='Équipes 1er cycle'!A59 -> 0 | C61: =VLOOKUP($B61,'Équipes 1er cycle'!$A$7:$F$106,2,FALSE) -> #N/A | D61: =VLOOKUP($B61,'Équipes 1er cycle'!$A$7:$F$106,3,FALSE) -> #N/A | E61: =VLOOKUP($B61,'Équipes 1er cycle'!$A$7:$F$106,4,FALSE) -> #N/A | G61: =IF(F61="X",0,IF(F61="",0,F61)) -> 0 | I61: =IF(H61="X",0,IF(H61="",0,H61)) -> 0 | J61: =$G61+$I61 -> 0 | K61: =VLOOKUP($B61,'Équipes 1er cycle'!$A$7:$F$106,6,FALSE) -> #N/A | M61: =IFERROR((85*$J61/J8+$K61)+IF(L61="",0,1/L61/1000),0) -> 0
B62: ='Équipes 1er cycle'!A60 -> 0 | C62: =VLOOKUP($B62,'Équipes 1er cycle'!$A$7:$F$106,2,FALSE) -> #N/A | D62: =VLOOKUP($B62,'Équipes 1er cycle'!$A$7:$F$106,3,FALSE) -> #N/A | E62: =VLOOKUP($B62,'Équipes 1er cycle'!$A$7:$F$106,4,FALSE) -> #N/A | G62: =IF(F62="X",0,IF(F62="",0,F62)) -> 0 | I62: =IF(H62="X",0,IF(H62="",0,H62)) -> 0 | J62: =$G62+$I62 -> 0 | K62: =VLOOKUP($B62,'Équipes 1er cycle'!$A$7:$F$106,6,FALSE) -> #N/A | M62: =IFERROR((85*$J62/J8+$K62)+IF(L62="",0,1/L62/1000),0) -> 0
B63: ='Équipes 1er cycle'!A61 -> 0 | C63: =VLOOKUP($B63,'Équipes 1er cycle'!$A$7:$F$106,2,FALSE) -> #N/A | D63: =VLOOKUP($B63,'Équipes 1er cycle'!$A$7:$F$106,3,FALSE) -> #N/A | E63: =VLOOKUP($B63,'Équipes 1er cycle'!$A$7:$F$106,4,FALSE) -> #N/A | G63: =IF(F63="X",0,IF(F63="",0,F63)) -> 0 | I63: =IF(H63="X",0,IF(H63="",0,H63)) -> 0 | J63: =$G63+$I63 -> 0 | K63: =VLOOKUP($B63,'Équipes 1er cycle'!$A$7:$F$106,6,FALSE) -> #N/A | M63: =IFERROR((85*$J63/J8+$K63)+IF(L63="",0,1/L63/1000),0) -> 0
B64: ='Équipes 1er cycle'!A62 -> 0 | C64: =VLOOKUP($B64,'Équipes 1er cycle'!$A$7:$F$106,2,FALSE) -> #N/A | D64: =VLOOKUP($B64,'Équipes 1er cycle'!$A$7:$F$106,3,FALSE) -> #N/A | E64: =VLOOKUP($B64,'Équipes 1er cycle'!$A$7:$F$106,4,FALSE) -> #N/A | G64: =IF(F64="X",0,IF(F64="",0,F64)) -> 0 | I64: =IF(H64="X",0,IF(H64="",0,H64)) -> 0 | J64: =$G64+$I64 -> 0 | K64: =VLOOKUP($B64,'Équipes 1er cycle'!$A$7:$F$106,6,FALSE) -> #N/A | M64: =IFERROR((85*$J64/J8+$K64)+IF(L64="",0,1/L64/1000),0) -> 0
B65: ='Équipes 1er cycle'!A63 -> 0 | C65: =VLOOKUP($B65,'Équipes 1er cycle'!$A$7:$F$106,2,FALSE) -> #N/A | D65: =VLOOKUP($B65,'Équipes 1er cycle'!$A$7:$F$106,3,FALSE) -> #N/A | E65: =VLOOKUP($B65,'Équipes 1er cycle'!$A$7:$F$106,4,FALSE) -> #N/A | G65: =IF(F65="X",0,IF(F65="",0,F65)) -> 0 | I65: =IF(H65="X",0,IF(H65="",0,H65)) -> 0 | J65: =$G65+$I65 -> 0 | K65: =VLOOKUP($B65,'Équipes 1er cycle'!$A$7:$F$106,6,FALSE) -> #N/A | M65: =IFERROR((85*$J65/J8+$K65)+IF(L65="",0,1/L65/1000),0) -> 0
B66: ='Équipes 1er cycle'!A64 -> 0 | C66: =VLOOKUP($B66,'Équipes 1er cycle'!$A$7:$F$106,2,FALSE) -> #N/A | D66: =VLOOKUP($B66,'Équipes 1er cycle'!$A$7:$F$106,3,FALSE) -> #N/A | E66: =VLOOKUP($B66,'Équipes 1er cycle'!$A$7:$F$106,4,FALSE) -> #N/A | G66: =IF(F66="X",0,IF(F66="",0,F66)) -> 0 | I66: =IF(H66="X",0,IF(H66="",0,H66)) -> 0 | J66: =$G66+$I66 -> 0 | K66: =VLOOKUP($B66,'Équipes 1er cycle'!$A$7:$F$106,6,FALSE) -> #N/A | M66: =IFERROR((85*$J66/J8+$K66)+IF(L66="",0,1/L66/1000),0) -> 0
B67: ='Équipes 1er cycle'!A65 -> 0 | C67: =VLOOKUP($B67,'Équipes 1er cycle'!$A$7:$F$106,2,FALSE) -> #N/A | D67: =VLOOKUP($B67,'Équipes 1er cycle'!$A$7:$F$106,3,FALSE) -> #N/A | E67: =VLOOKUP($B67,'Équipes 1er cycle'!$A$7:$F$106,4,FALSE) -> #N/A | G67: =IF(F67="X",0,IF(F67="",0,F67)) -> 0 | I67: =IF(H67="X",0,IF(H67="",0,H67)) -> 0 | J67: =$G67+$I67 -> 0 | K67: =VLOOKUP($B67,'Équipes 1er cycle'!$A$7:$F$106,6,FALSE) -> #N/A | M67: =IFERROR((85*$J67/J8+$K67)+IF(L67="",0,1/L67/1000),0) -> 0
B68: ='Équipes 1er cycle'!A66 -> 0 | C68: =VLOOKUP($B68,'Équipes 1er cycle'!$A$7:$F$106,2,FALSE) -> #N/A | D68: =VLOOKUP($B68,'Équipes 1er cycle'!$A$7:$F$106,3,FALSE) -> #N/A | E68: =VLOOKUP($B68,'Équipes 1er cycle'!$A$7:$F$106,4,FALSE) -> #N/A | G68: =IF(F68="X",0,IF(F68="",0,F68)) -> 0 | I68: =IF(H68="X",0,IF(H68="",0,H68)) -> 0 | J68: =$G68+$I68 -> 0 | K68: =VLOOKUP($B68,'Équipes 1er cycle'!$A$7:$F$106,6,FALSE) -> #N/A | M68: =IFERROR((85*$J68/J8+$K68)+IF(L68="",0,1/L68/1000),0) -> 0
B69: ='Équipes 1er cycle'!A67 -> 0 | C69: =VLOOKUP($B69,'Équipes 1er cycle'!$A$7:$F$106,2,FALSE) -> #N/A | D69: =VLOOKUP($B69,'Équipes 1er cycle'!$A$7:$F$106,3,FALSE) -> #N/A | E69: =VLOOKUP($B69,'Équipes 1er cycle'!$A$7:$F$106,4,FALSE) -> #N/A | G69: =IF(F69="X",0,IF(F69="",0,F69)) -> 0 | I69: =IF(H69="X",0,IF(H69="",0,H69)) -> 0 | J69: =$G69+$I69 -> 0 | K69: =VLOOKUP($B69,'Équipes 1er cycle'!$A$7:$F$106,6,FALSE) -> #N/A | M69: =IFERROR((85*$J69/J8+$K69)+IF(L69="",0,1/L69/1000),0) -> 0
B70: ='Équipes 1er cycle'!A68 -> 0 | C70: =VLOOKUP($B70,'Équipes 1er cycle'!$A$7:$F$106,2,FALSE) -> #N/A | D70: =VLOOKUP($B70,'Équipes 1er cycle'!$A$7:$F$106,3,FALSE) -> #N/A | E70: =VLOOKUP($B70,'Équipes 1er cycle'!$A$7:$F$106,4,FALSE) -> #N/A | G70: =IF(F70="X",0,IF(F70="",0,F70)) -> 0 | I70: =IF(H70="X",0,IF(H70="",0,H70)) -> 0 | J70: =$G70+$I70 -> 0 | K70: =VLOOKUP($B70,'Équipes 1er cycle'!$A$7:$F$106,6,FALSE) -> #N/A | M70: =IFERROR((85*$J70/J8+$K70)+IF(L70="",0,1/L70/1000),0) -> 0
B71: ='Équipes 1er cycle'!A69 -> 0 | C71: =VLOOKUP($B71,'Équipes 1er cycle'!$A$7:$F$106,2,FALSE) -> #N/A | D71: =VLOOKUP($B71,'Équipes 1er cycle'!$A$7:$F$106,3,FALSE) -> #N/A | E71: =VLOOKUP($B71,'Équipes 1er cycle'!$A$7:$F$106,4,FALSE) -> #N/A | G71: =IF(F71="X",0,IF(F71="",0,F71)) -> 0 | I71: =IF(H71="X",0,IF(H71="",0,H71)) -> 0 | J71: =$G71+$I71 -> 0 | K71: =VLOOKUP($B71,'Équipes 1er cycle'!$A$7:$F$106,6,FALSE) -> #N/A | M71: =IFERROR((85*$J71/J8+$K71)+IF(L71="",0,1/L71/1000),0) -> 0
B72: ='Équipes 1er cycle'!A70 -> 0 | C72: =VLOOKUP($B72,'Équipes 1er cycle'!$A$7:$F$106,2,FALSE) -> #N/A | D72: =VLOOKUP($B72,'Équipes 1er cycle'!$A$7:$F$106,3,FALSE) -> #N/A | E72: =VLOOKUP($B72,'Équipes 1er cycle'!$A$7:$F$106,4,FALSE) -> #N/A | G72: =IF(F72="X",0,IF(F72="",0,F72)) -> 0 | I72: =IF(H72="X",0,IF(H72="",0,H72)) -> 0 | J72: =$G72+$I72 -> 0 | K72: =VLOOKUP($B72,'Équipes 1er cycle'!$A$7:$F$106,6,FALSE) -> #N/A | M72: =IFERROR((85*$J72/J8+$K72)+IF(L72="",0,1/L72/1000),0) -> 0
B73: ='Équipes 1er cycle'!A71 -> 0 | C73: =VLOOKUP($B73,'Équipes 1er cycle'!$A$7:$F$106,2,FALSE) -> #N/A | D73: =VLOOKUP($B73,'Équipes 1er cycle'!$A$7:$F$106,3,FALSE) -> #N/A | E73: =VLOOKUP($B73,'Équipes 1er cycle'!$A$7:$F$106,4,FALSE) -> #N/A | G73: =IF(F73="X",0,IF(F73="",0,F73)) -> 0 | I73: =IF(H73="X",0,IF(H73="",0,H73)) -> 0 | J73: =$G73+$I73 -> 0 | K73: =VLOOKUP($B73,'Équipes 1er cycle'!$A$7:$F$106,6,FALSE) -> #N/A | M73: =IFERROR((85*$J73/J8+$K73)+IF(L73="",0,1/L73/1000),0) -> 0
B74: ='Équipes 1er cycle'!A72 -> 0 | C74: =VLOOKUP($B74,'Équipes 1er cycle'!$A$7:$F$106,2,FALSE) -> #N/A | D74: =VLOOKUP($B74,'Équipes 1er cycle'!$A$7:$F$106,3,FALSE) -> #N/A | E74: =VLOOKUP($B74,'Équipes 1er cycle'!$A$7:$F$106,4,FALSE) -> #N/A | G74: =IF(F74="X",0,IF(F74="",0,F74)) -> 0 | I74: =IF(H74="X",0,IF(H74="",0,H74)) -> 0 | J74: =$G74+$I74 -> 0 | K74: =VLOOKUP($B74,'Équipes 1er cycle'!$A$7:$F$106,6,FALSE) -> #N/A | M74: =IFERROR((85*$J74/J8+$K74)+IF(L74="",0,1/L74/1000),0) -> 0
B75: ='Équipes 1er cycle'!A73 -> 0 | C75: =VLOOKUP($B75,'Équipes 1er cycle'!$A$7:$F$106,2,FALSE) -> #N/A | D75: =VLOOKUP($B75,'Équipes 1er cycle'!$A$7:$F$106,3,FALSE) -> #N/A | E75: =VLOOKUP($B75,'Équipes 1er cycle'!$A$7:$F$106,4,FALSE) -> #N/A | G75: =IF(F75="X",0,IF(F75="",0,F75)) -> 0 | I75: =IF(H75="X",0,IF(H75="",0,H75)) -> 0 | J75: =$G75+$I75 -> 0 | K75: =VLOOKUP($B75,'Équipes 1er cycle'!$A$7:$F$106,6,FALSE) -> #N/A | M75: =IFERROR((85*$J75/J8+$K75)+IF(L75="",0,1/L75/1000),0) -> 0
B76: ='Équipes 1er cycle'!A74 -> 0 | C76: =VLOOKUP($B76,'Équipes 1er cycle'!$A$7:$F$106,2,FALSE) -> #N/A | D76: =VLOOKUP($B76,'Équipes 1er cycle'!$A$7:$F$106,3,FALSE) -> #N/A | E76: =VLOOKUP($B76,'Équipes 1er cycle'!$A$7:$F$106,4,FALSE) -> #N/A | G76: =IF(F76="X",0,IF(F76="",0,F76)) -> 0 | I76: =IF(H76="X",0,IF(H76="",0,H76)) -> 0 | J76: =$G76+$I76 -> 0 | K76: =VLOOKUP($B76,'Équipes 1er cycle'!$A$7:$F$106,6,FALSE) -> #N/A | M76: =IFERROR((85*$J76/J8+$K76)+IF(L76="",0,1/L76/1000),0) -> 0
B77: ='Équipes 1er cycle'!A75 -> 0 | C77: =VLOOKUP($B77,'Équipes 1er cycle'!$A$7:$F$106,2,FALSE) -> #N/A | D77: =VLOOKUP($B77,'Équipes 1er cycle'!$A$7:$F$106,3,FALSE) -> #N/A | E77: =VLOOKUP($B77,'Équipes 1er cycle'!$A$7:$F$106,4,FALSE) -> #N/A | G77: =IF(F77="X",0,IF(F77="",0,F77)) -> 0 | I77: =IF(H77="X",0,IF(H77="",0,H77)) -> 0 | J77: =$G77+$I77 -> 0 | K77: =VLOOKUP($B77,'Équipes 1er cycle'!$A$7:$F$106,6,FALSE) -> #N/A | M77: =IFERROR((85*$J77/J8+$K77)+IF(L77="",0,1/L77/1000),0) -> 0
B78: ='Équipes 1er cycle'!A76 -> 0 | C78: =VLOOKUP($B78,'Équipes 1er cycle'!$A$7:$F$106,2,FALSE) -> #N/A | D78: =VLOOKUP($B78,'Équipes 1er cycle'!$A$7:$F$106,3,FALSE) -> #N/A | E78: =VLOOKUP($B78,'Équipes 1er cycle'!$A$7:$F$106,4,FALSE) -> #N/A | G78: =IF(F78="X",0,IF(F78="",0,F78)) -> 0 | I78: =IF(H78="X",0,IF(H78="",0,H78)) -> 0 | J78: =$G78+$I78 -> 0 | K78: =VLOOKUP($B78,'Équipes 1er cycle'!$A$7:$F$106,6,FALSE) -> #N/A | M78: =IFERROR((85*$J78/J8+$K78)+IF(L78="",0,1/L78/1000),0) -> 0
B79: ='Équipes 1er cycle'!A77 -> 0 | C79: =VLOOKUP($B79,'Équipes 1er cycle'!$A$7:$F$106,2,FALSE) -> #N/A | D79: =VLOOKUP($B79,'Équipes 1er cycle'!$A$7:$F$106,3,FALSE) -> #N/A | E79: =VLOOKUP($B79,'Équipes 1er cycle'!$A$7:$F$106,4,FALSE) -> #N/A | G79: =IF(F79="X",0,IF(F79="",0,F79)) -> 0 | I79: =IF(H79="X",0,IF(H79="",0,H79)) -> 0 | J79: =$G79+$I79 -> 0 | K79: =VLOOKUP($B79,'Équipes 1er cycle'!$A$7:$F$106,6,FALSE) -> #N/A | M79: =IFERROR((85*$J79/J8+$K79)+IF(L79="",0,1/L79/1000),0) -> 0
B80: ='Équipes 1er cycle'!A78 -> 0 | C80: =VLOOKUP($B80,'Équipes 1er cycle'!$A$7:$F$106,2,FALSE) -> #N/A | D80: =VLOOKUP($B80,'Équipes 1er cycle'!$A$7:$F$106,3,FALSE) -> #N/A | E80: =VLOOKUP($B80,'Équipes 1er cycle'!$A$7:$F$106,4,FALSE) -> #N/A | G80: =IF(F80="X",0,IF(F80="",0,F80)) -> 0 | I80: =IF(H80="X",0,IF(H80="",0,H80)) -> 0 | J80: =$G80+$I80 -> 0 | K80: =VLOOKUP($B80,'Équipes 1er cycle'!$A$7:$F$106,6,FALSE) -> #N/A | M80: =IFERROR((85*$J80/J8+$K80)+IF(L80="",0,1/L80/1000),0) -> 0
B81: ='Équipes 1er cycle'!A79 -> 0 | C81: =VLOOKUP($B81,'Équipes 1er cycle'!$A$7:$F$106,2,FALSE) -> #N/A | D81: =VLOOKUP($B81,'Équipes 1er cycle'!$A$7:$F$106,3,FALSE) -> #N/A | E81: =VLOOKUP($B81,'Équipes 1er cycle'!$A$7:$F$106,4,FALSE) -> #N/A | G81: =IF(F81="X",0,IF(F81="",0,F81)) -> 0 | I81: =IF(H81="X",0,IF(H81="",0,H81)) -> 0 | J81: =$G81+$I81 -> 0 | K81: =VLOOKUP($B81,'Équipes 1er cycle'!$A$7:$F$106,6,FALSE) -> #N/A | M81: =IFERROR((85*$J81/J8+$K81)+IF(L81="",0,1/L81/1000),0) -> 0
B82: ='Équipes 1er cycle'!A80 -> 0 | C82: =VLOOKUP($B82,'Équipes 1er cycle'!$A$7:$F$106,2,FALSE) -> #N/A | D82: =VLOOKUP($B82,'Équipes 1er cycle'!$A$7:$F$106,3,FALSE) -> #N/A | E82: =VLOOKUP($B82,'Équipes 1er cycle'!$A$7:$F$106,4,FALSE) -> #N/A | G82: =IF(F82="X",0,IF(F82="",0,F82)) -> 0 | I82: =IF(H82="X",0,IF(H82="",0,H82)) -> 0 | J82: =$G82+$I82 -> 0 | K82: =VLOOKUP($B82,'Équipes 1er cycle'!$A$7:$F$106,6,FALSE) -> #N/A | M82: =IFERROR((85*$J82/J8+$K82)+IF(L82="",0,1/L82/1000),0) -> 0
B83: ='Équipes 1er cycle'!A81 -> 0 | C83: =VLOOKUP($B83,'Équipes 1er cycle'!$A$7:$F$106,2,FALSE) -> #N/A | D83: =VLOOKUP($B83,'Équipes 1er cycle'!$A$7:$F$106,3,FALSE) -> #N/A | E83: =VLOOKUP($B83,'Équipes 1er cycle'!$A$7:$F$106,4,FALSE) -> #N/A | G83: =IF(F83="X",0,IF(F83="",0,F83)) -> 0 | I83: =IF(H83="X",0,IF(H83="",0,H83)) -> 0 | J83: =$G83+$I83 -> 0 | K83: =VLOOKUP($B83,'Équipes 1er cycle'!$A$7:$F$106,6,FALSE) -> #N/A | M83: =IFERROR((85*$J83/J8+$K83)+IF(L83="",0,1/L83/1000),0) -> 0
B84: ='Équipes 1er cycle'!A82 -> 0 | C84: =VLOOKUP($B84,'Équipes 1er cycle'!$A$7:$F$106,2,FALSE) -> #N/A | D84: =VLOOKUP($B84,'Équipes 1er cycle'!$A$7:$F$106,3,FALSE) -> #N/A | E84: =VLOOKUP($B84,'Équipes 1er cycle'!$A$7:$F$106,4,FALSE) -> #N/A | G84: =IF(F84="X",0,IF(F84="",0,F84)) -> 0 | I84: =IF(H84="X",0,IF(H84="",0,H84)) -> 0 | J84: =$G84+$I84 -> 0 | K84: =VLOOKUP($B84,'Équipes 1er cycle'!$A$7:$F$106,6,FALSE) -> #N/A | M84: =IFERROR((85*$J84/J8+$K84)+IF(L84="",0,1/L84/1000),0) -> 0
B85: ='Équipes 1er cycle'!A83 -> 0 | C85: =VLOOKUP($B85,'Équipes 1er cycle'!$A$7:$F$106,2,FALSE) -> #N/A | D85: =VLOOKUP($B85,'Équipes 1er cycle'!$A$7:$F$106,3,FALSE) -> #N/A | E85: =VLOOKUP($B85,'Équipes 1er cycle'!$A$7:$F$106,4,FALSE) -> #N/A | G85: =IF(F85="X",0,IF(F85="",0,F85)) -> 0 | I85: =IF(H85="X",0,IF(H85="",0,H85)) -> 0 | J85: =$G85+$I85 -> 0 | K85: =VLOOKUP($B85,'Équipes 1er cycle'!$A$7:$F$106,6,FALSE) -> #N/A | M85: =IFERROR((85*$J85/J8+$K85)+IF(L85="",0,1/L85/1000),0) -> 0
B86: ='Équipes 1er cycle'!A84 -> 0 | C86: =VLOOKUP($B86,'Équipes 1er cycle'!$A$7:$F$106,2,FALSE) -> #N/A | D86: =VLOOKUP($B86,'Équipes 1er cycle'!$A$7:$F$106,3,FALSE) -> #N/A | E86: =VLOOKUP($B86,'Équipes 1er cycle'!$A$7:$F$106,4,FALSE) -> #N/A | G86: =IF(F86="X",0,IF(F86="",0,F86)) -> 0 | I86: =IF(H86="X",0,IF(H86="",0,H86)) -> 0 | J86: =$G86+$I86 -> 0 | K86: =VLOOKUP($B86,'Équipes 1er cycle'!$A$7:$F$106,6,FALSE) -> #N/A | M86: =IFERROR((85*$J86/J8+$K86)+IF(L86="",0,1/L86/1000),0) -> 0
B87: ='Équipes 1er cycle'!A85 -> 0 | C87: =VLOOKUP($B87,'Équipes 1er cycle'!$A$7:$F$106,2,FALSE) -> #N/A | D87: =VLOOKUP($B87,'Équipes 1er cycle'!$A$7:$F$106,3,FALSE) -> #N/A | E87: =VLOOKUP($B87,'Équipes 1er cycle'!$A$7:$F$106,4,FALSE) -> #N/A | G87: =IF(F87="X",0,IF(F87="",0,F87)) -> 0 | I87: =IF(H87="X",0,IF(H87="",0,H87)) -> 0 | J87: =$G87+$I87 -> 0 | K87: =VLOOKUP($B87,'Équipes 1er cycle'!$A$7:$F$106,6,FALSE) -> #N/A | M87: =IFERROR((85*$J87/J8+$K87)+IF(L87="",0,1/L87/1000),0) -> 0
B88: ='Équipes 1er cycle'!A86 -> 0 | C88: =VLOOKUP($B88,'Équipes 1er cycle'!$A$7:$F$106,2,FALSE) -> #N/A | D88: =VLOOKUP($B88,'Équipes 1er cycle'!$A$7:$F$106,3,FALSE) -> #N/A | E88: =VLOOKUP($B88,'Équipes 1er cycle'!$A$7:$F$106,4,FALSE) -> #N/A | G88: =IF(F88="X",0,IF(F88="",0,F88)) -> 0 | I88: =IF(H88="X",0,IF(H88="",0,H88)) -> 0 | J88: =$G88+$I88 -> 0 | K88: =VLOOKUP($B88,'Équipes 1er cycle'!$A$7:$F$106,6,FALSE) -> #N/A | M88: =IFERROR((85*$J88/J8+$K88)+IF(L88="",0,1/L88/1000),0) -> 0
B89: ='Équipes 1er cycle'!A87 -> 0 | C89: =VLOOKUP($B89,'Équipes 1er cycle'!$A$7:$F$106,2,FALSE) -> #N/A | D89: =VLOOKUP($B89,'Équipes 1er cycle'!$A$7:$F$106,3,FALSE) -> #N/A | E89: =VLOOKUP($B89,'Équipes 1er cycle'!$A$7:$F$106,4,FALSE) -> #N/A | G89: =IF(F89="X",0,IF(F89="",0,F89)) -> 0 | I89: =IF(H89="X",0,IF(H89="",0,H89)) -> 0 | J89: =$G89+$I89 -> 0 | K89: =VLOOKUP($B89,'Équipes 1er cycle'!$A$7:$F$106,6,FALSE) -> #N/A | M89: =IFERROR((85*$J89/J8+$K89)+IF(L89="",0,1/L89/1000),0) -> 0
B90: ='Équipes 1er cycle'!A88 -> 0 | C90: =VLOOKUP($B90,'Équipes 1er cycle'!$A$7:$F$106,2,FALSE) -> #N/A | D90: =VLOOKUP($B90,'Équipes 1er cycle'!$A$7:$F$106,3,FALSE) -> #N/A | E90: =VLOOKUP($B90,'Équipes 1er cycle'!$A$7:$F$106,4,FALSE) -> #N/A | G90: =IF(F90="X",0,IF(F90="",0,F90)) -> 0 | I90: =IF(H90="X",0,IF(H90="",0,H90)) -> 0 | J90: =$G90+$I90 -> 0 | K90: =VLOOKUP($B90,'Équipes 1er cycle'!$A$7:$F$106,6,FALSE) -> #N/A | M90: =IFERROR((85*$J90/J8+$K90)+IF(L90="",0,1/L90/1000),0) -> 0
B91: ='Équipes 1er cycle'!A89 -> 0 | C91: =VLOOKUP($B91,'Équipes 1er cycle'!$A$7:$F$106,2,FALSE) -> #N/A | D91: =VLOOKUP($B91,'Équipes 1er cycle'!$A$7:$F$106,3,FALSE) -> #N/A | E91: =VLOOKUP($B91,'Équipes 1er cycle'!$A$7:$F$106,4,FALSE) -> #N/A | G91: =IF(F91="X",0,IF(F91="",0,F91)) -> 0 | I91: =IF(H91="X",0,IF(H91="",0,H91)) -> 0 | J91: =$G91+$I91 -> 0 | K91: =VLOOKUP($B91,'Équipes 1er cycle'!$A$7:$F$106,6,FALSE) -> #N/A | M91: =IFERROR((85*$J91/J8+$K91)+IF(L91="",0,1/L91/1000),0) -> 0
B92: ='Équipes 1er cycle'!A90 -> 0 | C92: =VLOOKUP($B92,'Équipes 1er cycle'!$A$7:$F$106,2,FALSE) -> #N/A | D92: =VLOOKUP($B92,'Équipes 1er cycle'!$A$7:$F$106,3,FALSE) -> #N/A | E92: =VLOOKUP($B92,'Équipes 1er cycle'!$A$7:$F$106,4,FALSE) -> #N/A | G92: =IF(F92="X",0,IF(F92="",0,F92)) -> 0 | I92: =IF(H92="X",0,IF(H92="",0,H92)) -> 0 | J92: =$G92+$I92 -> 0 | K92: =VLOOKUP($B92,'Équipes 1er cycle'!$A$7:$F$106,6,FALSE) -> #N/A | M92: =IFERROR((85*$J92/J8+$K92)+IF(L92="",0,1/L92/1000),0) -> 0
B93: ='Équipes 1er cycle'!A91 -> 0 | C93: =VLOOKUP($B93,'Équipes 1er cycle'!$A$7:$F$106,2,FALSE) -> #N/A | D93: =VLOOKUP($B93,'Équipes 1er cycle'!$A$7:$F$106,3,FALSE) -> #N/A | E93: =VLOOKUP($B93,'Équipes 1er cycle'!$A$7:$F$106,4,FALSE) -> #N/A | G93: =IF(F93="X",0,IF(F93="",0,F93)) -> 0 | I93: =IF(H93="X",0,IF(H93="",0,H93)) -> 0 | J93: =$G93+$I93 -> 0 | K93: =VLOOKUP($B93,'Équipes 1er cycle'!$A$7:$F$106,6,FALSE) -> #N/A | M93: =IFERROR((85*$J93/J8+$K93)+IF(L93="",0,1/L93/1000),0) -> 0
B94: ='Équipes 1er cycle'!A92 -> 0 | C94: =VLOOKUP($B94,'Équipes 1er cycle'!$A$7:$F$106,2,FALSE) -> #N/A | D94: =VLOOKUP($B94,'Équipes 1er cycle'!$A$7:$F$106,3,FALSE) -> #N/A | E94: =VLOOKUP($B94,'Équipes 1er cycle'!$A$7:$F$106,4,FALSE) -> #N/A | G94: =IF(F94="X",0,IF(F94="",0,F94)) -> 0 | I94: =IF(H94="X",0,IF(H94="",0,H94)) -> 0 | J94: =$G94+$I94 -> 0 | K94: =VLOOKUP($B94,'Équipes 1er cycle'!$A$7:$F$106,6,FALSE) -> #N/A | M94: =IFERROR((85*$J94/J8+$K94)+IF(L94="",0,1/L94/1000),0) -> 0
B95: ='Équipes 1er cycle'!A93 -> 0 | C95: =VLOOKUP($B95,'Équipes 1er cycle'!$A$7:$F$106,2,FALSE) -> #N/A | D95: =VLOOKUP($B95,'Équipes 1er cycle'!$A$7:$F$106,3,FALSE) -> #N/A | E95: =VLOOKUP($B95,'Équipes 1er cycle'!$A$7:$F$106,4,FALSE) -> #N/A | G95: =IF(F95="X",0,IF(F95="",0,F95)) -> 0 | I95: =IF(H95="X",0,IF(H95="",0,H95)) -> 0 | J95: =$G95+$I95 -> 0 | K95: =VLOOKUP($B95,'Équipes 1er cycle'!$A$7:$F$106,6,FALSE) -> #N/A | M95: =IFERROR((85*$J95/J8+$K95)+IF(L95="",0,1/L95/1000),0) -> 0
B96: ='Équipes 1er cycle'!A94 -> 0 | C96: =VLOOKUP($B96,'Équipes 1er cycle'!$A$7:$F$106,2,FALSE) -> #N/A | D96: =VLOOKUP($B96,'Équipes 1er cycle'!$A$7:$F$106,3,FALSE) -> #N/A | E96: =VLOOKUP($B96,'Équipes 1er cycle'!$A$7:$F$106,4,FALSE) -> #N/A | G96: =IF(F96="X",0,IF(F96="",0,F96)) -> 0 | I96: =IF(H96="X",0,IF(H96="",0,H96)) -> 0 | J96: =$G96+$I96 -> 0 | K96: =VLOOKUP($B96,'Équipes 1er cycle'!$A$7:$F$106,6,FALSE) -> #N/A | M96: =IFERROR((85*$J96/J8+$K96)+IF(L96="",0,1/L96/1000),0) -> 0
B97: ='Équipes 1er cycle'!A95 -> 0 | C97: =VLOOKUP($B97,'Équipes 1er cycle'!$A$7:$F$106,2,FALSE) -> #N/A | D97: =VLOOKUP($B97,'Équipes 1er cycle'!$A$7:$F$106,3,FALSE) -> #N/A | E97: =VLOOKUP($B97,'Équipes 1er cycle'!$A$7:$F$106,4,FALSE) -> #N/A | G97: =IF(F97="X",0,IF(F97="",0,F97)) -> 0 | I97: =IF(H97="X",0,IF(H97="",0,H97)) -> 0 | J97: =$G97+$I97 -> 0 | K97: =VLOOKUP($B97,'Équipes 1er cycle'!$A$7:$F$106,6,FALSE) -> #N/A | M97: =IFERROR((85*$J97/J8+$K97)+IF(L97="",0,1/L97/1000),0) -> 0
B98: ='Équipes 1er cycle'!A96 -> 0 | C98: =VLOOKUP($B98,'Équipes 1er cycle'!$A$7:$F$106,2,FALSE) -> #N/A | D98: =VLOOKUP($B98,'Équipes 1er cycle'!$A$7:$F$106,3,FALSE) -> #N/A | E98: =VLOOKUP($B98,'Équipes 1er cycle'!$A$7:$F$106,4,FALSE) -> #N/A | G98: =IF(F98="X",0,IF(F98="",0,F98)) -> 0 | I98: =IF(H98="X",0,IF(H98="",0,H98)) -> 0 | J98: =$G98+$I98 -> 0 | K98: =VLOOKUP($B98,'Équipes 1er cycle'!$A$7:$F$106,6,FALSE) -> #N/A | M98: =IFERROR((85*$J98/J8+$K98)+IF(L98="",0,1/L98/1000),0) -> 0
B99: ='Équipes 1er cycle'!A97 -> 0 | C99: =VLOOKUP($B99,'Équipes 1er cycle'!$A$7:$F$106,2,FALSE) -> #N/A | D99: =VLOOKUP($B99,'Équipes 1er cycle'!$A$7:$F$106,3,FALSE) -> #N/A | E99: =VLOOKUP($B99,'Équipes 1er cycle'!$A$7:$F$106,4,FALSE) -> #N/A | G99: =IF(F99="X",0,IF(F99="",0,F99)) -> 0 | I99: =IF(H99="X",0,IF(H99="",0,H99)) -> 0 | J99: =$G99+$I99 -> 0 | K99: =VLOOKUP($B99,'Équipes 1er cycle'!$A$7:$F$106,6,FALSE) -> #N/A | M99: =IFERROR((85*$J99/J8+$K99)+IF(L99="",0,1/L99/1000),0) -> 0
B100: ='Équipes 1er cycle'!A98 -> 0 | C100: =VLOOKUP($B100,'Équipes 1er cycle'!$A$7:$F$106,2,FALSE) -> #N/A | D100: =VLOOKUP($B100,'Équipes 1er cycle'!$A$7:$F$106,3,FALSE) -> #N/A | E100: =VLOOKUP($B100,'Équipes 1er cycle'!$A$7:$F$106,4,FALSE) -> #N/A | G100: =IF(F100="X",0,IF(F100="",0,F100)) -> 0 | I100: =IF(H100="X",0,IF(H100="",0,H100)) -> 0 | J100: =$G100+$I100 -> 0 | K100: =VLOOKUP($B100,'Équipes 1er cycle'!$A$7:$F$106,6,FALSE) -> #N/A | M100: =IFERROR((85*$J100/J8+$K100)+IF(L100="",0,1/L100/1000),0) -> 0
B101: ='Équipes 1er cycle'!A99 -> 0 | C101: =VLOOKUP($B101,'Équipes 1er cycle'!$A$7:$F$106,2,FALSE) -> #N/A | D101: =VLOOKUP($B101,'Équipes 1er cycle'!$A$7:$F$106,3,FALSE) -> #N/A | E101: =VLOOKUP($B101,'Équipes 1er cycle'!$A$7:$F$106,4,FALSE) -> #N/A | G101: =IF(F101="X",0,IF(F101="",0,F101)) -> 0 | I101: =IF(H101="X",0,IF(H101="",0,H101)) -> 0 | J101: =$G101+$I101 -> 0 | K101: =VLOOKUP($B101,'Équipes 1er cycle'!$A$7:$F$106,6,FALSE) -> #N/A | M101: =IFERROR((85*$J101/J8+$K101)+IF(L101="",0,1/L101/1000),0) -> 0
B102: ='Équipes 1er cycle'!A100 -> 0 | C102: =VLOOKUP($B102,'Équipes 1er cycle'!$A$7:$F$106,2,FALSE) -> #N/A | D102: =VLOOKUP($B102,'Équipes 1er cycle'!$A$7:$F$106,3,FALSE) -> #N/A | E102: =VLOOKUP($B102,'Équipes 1er cycle'!$A$7:$F$106,4,FALSE) -> #N/A | G102: =IF(F102="X",0,IF(F102="",0,F102)) -> 0 | I102: =IF(H102="X",0,IF(H102="",0,H102)) -> 0 | J102: =$G102+$I102 -> 0 | K102: =VLOOKUP($B102,'Équipes 1er cycle'!$A$7:$F$106,6,FALSE) -> #N/A | M102: =IFERROR((85*$J102/J8+$K102)+IF(L102="",0,1/L102/1000),0) -> 0
...

Sheet Résultats préliminaires 1er cy.
B1: Résultats préliminaires
B2: 1er cycle
B4: Ne tiennent pas compte des notes des rapports écrits.
B5: Équipe | C5: Participants | D5: Prototype | E5: École | F5: Pointage préliminaire
B6: ='Pointage 1er cycle'!B9 -> 0 | C6: =VLOOKUP($B6,'Pointage 1er cycle'!$B$9:$M$97,2,FALSE) -> #N/A | D6: =VLOOKUP($B6,'Pointage 1er cycle'!$B$9:$M$97,3,FALSE) -> #N/A | E6: =VLOOKUP($B6,'Pointage 1er cycle'!$B$9:$M$97,4,FALSE) -> #N/A | F6: =VLOOKUP($B6,'Pointage 1er cycle'!$B$9:$M$108,9,FALSE) -> 0
B7: ='Pointage 1er cycle'!B10 -> 0 | C7: =VLOOKUP($B7,'Pointage 1er cycle'!$B$9:$M$97,2,FALSE) -> #N/A | D7: =VLOOKUP($B7,'Pointage 1er cycle'!$B$9:$M$97,3,FALSE) -> #N/A | E7: =VLOOKUP($B7,'Pointage 1er cycle'!$B$9:$M$97,4,FALSE) -> #N/A | F7: =VLOOKUP($B7,'Pointage 1er cycle'!$B$9:$M$108,9,FALSE) -> 0
B8: ='Pointage 1er cycle'!B11 -> 0 | C8: =VLOOKUP($B8,'Pointage 1er cycle'!$B$9:$M$97,2,FALSE) -> #N/A | D8: =VLOOKUP($B8,'Pointage 1er cycle'!$B$9:$M$97,3,FALSE) -> #N/A | E8: =VLOOKUP($B8,'Pointage 1er cycle'!$B$9:$M$97,4,FALSE) -> #N/A | F8: =VLOOKUP($B8,'Pointage 1er cycle'!$B$9:$M$108,9,FALSE) -> 0
B9: ='Pointage 1er cycle'!B12 -> 0 | C9: =VLOOKUP($B9,'Pointage 1er cycle'!$B$9:$M$97,2,FALSE) -> #N/A | D9: =VLOOKUP($B9,'Pointage 1er cycle'!$B$9:$M$97,3,FALSE) -> #N/A | E9: =VLOOKUP($B9,'Pointage 1er cycle'!$B$9:$M$97,4,FALSE) -> #N/A | F9: =VLOOKUP($B9,'Pointage 1er cycle'!$B$9:$M$108,9,FALSE) -> 0
B10: ='Pointage 1er cycle'!B13 -> 0 | C10: =VLOOKUP($B10,'Pointage 1er cycle'!$B$9:$M$97,2,FALSE) -> #N/A | D10: =VLOOKUP($B10,'Pointage 1er cycle'!$B$9:$M$97,3,FALSE) -> #N/A | E10: =VLOOKUP($B10,'Pointage 1er cycle'!$B$9:$M$97,4,FALSE) -> #N/A | F10: =VLOOKUP($B10,'Pointage 1er cycle'!$B$9:$M$108,9,FALSE) -> 0
B11: ='Pointage 1er cycle'!B14 -> 0 | C11: =VLOOKUP($B11,'Pointage 1er cycle'!$B$9:$M$97,2,FALSE) -> #N/A | D11: =VLOOKUP($B11,'Pointage 1er cycle'!$B$9:$M$97,3,FALSE) -> #N/A | E11: =VLOOKUP($B11,'Pointage 1er cycle'!$B$9:$M$97,4,FALSE) -> #N/A | F11: =VLOOKUP($B11,'Pointage 1er cycle'!$B$9:$M$108,9,FALSE) -> 0
B12: ='Pointage 1er cycle'!B15 -> 0 | C12: =VLOOKUP($B12,'Pointage 1er cycle'!$B$9:$M$97,2,FALSE) -> #N/A | D12: =VLOOKUP($B12,'Pointage 1er cycle'!$B$9:$M$97,3,FALSE) -> #N/A | E12: =VLOOKUP($B12,'Pointage 1er cycle'!$B$9:$M$97,4,FALSE) -> #N/A | F12: =VLOOKUP($B12,'Pointage 1er cycle'!$B$9:$M$108,9,FALSE) -> 0
B13: ='Pointage 1er cycle'!B16 -> 0 | C13: =VLOOKUP($B13,'Pointage 1er cycle'!$B$9:$M$97,2,FALSE) -> #N/A | D13: =VLOOKUP($B13,'Pointage 1er cycle'!$B$9:$M$97,3,FALSE) -> #N/A | E13: =VLOOKUP($B13,'Pointage 1er cycle'!$B$9:$M$97,4,FALSE) -> #N/A | F13: =VLOOKUP($B13,'Pointage 1er cycle'!$B$9:$M$108,9,FALSE) -> 0
B14: ='Pointage 1er cycle'!B17 -> 0 | C14: =VLOOKUP($B14,'Pointage 1er cycle'!$B$9:$M$97,2,FALSE) -> #N/A | D14: =VLOOKUP($B14,'Pointage 1er cycle'!$B$9:$M$97,3,FALSE) -> #N/A | E14: =VLOOKUP($B14,'Pointage 1er cycle'!$B$9:$M$97,4,FALSE) -> #N/A | F14: =VLOOKUP($B14,'Pointage 1er cycle'!$B$9:$M$108,9,FALSE) -> 0
B15: ='Pointage 1er cycle'!B18 -> 0 | C15: =VLOOKUP($B15,'Pointage 1er cycle'!$B$9:$M$97,2,FALSE) -> #N/A | D15: =VLOOKUP($B15,'Pointage 1er cycle'!$B$9:$M$97,3,FALSE) -> #N/A | E15: =VLOOKUP($B15,'Pointage 1er cycle'!$B$9:$M$97,4,FALSE) -> #N/A | F15: =VLOOKUP($B15,'Pointage 1er cycle'!$B$9:$M$108,9,FALSE) -> 0
B16: ='Pointage 1er cycle'!B19 -> 0 | C16: =VLOOKUP($B16,'Pointage 1er cycle'!$B$9:$M$97,2,FALSE) -> #N/A | D16: =VLOOKUP($B16,'Pointage 1er cycle'!$B$9:$M$97,3,FALSE) -> #N/A | E16: =VLOOKUP($B16,'Pointage 1er cycle'!$B$9:$M$97,4,FALSE) -> #N/A | F16: =VLOOKUP($B16,'Pointage 1er cycle'!$B$9:$M$108,9,FALSE) -> 0
B17: ='Pointage 1er cycle'!B20 -> 0 | C17: =VLOOKUP($B17,'Pointage 1er cycle'!$B$9:$M$97,2,FALSE) -> #N/A | D17: =VLOOKUP($B17,'Pointage 1er cycle'!$B$9:$M$97,3,FALSE) -> #N/A | E17: =VLOOKUP($B17,'Pointage 1er cycle'!$B$9:$M$97,4,FALSE) -> #N/A | F17: =VLOOKUP($B17,'Pointage 1er cycle'!$B$9:$M$108,9,FALSE) -> 0
... B105: ='Pointage 1er cycle'!B108 -> 0 | C105: =VLOOKUP($B105,'Pointage 1er cycle'!$B$9:$M$97,2,FALSE) -> #N/A | D105: =VLOOKUP($B105,'Pointage 1er cycle'!$B$9:$M$97,3,FALSE) -> #N/A | E105: =VLOOKUP($B105,'Pointage 1er cycle'!$B$9:$M$97,4,FALSE) -> #N/A | F105: =VLOOKUP($B105,'Pointage 1er cycle'!$B$9:$M$108,9,FALSE) -> 0

Sheet Classement 1er cycle
B1: Classement final
B2: 1er cycle
B4: Classement | C4: Équipe | D4: Nom | E4: Prototype | F4: École | G4: Pointage
B5: 1 | C5: =VLOOKUP(G5,'Pointage 1er cycle'!$A$9:$M$108,2,FALSE) -> 0 | D5: =VLOOKUP($C5,'Équipes 1er cycle'!$A$7:$D$100,2,FALSE) -> #N/A | E5: =VLOOKUP($C5,'Équipes 1er cycle'!$A$7:$D$108,3,FALSE) -> #N/A | F5: =VLOOKUP($C5,'Équipes 1er cycle'!$A$7:$D$100,4,FALSE) -> #N/A | G5: =LARGE('Pointage 1er cycle'!$M$9:$M$108,B5) -> 0
B6: 2 | C6: =VLOOKUP(G6,'Pointage 1er cycle'!$A$9:$M$108,2,FALSE) -> 0 | D6: =VLOOKUP($C6,'Équipes 1er cycle'!$A$7:$D$100,2,FALSE) -> #N/A | E6: =VLOOKUP($C6,'Équipes 1er cycle'!$A$7:$D$108,3,FALSE) -> #N/A | F6: =VLOOKUP($C6,'Équipes 1er cycle'!$A$7:$D$100,4,FALSE) -> #N/A | G6: =LARGE('Pointage 1er cycle'!$M$9:$M$108,B6) -> 0
B7: 3 | C7: =VLOOKUP(G7,'Pointage 1er cycle'!$A$9:$M$108,2,FALSE) -> 0 | D7: =VLOOKUP($C7,'Équipes 1er cycle'!$A$7:$D$100,2,FALSE) -> #N/A | E7: =VLOOKUP($C7,'Équipes 1er cycle'!$A$7:$D$108,3,FALSE) -> #N/A | F7: =VLOOKUP($C7,'Équipes 1er cycle'!$A$7:$D$100,4,FALSE) -> #N/A | G7: =LARGE('Pointage 1er cycle'!$M$9:$M$108,B7) -> 0
B8: 4 | C8: =VLOOKUP(G8,'Pointage 1er cycle'!$A$9:$M$108,2,FALSE) -> 0 | D8: =VLOOKUP($C8,'Équipes 1er cycle'!$A$7:$D$100,2,FALSE) -> #N/A | E8: =VLOOKUP($C8,'Équipes 1er cycle'!$A$7:$D$108,3,FALSE) -> #N/A | F8: =VLOOKUP($C8,'Équipes 1er cycle'!$A$7:$D$100,4,FALSE) -> #N/A | G8: =LARGE('Pointage 1er cycle'!$M$9:$M$108,B8) -> 0
B9: 5 | C9: =VLOOKUP(G9,'Pointage 1er cycle'!$A$9:$M$108,2,FALSE) -> 0 | D9: =VLOOKUP($C9,'Équipes 1er cycle'!$A$7:$D$100,2,FALSE) -> #N/A | E9: =VLOOKUP($C9,'Équipes 1er cycle'!$A$7:$D$108,3,FALSE) -> #N/A | F9: =VLOOKUP($C9,'Équipes 1er cycle'!$A$7:$D$100,4,FALSE) -> #N/A | G9: =LARGE('Pointage 1er cycle'!$M$9:$M$108,B9) -> 0
B10: 6 | C10: =VLOOKUP(G10,'Pointage 1er cycle'!$A$9:$M$108,2,FALSE) -> 0 | D10: =VLOOKUP($C10,'Équipes 1er cycle'!$A$7:$D$100,2,FALSE) -> #N/A | E10: =VLOOKUP($C10,'Équipes 1er cycle'!$A$7:$D$108,3,FALSE) -> #N/A | F10: =VLOOKUP($C10,'Équipes 1er cycle'!$A$7:$D$100,4,FALSE) -> #N/A | G10: =LARGE('Pointage 1er cycle'!$M$9:$M$108,B10) -> 0
B11: 7 | C11: =VLOOKUP(G11,'Pointage 1er cycle'!$A$9:$M$108,2,FALSE) -> 0 | D11: =VLOOKUP($C11,'Équipes 1er cycle'!$A$7:$D$100,2,FALSE) -> #N/A | E11: =VLOOKUP($C11,'Équipes 1er cycle'!$A$7:$D$108,3,FALSE) -> #N/A | F11: =VLOOKUP($C11,'Équipes 1er cycle'!$A$7:$D$100,4,FALSE) -> #N/A | G11: =LARGE('Pointage 1er cycle'!$M$9:$M$108,B11) -> 0
B12: 8 | C12: =VLOOKUP(G12,'Pointage 1er cycle'!$A$9:$M$108,2,FALSE) -> 0 | D12: =VLOOKUP($C12,'Équipes 1er cycle'!$A$7:$D$100,2,FALSE) -> #N/A | E12: =VLOOKUP($C12,'Équipes 1er cycle'!$A$7:$D$108,3,FALSE) -> #N/A | F12: =VLOOKUP($C12,'Équipes 1er cycle'!$A$7:$D$100,4,FALSE) -> #N/A | G12: =LARGE('Pointage 1er cycle'!$M$9:$M$108,B12) -> 0
B13: 9 | C13: =VLOOKUP(G13,'Pointage 1er cycle'!$A$9:$M$108,2,FALSE) -> 0 | D13: =VLOOKUP($C13,'Équipes 1er cycle'!$A$7:$D$100,2,FALSE) -> #N/A | E13: =VLOOKUP($C13,'Équipes 1er cycle'!$A$7:$D$108,3,FALSE) -> #N/A | F13: =VLOOKUP($C13,'Équipes 1er cycle'!$A$7:$D$100,4,FALSE) -> #N/A | G13: =LARGE('Pointage 1er cycle'!$M$9:$M$108,B13) -> 0
B14: 10 | C14: =VLOOKUP(G14,'Pointage 1er cycle'!$A$9:$M$108,2,FALSE) -> 0 | D14: =VLOOKUP($C14,'Équipes 1er cycle'!$A$7:$D$100,2,FALSE) -> #N/A | E14: =VLOOKUP($C14,'Équipes 1er cycle'!$A$7:$D$108,3,FALSE) -> #N/A | F14: =VLOOKUP($C14,'Équipes 1er cycle'!$A$7:$D$100,4,FALSE) -> #N/A | G14: =LARGE('Pointage 1er cycle'!$M$9:$M$108,B14) -> 0
B15: 11 | C15: =VLOOKUP(G15,'Pointage 1er cycle'!$A$9:$M$108,2,FALSE) -> 0 | D15: =VLOOKUP($C15,'Équipes 1er cycle'!$A$7:$D$100,2,FALSE) -> #N/A | E15: =VLOOKUP($C15,'Équipes 1er cycle'!$A$7:$D$108,3,FALSE) -> #N/A | F15: =VLOOKUP($C15,'Équipes 1er cycle'!$A$7:$D$100,4,FALSE) -> #N/A | G15: =LARGE('Pointage 1er cycle'!$M$9:$M$108,B15) -> 0
B16: 12 | C16: =VLOOKUP(G16,'Pointage 1er cycle'!$A$9:$M$108,2,FALSE) -> 0 | D16: =VLOOKUP($C16,'Équipes 1er cycle'!$A$7:$D$100,2,FALSE) -> #N/A | E16: =VLOOKUP($C16,'Équipes 1er cycle'!$A$7:$D$108,3,FALSE) -> #N/A | F16: =VLOOKUP($C16,'Équipes 1er cycle'!$A$7:$D$100,4,FALSE) -> #N/A | G16: =LARGE('Pointage 1er cycle'!$M$9:$M$108,B16) -> 0
... B54: 50 | C54: =VLOOKUP(G54,'Pointage 1er cycle'!$A$9:$M$108,2,FALSE) -> 0 | D54: =VLOOKUP($C54,'Équipes 1er cycle'!$A$7:$D$100,2,FALSE) -> #N/A | E54: =VLOOKUP($C54,'Équipes 1er cycle'!$A$7:$D$108,3,FALSE) -> #N/A | F54: =VLOOKUP($C54,'Équipes 1er cycle'!$A$7:$D$100,4,FALSE) -> #N/A | G54: =LARGE('Pointage 1er cycle'!$M$9:$M$108,B54) -> 0
B55: 51 | C55: =VLOOKUP(G55,'Pointage 1er cycle'!$A$9:$M$108,2,FALSE) -> 0 | E55: =VLOOKUP($C55,'Équipes 1er cycle'!$A$7:$D$108,3,FALSE) -> #N/A | G55: =LARGE('Pointage 1er cycle'!$M$9:$M$108,B55) -> 0
B56: 52 | C56: =VLOOKUP(G56,'Pointage 1er cycle'!$A$9:$M$108,2,FALSE) -> 0 | E56: =VLOOKUP($C56,'Équipes 1er cycle'!$A$7:$D$108,3,FALSE) -> #N/A | G56: =LARGE('Pointage 1er cycle'!$M$9:$M$108,B56) -> 0
B57: 53 | C57: =VLOOKUP(G57,'Pointage 1er cycle'!$A$9:$M$108,2,FALSE) -> 0 | E57: =VLOOKUP($C57,'Équipes 1er cycle'!$A$7:$D$108,3,FALSE) -> #N/A | G57: =LARGE('Pointage 1er cycle'!$M$9:$M$108,B57) -> 0
B58: 54 | C58: =VLOOKUP(G58,'Pointage 1er cycle'!$A$9:$M$108,2,FALSE) -> 0 | E58: =VLOOKUP($C58,'Équipes 1er cycle'!$A$7:$D$108,3,FALSE) -> #N/A | G58: =LARGE('Pointage 1er cycle'!$M$9:$M$108,B58) -> 0
B59: 55 | C59: =VLOOKUP(G59,'Pointage 1er cycle'!$A$9:$M$108,2,FALSE) -> 0 | E59: =VLOOKUP($C59,'Équipes 1er cycle'!$A$7:$D$108,3,FALSE) -> #N/A | G59: =LARGE('Pointage 1er cycle'!$M$9:$M$108,B59) -> 0
B60: 56 | C60: =VLOOKUP(G60,'Pointage 1er cycle'!$A$9:$M$108,2,FALSE) -> 0 | E60: =VLOOKUP($C60,'Équipes 1er cycle'!$A$7:$D$108,3,FALSE) -> #N/A | G60: =LARGE('Pointage 1er cycle'!$M$9:$M$108,B60) -> 0
B61: 57 | C61: =VLOOKUP(G61,'Pointage 1er cycle'!$A$9:$M$108,2,FALSE) -> 0 | E61: =VLOOKUP($C61,'Équipes 1er cycle'!$A$7:$D$108,3,FALSE) -> #N/A | G61: =LARGE('Pointage 1er cycle'!$M$9:$M$108,B61) -> 0
B62: 58 | C62: =VLOOKUP(G62,'Pointage 1er cycle'!$A$9:$M$108,2,FALSE) -> 0 | E62: =VLOOKUP($C62,'Équipes 1er cycle'!$A$7:$D$108,3,FALSE) -> #N/A | G62: =LARGE('Pointage 1er cycle'!$M$9:$M$108,B62) -> 0
B63: 59 | C63: =VLOOKUP(G63,'Pointage 1er cycle'!$A$9:$M$108,2,FALSE) -> 0 | E63: =VLOOKUP($C63,'Équipes 1er cycle'!$A$7:$D$108,3,FALSE) -> #N/A | G63: =LARGE('Pointage 1er cycle'!$M$9:$M$108,B63) -> 0
B64: 60 | C64: =VLOOKUP(G64,'Pointage 1er cycle'!$A$9:$M$108,2,FALSE) -> 0 | E64: =VLOOKUP($C64,'Équipes 1er cycle'!$A$7:$D$108,3,FALSE) -> #N/A | G64: =LARGE('Pointage 1er cycle'!$M$9:$M$108,B64) -> 0
B65: 61 | C65: =VLOOKUP(G65,'Pointage 1er cycle'!$A$9:$M$108,2,FALSE) -> 0 | E65: =VLOOKUP($C65,'Équipes 1er cycle'!$A$7:$D$108,3,FALSE) -> #N/A | G65: =LARGE('Pointage 1er cycle'!$M$9:$M$108,B65) -> 0
B66: 62 | C66: =VLOOKUP(G66,'Pointage 1er cycle'!$A$9:$M$108,2,FALSE) -> 0 | E66: =VLOOKUP($C66,'Équipes 1er cycle'!$A$7:$D$108,3,FALSE) -> #N/A | G66: =LARGE('Pointage 1er cycle'!$M$9:$M$108,B66) -> 0
... B104: 100 | C104: =VLOOKUP(G104,'Pointage 1er cycle'!$A$9:$M$108,2,FALSE) -> 0 | E104: =VLOOKUP($C104,'Équipes 1er cycle'!$A$7:$D$108,3,FALSE) -> #N/A | G104: =LARGE('Pointage 1er cycle'!$M$9:$M$108,B104) -> 0

Sheet Équipes 2e cycle
A1: Résultats des rapports écrits
A2: 2e cycle
A4: No d'équipe | B4: Participant·e·s | C4: Prototype | D4: École | E4: Note du rapport écrit
E5: /100 | F5: /15
A6: 1 | B6: Léo & Florence | C6: La licorne magique | D6: Polyvalente | E6: 75 | F6: =E6*15/100 -> 11.25
F7: =ROUND(E7*15/100,2) -> 0
F8: =ROUND(E8*15/100,2) -> 0
F9: =ROUND(E9*15/100,2) -> 0
F10: =ROUND(E10*15/100,2) -> 0
F11: =ROUND(E11*15/100,2) -> 0
F12: =ROUND(E12*15/100,2) -> 0
F13: =ROUND(E13*15/100,2) -> 0
F14: =ROUND(E14*15/100,2) -> 0
F15: =ROUND(E15*15/100,2) -> 0
F16: =ROUND(E16*15/100,2) -> 0
F17: =ROUND(E17*15/100,2) -> 0
F18: =ROUND(E18*15/100,2) -> 0
... F106: =ROUND(E106*15/100,2) -> 0

Sheet Pointage 2e cycle
B2: Édition 2025-2026
B3: TIRE LA CHAÎNE!
B4: Nom de l'école
B5: 2e cycle
A7: GRAND TOTAL | B7: No d'équipe | C7: Participant·e·s | D7: Prototype | E7: École | F7: Manche 1 | H7: Manche 2 | J7: m1 + m2 | K7: Rapport écrit | L7: Classement des ex-aequo | M7: GRAND TOTAL
F8: d1 (cm) "X" si l'équipe n'a pas réussi à installer son prototype en moins de 30 secondes ou si la chaîne dépasse le prototype. | G8: m1 | H8: d2 (cm) "X" si l'équipe n'a pas réussi à installer son prototype en moins de 30 secondes ou si la chaîne dépasse le prototype. | I8: m2 | J8: =MAX($J$9:$J$108) -> 0 | K8: R /15
A9: =M9 -> 0 | B9: ='Équipes 2e cycle'!A7 -> 0 | C9: =VLOOKUP($B9,'Équipes 2e cycle'!$A$7:$F$106,2,FALSE) -> #N/A | D9: =VLOOKUP($B9,'Équipes 2e cycle'!$A$7:$F$106,3,FALSE) -> #N/A | E9: =VLOOKUP($B9,'Équipes 2e cycle'!$A$7:$F$106,4,FALSE) -> #N/A | G9: =IF(F9="X",0,IF(F9="",0,F9)) -> 0 | I9: =IF(H9="X",0,IF(H9="",0,H9)) -> 0 | J9: =$G9+$I9 -> 0 | K9: =VLOOKUP($B9,'Équipes 2e cycle'!$A$7:$F$106,6,FALSE) -> #N/A | M9: =IFERROR((85*$J9/J8+$K9)+IF(L9="",0,1/L9/1000),0) -> 0
A10: =M10 -> 0 | B10: ='Équipes 2e cycle'!A8 -> 0 | C10: =VLOOKUP($B10,'Équipes 2e cycle'!$A$7:$F$106,2,FALSE) -> #N/A | D10: =VLOOKUP($B10,'Équipes 2e cycle'!$A$7:$F$106,3,FALSE) -> #N/A | E10: =VLOOKUP($B10,'Équipes 2e cycle'!$A$7:$F$106,4,FALSE) -> #N/A | G10: =IF(F10="X",0,IF(F10="",0,F10)) -> 0 | I10: =IF(H10="X",0,IF(H10="",0,H10)) -> 0 | J10: =$G10+$I10 -> 0 | K10: =VLOOKUP($B10,'Équipes 2e cycle'!$A$7:$F$106,6,FALSE) -> #N/A | M10: =IFERROR((85*$J10/J8+$K10)+IF(L10="",0,1/L10/1000),0) -> 0
A11: =M11 -> 0 | B11: ='Équipes 2e cycle'!A9 -> 0 | C11: =VLOOKUP($B11,'Équipes 2e cycle'!$A$7:$F$106,2,FALSE) -> #N/A | D11: =VLOOKUP($B11,'Équipes 2e cycle'!$A$7:$F$106,3,FALSE) -> #N/A | E11: =VLOOKUP($B11,'Équipes 2e cycle'!$A$7:$F$106,4,FALSE) -> #N/A | G11: =IF(F11="X",0,IF(F11="",0,F11)) -> 0 | I11: =IF(H11="X",0,IF(H11="",0,H11)) -> 0 | J11: =$G11+$I11 -> 0 | K11: =VLOOKUP($B11,'Équipes 2e cycle'!$A$7:$F$106,6,FALSE) -> #N/A | M11: =IFERROR((85*$J11/J8+$K11)+IF(L11="",0,1/L11/1000),0) -> 0
A12: =M12 -> 0 | B12: ='Équipes 2e cycle'!A10 -> 0 | C12: =VLOOKUP($B12,'Équipes 2e cycle'!$A$7:$F$106,2,FALSE) -> #N/A | D12: =VLOOKUP($B12,'Équipes 2e cycle'!$A$7:$F$106,3,FALSE) -> #N/A | E12: =VLOOKUP($B12,'Équipes 2e cycle'!$A$7:$F$106,4,FALSE) -> #N/A | G12: =IF(F12="X",0,IF(F12="",0,F12)) -> 0 | I12: =IF(H12="X",0,IF(H12="",0,H12)) -> 0 | J12: =$G12+$I12 -> 0 | K12: =VLOOKUP($B12,'Équipes 2e cycle'!$A$7:$F$106,6,FALSE) -> #N/A | M12: =IFERROR((85*$J12/J8+$K12)+IF(L12="",0,1/L12/1000),0) -> 0
A13: =M13 -> 0 | B13: ='Équipes 2e cycle'!A11 -> 0 | C13: =VLOOKUP($B13,'Équipes 2e cycle'!$A$7:$F$106,2,FALSE) -> #N/A | D13: =VLOOKUP($B13,'Équipes 2e cycle'!$A$7:$F$106,3,FALSE) -> #N/A | E13: =VLOOKUP($B13,'Équipes 2e cycle'!$A$7:$F$106,4,FALSE) -> #N/A | G13: =IF(F13="X",0,IF(F13="",0,F13)) -> 0 | I13: =IF(H13="X",0,IF(H13="",0,H13)) -> 0 | J13: =$G13+$I13 -> 0 | K13: =VLOOKUP($B13,'Équipes 2e cycle'!$A$7:$F$106,6,FALSE) -> #N/A | M13: =IFERROR((85*$J13/J8+$K13)+IF(L13="",0,1/L13/1000),0) -> 0
A14: =M14 -> 0 | B14: ='Équipes 2e cycle'!A12 -> 0 | C14: =VLOOKUP($B14,'Équipes 2e cycle'!$A$7:$F$106,2,FALSE) -> #N/A | D14: =VLOOKUP($B14,'Équipes 2e cycle'!$A$7:$F$106,3,FALSE) -> #N/A | E14: =VLOOKUP($B14,'Équipes 2e cycle'!$A$7:$F$106,4,FALSE) -> #N/A | G14: =IF(F14="X",0,IF(F14="",0,F14)) -> 0 | I14: =IF(H14="X",0,IF(H14="",0,H14)) -> 0 | J14: =$G14+$I14 -> 0 | K14: =VLOOKUP($B14,'Équipes 2e cycle'!$A$7:$F$106,6,FALSE) -> #N/A | M14: =IFERROR((85*$J14/J8+$K14)+IF(L14="",0,1/L14/1000),0) -> 0
A15: =M15 -> 0 | B15: ='Équipes 2e cycle'!A13 -> 0 | C15: =VLOOKUP($B15,'Équipes 2e cycle'!$A$7:$F$106,2,FALSE) -> #N/A | D15: =VLOOKUP($B15,'Équipes 2e cycle'!$A$7:$F$106,3,FALSE) -> #N/A | E15: =VLOOKUP($B15,'Équipes 2e cycle'!$A$7:$F$106,4,FALSE) -> #N/A | G15: =IF(F15="X",0,IF(F15="",0,F15)) -> 0 | I15: =IF(H15="X",0,IF(H15="",0,H15)) -> 0 | J15: =$G15+$I15 -> 0 | K15: =VLOOKUP($B15,'Équipes 2e cycle'!$A$7:$F$106,6,FALSE) -> #N/A | M15: =IFERROR((85*$J15/J8+$K15)+IF(L15="",0,1/L15/1000),0) -> 0
A16: =M16 -> 0 | B16: ='Équipes 2e cycle'!A14 -> 0 | C16: =VLOOKUP($B16,'Équipes 2e cycle'!$A$7:$F$106,2,FALSE) -> #N/A | D16: =VLOOKUP($B16,'Équipes 2e cycle'!$A$7:$F$106,3,FALSE) -> #N/A | E16: =VLOOKUP($B16,'Équipes 2e cycle'!$A$7:$F$106,4,FALSE) -> #N/A | G16: =IF(F16="X",0,IF(F16="",0,F16)) -> 0 | I16: =IF(H16="X",0,IF(H16="",0,H16)) -> 0 | J16: =$G16+$I16 -> 0 | K16: =VLOOKUP($B16,'Équipes 2e cycle'!$A$7:$F$106,6,FALSE) -> #N/A | M16: =IFERROR((85*$J16/J8+$K16)+IF(L16="",0,1/L16/1000),0) -> 0
A17: =M17 -> 0 | B17: ='Équipes 2e cycle'!A15 -> 0 | C17: =VLOOKUP($B17,'Équipes 2e cycle'!$A$7:$F$106,2,FALSE) -> #N/A | D17: =VLOOKUP($B17,'Équipes 2e cycle'!$A$7:$F$106,3,FALSE) -> #N/A | E17: =VLOOKUP($B17,'Équipes 2e cycle'!$A$7:$F$106,4,FALSE) -> #N/A | G17: =IF(F17="X",0,IF(F17="",0,F17)) -> 0 | I17: =IF(H17="X",0,IF(H17="",0,H17)) -> 0 | J17: =$G17+$I17 -> 0 | K17: =VLOOKUP($B17,'Équipes 2e cycle'!$A$7:$F$106,6,FALSE) -> #N/A | M17: =IFERROR((85*$J17/J8+$K17)+IF(L17="",0,1/L17/1000),0) -> 0
A18: =M18 -> 0 | B18: ='Équipes 2e cycle'!A16 -> 0 | C18: =VLOOKUP($B18,'Équipes 2e cycle'!$A$7:$F$106,2,FALSE) -> #N/A | D18: =VLOOKUP($B18,'Équipes 2e cycle'!$A$7:$F$106,3,FALSE) -> #N/A | E18: =VLOOKUP($B18,'Équipes 2e cycle'!$A$7:$F$106,4,FALSE) -> #N/A | G18: =IF(F18="X",0,IF(F18="",0,F18)) -> 0 | I18: =IF(H18="X",0,IF(H18="",0,H18)) -> 0 | J18: =$G18+$I18 -> 0 | K18: =VLOOKUP($B18,'Équipes 2e cycle'!$A$7:$F$106,6,FALSE) -> #N/A | M18: =IFERROR((85*$J18/J8+$K18)+IF(L18="",0,1/L18/1000),0) -> 0
A19: =M19 -> 0 | B19: ='Équipes 2e cycle'!A17 -> 0 | C19: =VLOOKUP($B19,'Équipes 2e cycle'!$A$7:$F$106,2,FALSE) -> #N/A | D19: =VLOOKUP($B19,'Équipes 2e cycle'!$A$7:$F$106,3,FALSE) -> #N/A | E19: =VLOOKUP($B19,'Équipes 2e cycle'!$A$7:$F$106,4,FALSE) -> #N/A | G19: =IF(F19="X",0,IF(F19="",0,F19)) -> 0 | I19: =IF(H19="X",0,IF(H19="",0,H19)) -> 0 | J19: =$G19+$I19 -> 0 | K19: =VLOOKUP($B19,'Équipes 2e cycle'!$A$7:$F$106,6,FALSE) -> #N/A | M19: =IFERROR((85*$J19/J8+$K19)+IF(L19="",0,1/L19/1000),0) -> 0
A20: =M20 -> 0 | B20: ='Équipes 2e cycle'!A18 -> 0 | C20: =VLOOKUP($B20,'Équipes 2e cycle'!$A$7:$F$106,2,FALSE) -> #N/A | D20: =VLOOKUP($B20,'Équipes 2e cycle'!$A$7:$F$106,3,FALSE) -> #N/A | E20: =VLOOKUP($B20,'Équipes 2e cycle'!$A$7:$F$106,4,FALSE) -> #N/A | G20: =IF(F20="X",0,IF(F20="",0,F20)) -> 0 | I20: =IF(H20="X",0,IF(H20="",0,H20)) -> 0 | J20: =$G20+$I20 -> 0 | K20: =VLOOKUP($B20,'Équipes 2e cycle'!$A$7:$F$106,6,FALSE) -> #N/A | M20: =IFERROR((85*$J20/J8+$K20)+IF(L20="",0,1/L20/1000),0) -> 0
A21: =M21 -> 0 | B21: ='Équipes 2e cycle'!A19 -> 0 | C21: =VLOOKUP($B21,'Équipes 2e cycle'!$A$7:$F$106,2,FALSE) -> #N/A | D21: =VLOOKUP($B21,'Équipes 2e cycle'!$A$7:$F$106,3,FALSE) -> #N/A | E21: =VLOOKUP($B21,'Équipes 2e cycle'!$A$7:$F$106,4,FALSE) -> #N/A | G21: =IF(F21="X",0,IF(F21="",0,F21)) -> 0 | I21: =IF(H21="X",0,IF(H21="",0,H21)) -> 0 | J21: =$G21+$I21 -> 0 | K21: =VLOOKUP($B21,'Équipes 2e cycle'!$A$7:$F$106,6,FALSE) -> #N/A | M21: =IFERROR((85*$J21/J8+$K21)+IF(L21="",0,1/L21/1000),0) -> 0
A22: =M22 -> 0 | B22: ='Équipes 2e cycle'!A20 -> 0 | C22: =VLOOKUP($B22,'Équipes 2e cycle'!$A$7:$F$106,2,FALSE) -> #N/A | D22: =VLOOKUP($B22,'Équipes 2e cycle'!$A$7:$F$106,3,FALSE) -> #N/A | E22: =VLOOKUP($B22,'Équipes 2e cycle'!$A$7:$F$106,4,FALSE) -> #N/A | G22: =IF(F22="X",0,IF(F22="",0,F22)) -> 0 | I22: =IF(H22="X",0,IF(H22="",0,H22)) -> 0 | J22: =$G22+$I22 -> 0 | K22: =VLOOKUP($B22,'Équipes 2e cycle'!$A$7:$F$106,6,FALSE) -> #N/A | M22: =IFERROR((85*$J22/J8+$K22)+IF(L22="",0,1/L22/1000),0) -> 0
A23: =M23 -> 0 | B23: ='Équipes 2e cycle'!A21 -> 0 | C23: =VLOOKUP($B23,'Équipes 2e cycle'!$A$7:$F$106,2,FALSE) -> #N/A | D23: =VLOOKUP($B23,'Équipes 2e cycle'!$A$7:$F$106,3,FALSE) -> #N/A | E23: =VLOOKUP($B23,'Équipes 2e cycle'!$A$7:$F$106,4,FALSE) -> #N/A | G23: =IF(F23="X",0,IF(F23="",0,F23)) -> 0 | I23: =IF(H23="X",0,IF(H23="",0,H23)) -> 0 | J23: =$G23+$I23 -> 0 | K23: =VLOOKUP($B23,'Équipes 2e cycle'!$A$7:$F$106,6,FALSE) -> #N/A | M23: =IFERROR((85*$J23/J8+$K23)+IF(L23="",0,1/L23/1000),0) -> 0
A24: =M24 -> 0 | B24: ='Équipes 2e cycle'!A22 -> 0 | C24: =VLOOKUP($B24,'Équipes 2e cycle'!$A$7:$F$106,2,FALSE) -> #N/A | D24: =VLOOKUP($B24,'Équipes 2e cycle'!$A$7:$F$106,3,FALSE) -> #N/A | E24: =VLOOKUP($B24,'Équipes 2e cycle'!$A$7:$F$106,4,FALSE) -> #N/A | G24: =IF(F24="X",0,IF(F24="",0,F24)) -> 0 | I24: =IF(H24="X",0,IF(H24="",0,H24)) -> 0 | J24: =$G24+$I24 -> 0 | K24: =VLOOKUP($B24,'Équipes 2e cycle'!$A$7:$F$106,6,FALSE) -> #N/A | M24: =IFERROR((85*$J24/J8+$K24)+IF(L24="",0,1/L24/1000),0) -> 0
A25: =M25 -> 0 | B25: ='Équipes 2e cycle'!A23 -> 0 | C25: =VLOOKUP($B25,'Équipes 2e cycle'!$A$7:$F$106,2,FALSE) -> #N/A | D25: =VLOOKUP($B25,'Équipes 2e cycle'!$A$7:$F$106,3,FALSE) -> #N/A | E25: =VLOOKUP($B25,'Équipes 2e cycle'!$A$7:$F$106,4,FALSE) -> #N/A | G25: =IF(F25="X",0,IF(F25="",0,F25)) -> 0 | I25: =IF(H25="X",0,IF(H25="",0,H25)) -> 0 | J25: =$G25+$I25 -> 0 | K25: =VLOOKUP($B25,'Équipes 2e cycle'!$A$7:$F$106,6,FALSE) -> #N/A | M25: =IFERROR((85*$J25/J8+$K25)+IF(L25="",0,1/L25/1000),0) -> 0
A26: =M26 -> 0 | B26: ='Équipes 2e cycle'!A24 -> 0 | C26: =VLOOKUP($B26,'Équipes 2e cycle'!$A$7:$F$106,2,FALSE) -> #N/A | D26: =VLOOKUP($B26,'Équipes 2e cycle'!$A$7:$F$106,3,FALSE) -> #N/A | E26: =VLOOKUP($B26,'Équipes 2e cycle'!$A$7:$F$106,4,FALSE) -> #N/A | G26: =IF(F26="X",0,IF(F26="",0,F26)) -> 0 | I26: =IF(H26="X",0,IF(H26="",0,H26)) -> 0 | J26: =$G26+$I26 -> 0 | K26: =VLOOKUP($B26,'Équipes 2e cycle'!$A$7:$F$106,6,FALSE) -> #N/A | M26: =IFERROR((85*$J26/J8+$K26)+IF(L26="",0,1/L26/1000),0) -> 0
A27: =M27 -> 0 | B27: ='Équipes 2e cycle'!A25 -> 0 | C27: =VLOOKUP($B27,'Équipes 2e cycle'!$A$7:$F$106,2,FALSE) -> #N/A | D27: =VLOOKUP($B27,'Équipes 2e cycle'!$A$7:$F$106,3,FALSE) -> #N/A | E27: =VLOOKUP($B27,'Équipes 2e cycle'!$A$7:$F$106,4,FALSE) -> #N/A | G27: =IF(F27="X",0,IF(F27="",0,F27)) -> 0 | I27: =IF(H27="X",0,IF(H27="",0,H27)) -> 0 | J27: =$G27+$I27 -> 0 | K27: =VLOOKUP($B27,'Équipes 2e cycle'!$A$7:$F$106,6,FALSE) -> #N/A | M27: =IFERROR((85*$J27/J8+$K27)+IF(L27="",0,1/L27/1000),0) -> 0
A28: =M28 -> 0 | B28: ='Équipes 2e cycle'!A26 -> 0 | C28: =VLOOKUP($B28,'Équipes 2e cycle'!$A$7:$F$106,2,FALSE) -> #N/A | D28: =VLOOKUP($B28,'Équipes 2e cycle'!$A$7:$F$106,3,FALSE) -> #N/A | E28: =VLOOKUP($B28,'Équipes 2e cycle'!$A$7:$F$106,4,FALSE) -> #N/A | G28: =IF(F28="X",0,IF(F28="",0,F28)) -> 0 | I28: =IF(H28="X",0,IF(H28="",0,H28)) -> 0 | J28: =$G28+$I28 -> 0 | K28: =VLOOKUP($B28,'Équipes 2e cycle'!$A$7:$F$106,6,FALSE) -> #N/A | M28: =IFERROR((85*$J28/J8+$K28)+IF(L28="",0,1/L28/1000),0) -> 0
A29: =M29 -> 0 | B29: ='Équipes 2e cycle'!A27 -> 0 | C29: =VLOOKUP($B29,'Équipes 2e cycle'!$A$7:$F$106,2,FALSE) -> #N/A | D29: =VLOOKUP($B29,'Équipes 2e cycle'!$A$7:$F$106,3,FALSE) -> #N/A | E29: =VLOOKUP($B29,'Équipes 2e cycle'!$A$7:$F$106,4,FALSE) -> #N/A | G29: =IF(F29="X",0,IF(F29="",0,F29)) -> 0 | I29: =IF(H29="X",0,IF(H29="",0,H29)) -> 0 | J29: =$G29+$I29 -> 0 | K29: =VLOOKUP($B29,'Équipes 2e cycle'!$A$7:$F$106,6,FALSE) -> #N/A | M29: =IFERROR((85*$J29/J8+$K29)+IF(L29="",0,1/L29/1000),0) -> 0
A30: =M30 -> 0 | B30: ='Équipes 2e cycle'!A28 -> 0 | C30: =VLOOKUP($B30,'Équipes 2e cycle'!$A$7:$F$106,2,FALSE) -> #N/A | D30: =VLOOKUP($B30,'Équipes 2e cycle'!$A$7:$F$106,3,FALSE) -> #N/A | E30: =VLOOKUP($B30,'Équipes 2e cycle'!$A$7:$F$106,4,FALSE) -> #N/A | G30: =IF(F30="X",0,IF(F30="",0,F30)) -> 0 | I30: =IF(H30="X",0,IF(H30="",0,H30)) -> 0 | J30: =$G30+$I30 -> 0 | K30: =VLOOKUP($B30,'Équipes 2e cycle'!$A$7:$F$106,6,FALSE) -> #N/A | M30: =IFERROR((85*$J30/J8+$K30)+IF(L30="",0,1/L30/1000),0) -> 0
A31: =M31 -> 0 | B31: ='Équipes 2e cycle'!A29 -> 0 | C31: =VLOOKUP($B31,'Équipes 2e cycle'!$A$7:$F$106,2,FALSE) -> #N/A | D31: =VLOOKUP($B31,'Équipes 2e cycle'!$A$7:$F$106,3,FALSE) -> #N/A | E31: =VLOOKUP($B31,'Équipes 2e cycle'!$A$7:$F$106,4,FALSE) -> #N/A | G31: =IF(F31="X",0,IF(F31="",0,F31)) -> 0 | I31: =IF(H31="X",0,IF(H31="",0,H31)) -> 0 | J31: =$G31+$I31 -> 0 | K31: =VLOOKUP($B31,'Équipes 2e cycle'!$A$7:$F$106,6,FALSE) -> #N/A | M31: =IFERROR((85*$J31/J8+$K31)+IF(L31="",0,1/L31/1000),0) -> 0
A32: =M32 -> 0 | B32: ='Équipes 2e cycle'!A30 -> 0 | C32: =VLOOKUP($B32,'Équipes 2e cycle'!$A$7:$F$106,2,FALSE) -> #N/A | D32: =VLOOKUP($B32,'Équipes 2e cycle'!$A$7:$F$106,3,FALSE) -> #N/A | E32: =VLOOKUP($B32,'Équipes 2e cycle'!$A$7:$F$106,4,FALSE) -> #N/A | G32: =IF(F32="X",0,IF(F32="",0,F32)) -> 0 | I32: =IF(H32="X",0,IF(H32="",0,H32)) -> 0 | J32: =$G32+$I32 -> 0 | K32: =VLOOKUP($B32,'Équipes 2e cycle'!$A$7:$F$106,6,FALSE) -> #N/A | M32: =IFERROR((85*$J32/J8+$K32)+IF(L32="",0,1/L32/1000),0) -> 0
A33: =M33 -> 0 | B33: ='Équipes 2e cycle'!A31 -> 0 | C33: =VLOOKUP($B33,'Équipes 2e cycle'!$A$7:$F$106,2,FALSE) -> #N/A | D33: =VLOOKUP($B33,'Équipes 2e cycle'!$A$7:$F$106,3,FALSE) -> #N/A | E33: =VLOOKUP($B33,'Équipes 2e cycle'!$A$7:$F$106,4,FALSE) -> #N/A | G33: =IF(F33="X",0,IF(F33="",0,F33)) -> 0 | I33: =IF(H33="X",0,IF(H33="",0,H33)) -> 0 | J33: =$G33+$I33 -> 0 | K33: =VLOOKUP($B33,'Équipes 2e cycle'!$A$7:$F$106,6,FALSE) -> #N/A | M33: =IFERROR((85*$J33/J8+$K33)+IF(L33="",0,1/L33/1000),0) -> 0
A34: =M34 -> 0 | B34: ='Équipes 2e cycle'!A32 -> 0 | C34: =VLOOKUP($B34,'Équipes 2e cycle'!$A$7:$F$106,2,FALSE) -> #N/A | D34: =VLOOKUP($B34,'Équipes 2e cycle'!$A$7:$F$106,3,FALSE) -> #N/A | E34: =VLOOKUP($B34,'Équipes 2e cycle'!$A$7:$F$106,4,FALSE) -> #N/A | G34: =IF(F34="X",0,IF(F34="",0,F34)) -> 0 | I34: =IF(H34="X",0,IF(H34="",0,H34)) -> 0 | J34: =$G34+$I34 -> 0 | K34: =VLOOKUP($B34,'Équipes 2e cycle'!$A$7:$F$106,6,FALSE) -> #N/A | M34: =IFERROR((85*$J34/J8+$K34)+IF(L34="",0,1/L34/1000),0) -> 0
A35: =M35 -> 0 | B35: ='Équipes 2e cycle'!A33 -> 0 | C35: =VLOOKUP($B35,'Équipes 2e cycle'!$A$7:$F$106,2,FALSE) -> #N/A | D35: =VLOOKUP($B35,'Équipes 2e cycle'!$A$7:$F$106,3,FALSE) -> #N/A | E35: =VLOOKUP($B35,'Équipes 2e cycle'!$A$7:$F$106,4,FALSE) -> #N/A | G35: =IF(F35="X",0,IF(F35="",0,F35)) -> 0 | I35: =IF(H35="X",0,IF(H35="",0,H35)) -> 0 | J35: =$G35+$I35 -> 0 | K35: =VLOOKUP($B35,'Équipes 2e cycle'!$A$7:$F$106,6,FALSE) -> #N/A | M35: =IFERROR((85*$J35/J8+$K35)+IF(L35="",0,1/L35/1000),0) -> 0
A36: =M36 -> 0 | B36: ='Équipes 2e cycle'!A34 -> 0 | C36: =VLOOKUP($B36,'Équipes 2e cycle'!$A$7:$F$106,2,FALSE) -> #N/A | D36: =VLOOKUP($B36,'Équipes 2e cycle'!$A$7:$F$106,3,FALSE) -> #N/A | E36: =VLOOKUP($B36,'Équipes 2e cycle'!$A$7:$F$106,4,FALSE) -> #N/A | G36: =IF(F36="X",0,IF(F36="",0,F36)) -> 0 | I36: =IF(H36="X",0,IF(H36="",0,H36)) -> 0 | J36: =$G36+$I36 -> 0 | K36: =VLOOKUP($B36,'Équipes 2e cycle'!$A$7:$F$106,6,FALSE) -> #N/A | M36: =IFERROR((85*$J36/J8+$K36)+IF(L36="",0,1/L36/1000),0) -> 0
A37: =M37 -> 0 | B37: ='Équipes 2e cycle'!A35 -> 0 | C37: =VLOOKUP($B37,'Équipes 2e cycle'!$A$7:$F$106,2,FALSE) -> #N/A | D37: =VLOOKUP($B37,'Équipes 2e cycle'!$A$7:$F$106,3,FALSE) -> #N/A | E37: =VLOOKUP($B37,'Équipes 2e cycle'!$A$7:$F$106,4,FALSE) -> #N/A | G37: =IF(F37="X",0,IF(F37="",0,F37)) -> 0 | I37: =IF(H37="X",0,IF(H37="",0,H37)) -> 0 | J37: =$G37+$I37 -> 0 | K37: =VLOOKUP($B37,'Équipes 2e cycle'!$A$7:$F$106,6,FALSE) -> #N/A | M37: =IFERROR((85*$J37/J8+$K37)+IF(L37="",0,1/L37/1000),0) -> 0
A38: =M38 -> 0 | B38: ='Équipes 2e cycle'!A36 -> 0 | C38: =VLOOKUP($B38,'Équipes 2e cycle'!$A$7:$F$106,2,FALSE) -> #N/A | D38: =VLOOKUP($B38,'Équipes 2e cycle'!$A$7:$F$106,3,FALSE) -> #N/A | E38: =VLOOKUP($B38,'Équipes 2e cycle'!$A$7:$F$106,4,FALSE) -> #N/A | G38: =IF(F38="X",0,IF(F38="",0,F38)) -> 0 | I38: =IF(H38="X",0,IF(H38="",0,H38)) -> 0 | J38: =$G38+$I38 -> 0 | K38: =VLOOKUP($B38,'Équipes 2e cycle'!$A$7:$F$106,6,FALSE) -> #N/A | M38: =IFERROR((85*$J38/J8+$K38)+IF(L38="",0,1/L38/1000),0) -> 0
B39: ='Équipes 2e cycle'!A37 -> 0 | C39: =VLOOKUP($B39,'Équipes 2e cycle'!$A$7:$F$106,2,FALSE) -> #N/A | D39: =VLOOKUP($B39,'Équipes 2e cycle'!$A$7:$F$106,3,FALSE) -> #N/A | E39: =VLOOKUP($B39,'Équipes 2e cycle'!$A$7:$F$106,4,FALSE) -> #N/A | G39: =IF(F39="X",0,IF(F39="",0,F39)) -> 0 | I39: =IF(H39="X",0,IF(H39="",0,H39)) -> 0 | J39: =$G39+$I39 -> 0 | K39: =VLOOKUP($B39,'Équipes 2e cycle'!$A$7:$F$106,6,FALSE) -> #N/A | M39: =IFERROR((85*$J39/J8+$K39)+IF(L39="",0,1/L39/1000),0) -> 0
B40: ='Équipes 2e cycle'!A38 -> 0 | C40: =VLOOKUP($B40,'Équipes 2e cycle'!$A$7:$F$106,2,FALSE) -> #N/A | D40: =VLOOKUP($B40,'Équipes 2e cycle'!$A$7:$F$106,3,FALSE) -> #N/A | E40: =VLOOKUP($B40,'Équipes 2e cycle'!$A$7:$F$106,4,FALSE) -> #N/A | G40: =IF(F40="X",0,IF(F40="",0,F40)) -> 0 | I40: =IF(H40="X",0,IF(H40="",0,H40)) -> 0 | J40: =$G40+$I40 -> 0 | K40: =VLOOKUP($B40,'Équipes 2e cycle'!$A$7:$F$106,6,FALSE) -> #N/A | M40: =IFERROR((85*$J40/J8+$K40)+IF(L40="",0,1/L40/1000),0) -> 0
B41: ='Équipes 2e cycle'!A39 -> 0 | C41: =VLOOKUP($B41,'Équipes 2e cycle'!$A$7:$F$106,2,FALSE) -> #N/A | D41: =VLOOKUP($B41,'Équipes 2e cycle'!$A$7:$F$106,3,FALSE) -> #N/A | E41: =VLOOKUP($B41,'Équipes 2e cycle'!$A$7:$F$106,4,FALSE) -> #N/A | G41: =IF(F41="X",0,IF(F41="",0,F41)) -> 0 | I41: =IF(H41="X",0,IF(H41="",0,H41)) -> 0 | J41: =$G41+$I41 -> 0 | K41: =VLOOKUP($B41,'Équipes 2e cycle'!$A$7:$F$106,6,FALSE) -> #N/A | M41: =IFERROR((85*$J41/J8+$K41)+IF(L41="",0,1/L41/1000),0) -> 0
B42: ='Équipes 2e cycle'!A40 -> 0 | C42: =VLOOKUP($B42,'Équipes 2e cycle'!$A$7:$F$106,2,FALSE) -> #N/A | D42: =VLOOKUP($B42,'Équipes 2e cycle'!$A$7:$F$106,3,FALSE) -> #N/A | E42: =VLOOKUP($B42,'Équipes 2e cycle'!$A$7:$F$106,4,FALSE) -> #N/A | G42: =IF(F42="X",0,IF(F42="",0,F42)) -> 0 | I42: =IF(H42="X",0,IF(H42="",0,H42)) -> 0 | J42: =$G42+$I42 -> 0 | K42: =VLOOKUP($B42,'Équipes 2e cycle'!$A$7:$F$106,6,FALSE) -> #N/A | M42: =IFERROR((85*$J42/J8+$K42)+IF(L42="",0,1/L42/1000),0) -> 0
B43: ='Équipes 2e cycle'!A41 -> 0 | C43: =VLOOKUP($B43,'Équipes 2e cycle'!$A$7:$F$106,2,FALSE) -> #N/A | D43: =VLOOKUP($B43,'Équipes 2e cycle'!$A$7:$F$106,3,FALSE) -> #N/A | E43: =VLOOKUP($B43,'Équipes 2e cycle'!$A$7:$F$106,4,FALSE) -> #N/A | G43: =IF(F43="X",0,IF(F43="",0,F43)) -> 0 | I43: =IF(H43="X",0,IF(H43="",0,H43)) -> 0 | J43: =$G43+$I43 -> 0 | K43: =VLOOKUP($B43,'Équipes 2e cycle'!$A$7:$F$106,6,FALSE) -> #N/A | M43: =IFERROR((85*$J43/J8+$K43)+IF(L43="",0,1/L43/1000),0) -> 0
B44: ='Équipes 2e cycle'!A42 -> 0 | C44: =VLOOKUP($B44,'Équipes 2e cycle'!$A$7:$F$106,2,FALSE) -> #N/A | D44: =VLOOKUP($B44,'Équipes 2e cycle'!$A$7:$F$106,3,FALSE) -> #N/A | E44: =VLOOKUP($B44,'Équipes 2e cycle'!$A$7:$F$106,4,FALSE) -> #N/A | G44: =IF(F44="X",0,IF(F44="",0,F44)) -> 0 | I44: =IF(H44="X",0,IF(H44="",0,H44)) -> 0 | J44: =$G44+$I44 -> 0 | K44: =VLOOKUP($B44,'Équipes 2e cycle'!$A$7:$F$106,6,FALSE) -> #N/A | M44: =IFERROR((85*$J44/J8+$K44)+IF(L44="",0,1/L44/1000),0) -> 0
B45: ='Équipes 2e cycle'!A43 -> 0 | C45: =VLOOKUP($B45,'Équipes 2e cycle'!$A$7:$F$106,2,FALSE) -> #N/A | D45: =VLOOKUP($B45,'Équipes 2e cycle'!$A$7:$F$106,3,FALSE) -> #N/A | E45: =VLOOKUP($B45,'Équipes 2e cycle'!$A$7:$F$106,4,FALSE) -> #N/A | G45: =IF(F45="X",0,IF(F45="",0,F45)) -> 0 | I45: =IF(H45="X",0,IF(H45="",0,H45)) -> 0 | J45: =$G45+$I45 -> 0 | K45: =VLOOKUP($B45,'Équipes 2e cycle'!$A$7:$F$106,6,FALSE) -> #N/A | M45: =IFERROR((85*$J45/J8+$K45)+IF(L45="",0,1/L45/1000),0) -> 0
B46: ='Équipes 2e cycle'!A44 -> 0 | C46: =VLOOKUP($B46,'Équipes 2e cycle'!$A$7:$F$106,2,FALSE) -> #N/A | D46: =VLOOKUP($B46,'Équipes 2e cycle'!$A$7:$F$106,3,FALSE) -> #N/A | E46: =VLOOKUP($B46,'Équipes 2e cycle'!$A$7:$F$106,4,FALSE) -> #N/A | G46: =IF(F46="X",0,IF(F46="",0,F46)) -> 0 | I46: =IF(H46="X",0,IF(H46="",0,H46)) -> 0 | J46: =$G46+$I46 -> 0 | K46: =VLOOKUP($B46,'Équipes 2e cycle'!$A$7:$F$106,6,FALSE) -> #N/A | M46: =IFERROR((85*$J46/J8+$K46)+IF(L46="",0,1/L46/1000),0) -> 0
B47: ='Équipes 2e cycle'!A45 -> 0 | C47: =VLOOKUP($B47,'Équipes 2e cycle'!$A$7:$F$106,2,FALSE) -> #N/A | D47: =VLOOKUP($B47,'Équipes 2e cycle'!$A$7:$F$106,3,FALSE) -> #N/A | E47: =VLOOKUP($B47,'Équipes 2e cycle'!$A$7:$F$106,4,FALSE) -> #N/A | G47: =IF(F47="X",0,IF(F47="",0,F47)) -> 0 | I47: =IF(H47="X",0,IF(H47="",0,H47)) -> 0 | J47: =$G47+$I47 -> 0 | K47: =VLOOKUP($B47,'Équipes 2e cycle'!$A$7:$F$106,6,FALSE) -> #N/A | M47: =IFERROR((85*$J47/J8+$K47)+IF(L47="",0,1/L47/1000),0) -> 0
B48: ='Équipes 2e cycle'!A46 -> 0 | C48: =VLOOKUP($B48,'Équipes 2e cycle'!$A$7:$F$106,2,FALSE) -> #N/A | D48: =VLOOKUP($B48,'Équipes 2e cycle'!$A$7:$F$106,3,FALSE) -> #N/A | E48: =VLOOKUP($B48,'Équipes 2e cycle'!$A$7:$F$106,4,FALSE) -> #N/A | G48: =IF(F48="X",0,IF(F48="",0,F48)) -> 0 | I48: =IF(H48="X",0,IF(H48="",0,H48)) -> 0 | J48: =$G48+$I48 -> 0 | K48: =VLOOKUP($B48,'Équipes 2e cycle'!$A$7:$F$106,6,FALSE) -> #N/A | M48: =IFERROR((85*$J48/J8+$K48)+IF(L48="",0,1/L48/1000),0) -> 0
B49: ='Équipes 2e cycle'!A47 -> 0 | C49: =VLOOKUP($B49,'Équipes 2e cycle'!$A$7:$F$106,2,FALSE) -> #N/A | D49: =VLOOKUP($B49,'Équipes 2e cycle'!$A$7:$F$106,3,FALSE) -> #N/A | E49: =VLOOKUP($B49,'Équipes 2e cycle'!$A$7:$F$106,4,FALSE) -> #N/A | G49: =IF(F49="X",0,IF(F49="",0,F49)) -> 0 | I49: =IF(H49="X",0,IF(H49="",0,H49)) -> 0 | J49: =$G49+$I49 -> 0 | K49: =VLOOKUP($B49,'Équipes 2e cycle'!$A$7:$F$106,6,FALSE) -> #N/A | M49: =IFERROR((85*$J49/J8+$K49)+IF(L49="",0,1/L49/1000),0) -> 0
B50: ='Équipes 2e cycle'!A48 -> 0 | C50: =VLOOKUP($B50,'Équipes 2e cycle'!$A$7:$F$106,2,FALSE) -> #N/A | D50: =VLOOKUP($B50,'Équipes 2e cycle'!$A$7:$F$106,3,FALSE) -> #N/A | E50: =VLOOKUP($B50,'Équipes 2e cycle'!$A$7:$F$106,4,FALSE) -> #N/A | G50: =IF(F50="X",0,IF(F50="",0,F50)) -> 0 | I50: =IF(H50="X",0,IF(H50="",0,H50)) -> 0 | J50: =$G50+$I50 -> 0 | K50: =VLOOKUP($B50,'Équipes 2e cycle'!$A$7:$F$106,6,FALSE) -> #N/A | M50: =IFERROR((85*$J50/J8+$K50)+IF(L50="",0,1/L50/1000),0) -> 0
B51: ='Équipes 2e cycle'!A49 -> 0 | C51: =VLOOKUP($B51,'Équipes 2e cycle'!$A$7:$F$106,2,FALSE) -> #N/A | D51: =VLOOKUP($B51,'Équipes 2e cycle'!$A$7:$F$106,3,FALSE) -> #N/A | E51: =VLOOKUP($B51,'Équipes 2e cycle'!$A$7:$F$106,4,FALSE) -> #N/A | G51: =IF(F51="X",0,IF(F51="",0,F51)) -> 0 | I51: =IF(H51="X",0,IF(H51="",0,H51)) -> 0 | J51: =$G51+$I51 -> 0 | K51: =VLOOKUP($B51,'Équipes 2e cycle'!$A$7:$F$106,6,FALSE) -> #N/A | M51: =IFERROR((85*$J51/J8+$K51)+IF(L51="",0,1/L51/1000),0) -> 0
B52: ='Équipes 2e cycle'!A50 -> 0 | C52: =VLOOKUP($B52,'Équipes 2e cycle'!$A$7:$F$106,2,FALSE) -> #N/A | D52: =VLOOKUP($B52,'Équipes 2e cycle'!$A$7:$F$106,3,FALSE) -> #N/A | E52: =VLOOKUP($B52,'Équipes 2e cycle'!$A$7:$F$106,4,FALSE) -> #N/A | G52: =IF(F52="X",0,IF(F52="",0,F52)) -> 0 | I52: =IF(H52="X",0,IF(H52="",0,H52)) -> 0 | J52: =$G52+$I52 -> 0 | K52: =VLOOKUP($B52,'Équipes 2e cycle'!$A$7:$F$106,6,FALSE) -> #N/A | M52: =IFERROR((85*$J52/J8+$K52)+IF(L52="",0,1/L52/1000),0) -> 0
B53: ='Équipes 2e cycle'!A51 -> 0 | C53: =VLOOKUP($B53,'Équipes 2e cycle'!$A$7:$F$106,2,FALSE) -> #N/A | D53: =VLOOKUP($B53,'Équipes 2e cycle'!$A$7:$F$106,3,FALSE) -> #N/A | E53: =VLOOKUP($B53,'Équipes 2e cycle'!$A$7:$F$106,4,FALSE) -> #N/A | G53: =IF(F53="X",0,IF(F53="",0,F53)) -> 0 | I53: =IF(H53="X",0,IF(H53="",0,H53)) -> 0 | J53: =$G53+$I53 -> 0 | K53: =VLOOKUP($B53,'Équipes 2e cycle'!$A$7:$F$106,6,FALSE) -> #N/A | M53: =IFERROR((85*$J53/J8+$K53)+IF(L53="",0,1/L53/1000),0) -> 0
B54: ='Équipes 2e cycle'!A52 -> 0 | C54: =VLOOKUP($B54,'Équipes 2e cycle'!$A$7:$F$106,2,FALSE) -> #N/A | D54: =VLOOKUP($B54,'Équipes 2e cycle'!$A$7:$F$106,3,FALSE) -> #N/A | E54: =VLOOKUP($B54,'Équipes 2e cycle'!$A$7:$F$106,4,FALSE) -> #N/A | G54: =IF(F54="X",0,IF(F54="",0,F54)) -> 0 | I54: =IF(H54="X",0,IF(H54="",0,H54)) -> 0 | J54: =$G54+$I54 -> 0 | K54: =VLOOKUP($B54,'Équipes 2e cycle'!$A$7:$F$106,6,FALSE) -> #N/A | M54: =IFERROR((85*$J54/J8+$K54)+IF(L54="",0,1/L54/1000),0) -> 0
B55: ='Équipes 2e cycle'!A53 -> 0 | C55: =VLOOKUP($B55,'Équipes 2e cycle'!$A$7:$F$106,2,FALSE) -> #N/A | D55: =VLOOKUP($B55,'Équipes 2e cycle'!$A$7:$F$106,3,FALSE) -> #N/A | E55: =VLOOKUP($B55,'Équipes 2e cycle'!$A$7:$F$106,4,FALSE) -> #N/A | G55: =IF(F55="X",0,IF(F55="",0,F55)) -> 0 | I55: =IF(H55="X",0,IF(H55="",0,H55)) -> 0 | J55: =$G55+$I55 -> 0 | K55: =VLOOKUP($B55,'Équipes 2e cycle'!$A$7:$F$106,6,FALSE) -> #N/A | M55: =IFERROR((85*$J55/J8+$K55)+IF(L55="",0,1/L55/1000),0) -> 0
B56: ='Équipes 2e cycle'!A54 -> 0 | C56: =VLOOKUP($B56,'Équipes 2e cycle'!$A$7:$F$106,2,FALSE) -> #N/A | D56: =VLOOKUP($B56,'Équipes 2e cycle'!$A$7:$F$106,3,FALSE) -> #N/A | E56: =VLOOKUP($B56,'Équipes 2e cycle'!$A$7:$F$106,4,FALSE) -> #N/A | G56: =IF(F56="X",0,IF(F56="",0,F56)) -> 0 | I56: =IF(H56="X",0,IF(H56="",0,H56)) -> 0 | J56: =$G56+$I56 -> 0 | K56: =VLOOKUP($B56,'Équipes 2e cycle'!$A$7:$F$106,6,FALSE) -> #N/A | M56: =IFERROR((85*$J56/J8+$K56)+IF(L56="",0,1/L56/1000),0) -> 0
B57: ='Équipes 2e cycle'!A55 -> 0 | C57: =VLOOKUP($B57,'Équipes 2e cycle'!$A$7:$F$106,2,FALSE) -> #N/A | D57: =VLOOKUP($B57,'Équipes 2e cycle'!$A$7:$F$106,3,FALSE) -> #N/A | E57: =VLOOKUP($B57,'Équipes 2e cycle'!$A$7:$F$106,4,FALSE) -> #N/A | G57: =IF(F57="X",0,IF(F57="",0,F57)) -> 0 | I57: =IF(H57="X",0,IF(H57="",0,H57)) -> 0 | J57: =$G57+$I57 -> 0 | K57: =VLOOKUP($B57,'Équipes 2e cycle'!$A$7:$F$106,6,FALSE) -> #N/A | M57: =IFERROR((85*$J57/J8+$K57)+IF(L57="",0,1/L57/1000),0) -> 0
B58: ='Équipes 2e cycle'!A56 -> 0 | C58: =VLOOKUP($B58,'Équipes 2e cycle'!$A$7:$F$106,2,FALSE) -> #N/A | D58: =VLOOKUP($B58,'Équipes 2e cycle'!$A$7:$F$106,3,FALSE) -> #N/A | E58: =VLOOKUP($B58,'Équipes 2e cycle'!$A$7:$F$106,4,FALSE) -> #N/A | G58: =IF(F58="X",0,IF(F58="",0,F58)) -> 0 | I58: =IF(H58="X",0,IF(H58="",0,H58)) -> 0 | J58: =$G58+$I58 -> 0 | K58: =VLOOKUP($B58,'Équipes 2e cycle'!$A$7:$F$106,6,FALSE) -> #N/A | M58: =IFERROR((85*$J58/J8+$K58)+IF(L58="",0,1/L58/1000),0) -> 0
B59: ='Équipes 2e cycle'!A57 -> 0 | C59: =VLOOKUP($B59,'Équipes 2e cycle'!$A$7:$F$106,2,FALSE) -> #N/A | D59: =VLOOKUP($B59,'Équipes 2e cycle'!$A$7:$F$106,3,FALSE) -> #N/A | E59: =VLOOKUP($B59,'Équipes 2e cycle'!$A$7:$F$106,4,FALSE) -> #N/A | G59: =IF(F59="X",0,IF(F59="",0,F59)) -> 0 | I59: =IF(H59="X",0,IF(H59="",0,H59)) -> 0 | J59: =$G59+$I59 -> 0 | K59: =VLOOKUP($B59,'Équipes 2e cycle'!$A$7:$F$106,6,FALSE) -> #N/A | M59: =IFERROR((85*$J59/J8+$K59)+IF(L59="",0,1/L59/1000),0) -> 0
B60: ='Équipes 2e cycle'!A58 -> 0 | C60: =VLOOKUP($B60,'Équipes 2e cycle'!$A$7:$F$106,2,FALSE) -> #N/A | D60: =VLOOKUP($B60,'Équipes 2e cycle'!$A$7:$F$106,3,FALSE) -> #N/A | E60: =VLOOKUP($B60,'Équipes 2e cycle'!$A$7:$F$106,4,FALSE) -> #N/A | G60: =IF(F60="X",0,IF(F60="",0,F60)) -> 0 | I60: =IF(H60="X",0,IF(H60="",0,H60)) -> 0 | J60: =$G60+$I60 -> 0 | K60: =VLOOKUP($B60,'Équipes 2e cycle'!$A$7:$F$106,6,FALSE) -> #N/A | M60: =IFERROR((85*$J60/J8+$K60)+IF(L60="",0,1/L60/1000),0) -> 0
B61: ='Équipes 2e cycle'!A59 -> 0 | C61: =VLOOKUP($B61,'Équipes 2e cycle'!$A$7:$F$106,2,FALSE) -> #N/A | D61: =VLOOKUP($B61,'Équipes 2e cycle'!$A$7:$F$106,3,FALSE) -> #N/A | E61: =VLOOKUP($B61,'Équipes 2e cycle'!$A$7:$F$106,4,FALSE) -> #N/A | G61: =IF(F61="X",0,IF(F61="",0,F61)) -> 0 | I61: =IF(H61="X",0,IF(H61="",0,H61)) -> 0 | J61: =$G61+$I61 -> 0 | K61: =VLOOKUP($B61,'Équipes 2e cycle'!$A$7:$F$106,6,FALSE) -> #N/A | M61: =IFERROR((85*$J61/J8+$K61)+IF(L61="",0,1/L61/1000),0) -> 0
B62: ='Équipes 2e cycle'!A60 -> 0 | C62: =VLOOKUP($B62,'Équipes 2e cycle'!$A$7:$F$106,2,FALSE) -> #N/A | D62: =VLOOKUP($B62,'Équipes 2e cycle'!$A$7:$F$106,3,FALSE) -> #N/A | E62: =VLOOKUP($B62,'Équipes 2e cycle'!$A$7:$F$106,4,FALSE) -> #N/A | G62: =IF(F62="X",0,IF(F62="",0,F62)) -> 0 | I62: =IF(H62="X",0,IF(H62="",0,H62)) -> 0 | J62: =$G62+$I62 -> 0 | K62: =VLOOKUP($B62,'Équipes 2e cycle'!$A$7:$F$106,6,FALSE) -> #N/A | M62: =IFERROR((85*$J62/J8+$K62)+IF(L62="",0,1/L62/1000),0) -> 0
B63: ='Équipes 2e cycle'!A61 -> 0 | C63: =VLOOKUP($B63,'Équipes 2e cycle'!$A$7:$F$106,2,FALSE) -> #N/A | D63: =VLOOKUP($B63,'Équipes 2e cycle'!$A$7:$F$106,3,FALSE) -> #N/A | E63: =VLOOKUP($B63,'Équipes 2e cycle'!$A$7:$F$106,4,FALSE) -> #N/A | G63: =IF(F63="X",0,IF(F63="",0,F63)) -> 0 | I63: =IF(H63="X",0,IF(H63="",0,H63)) -> 0 | J63: =$G63+$I63 -> 0 | K63: =VLOOKUP($B63,'Équipes 2e cycle'!$A$7:$F$106,6,FALSE) -> #N/A | M63: =IFERROR((85*$J63/J8+$K63)+IF(L63="",0,1/L63/1000),0) -> 0
B64: ='Équipes 2e cycle'!A62 -> 0 | C64: =VLOOKUP($B64,'Équipes 2e cycle'!$A$7:$F$106,2,FALSE) -> #N/A | D64: =VLOOKUP($B64,'Équipes 2e cycle'!$A$7:$F$106,3,FALSE) -> #N/A | E64: =VLOOKUP($B64,'Équipes 2e cycle'!$A$7:$F$106,4,FALSE) -> #N/A | G64: =IF(F64="X",0,IF(F64="",0,F64)) -> 0 | I64: =IF(H64="X",0,IF(H64="",0,H64)) -> 0 | J64: =$G64+$I64 -> 0 | K64: =VLOOKUP($B64,'Équipes 2e cycle'!$A$7:$F$106,6,FALSE) -> #N/A | M64: =IFERROR((85*$J64/J8+$K64)+IF(L64="",0,1/L64/1000),0) -> 0
B65: ='Équipes 2e cycle'!A63 -> 0 | C65: =VLOOKUP($B65,'Équipes 2e cycle'!$A$7:$F$106,2,FALSE) -> #N/A | D65: =VLOOKUP($B65,'Équipes 2e cycle'!$A$7:$F$106,3,FALSE) -> #N/A | E65: =VLOOKUP($B65,'Équipes 2e cycle'!$A$7:$F$106,4,FALSE) -> #N/A | G65: =IF(F65="X",0,IF(F65="",0,F65)) -> 0 | I65: =IF(H65="X",0,IF(H65="",0,H65)) -> 0 | J65: =$G65+$I65 -> 0 | K65: =VLOOKUP($B65,'Équipes 2e cycle'!$A$7:$F$106,6,FALSE) -> #N/A | M65: =IFERROR((85*$J65/J8+$K65)+IF(L65="",0,1/L65/1000),0) -> 0
B66: ='Équipes 2e cycle'!A64 -> 0 | C66: =VLOOKUP($B66,'Équipes 2e cycle'!$A$7:$F$106,2,FALSE) -> #N/A | D66: =VLOOKUP($B66,'Équipes 2e cycle'!$A$7:$F$106,3,FALSE) -> #N/A | E66: =VLOOKUP($B66,'Équipes 2e cycle'!$A$7:$F$106,4,FALSE) -> #N/A | G66: =IF(F66="X",0,IF(F66="",0,F66)) -> 0 | I66: =IF(H66="X",0,IF(H66="",0,H66)) -> 0 | J66: =$G66+$I66 -> 0 | K66: =VLOOKUP($B66,'Équipes 2e cycle'!$A$7:$F$106,6,FALSE) -> #N/A | M66: =IFERROR((85*$J66/J8+$K66)+IF(L66="",0,1/L66/1000),0) -> 0
B67: ='Équipes 2e cycle'!A65 -> 0 | C67: =VLOOKUP($B67,'Équipes 2e cycle'!$A$7:$F$106,2,FALSE) -> #N/A | D67: =VLOOKUP($B67,'Équipes 2e cycle'!$A$7:$F$106,3,FALSE) -> #N/A | E67: =VLOOKUP($B67,'Équipes 2e cycle'!$A$7:$F$106,4,FALSE) -> #N/A | G67: =IF(F67="X",0,IF(F67="",0,F67)) -> 0 | I67: =IF(H67="X",0,IF(H67="",0,H67)) -> 0 | J67: =$G67+$I67 -> 0 | K67: =VLOOKUP($B67,'Équipes 2e cycle'!$A$7:$F$106,6,FALSE) -> #N/A | M67: =IFERROR((85*$J67/J8+$K67)+IF(L67="",0,1/L67/1000),0) -> 0
B68: ='Équipes 2e cycle'!A66 -> 0 | C68: =VLOOKUP($B68,'Équipes 2e cycle'!$A$7:$F$106,2,FALSE) -> #N/A | D68: =VLOOKUP($B68,'Équipes 2e cycle'!$A$7:$F$106,3,FALSE) -> #N/A | E68: =VLOOKUP($B68,'Équipes 2e cycle'!$A$7:$F$106,4,FALSE) -> #N/A | G68: =IF(F68="X",0,IF(F68="",0,F68)) -> 0 | I68: =IF(H68="X",0,IF(H68="",0,H68)) -> 0 | J68: =$G68+$I68 -> 0 | K68: =VLOOKUP($B68,'Équipes 2e cycle'!$A$7:$F$106,6,FALSE) -> #N/A | M68: =IFERROR((85*$J68/J8+$K68)+IF(L68="",0,1/L68/1000),0) -> 0
B69: ='Équipes 2e cycle'!A67 -> 0 | C69: =VLOOKUP($B69,'Équipes 2e cycle'!$A$7:$F$106,2,FALSE) -> #N/A | D69: =VLOOKUP($B69,'Équipes 2e cycle'!$A$7:$F$106,3,FALSE) -> #N/A | E69: =VLOOKUP($B69,'Équipes 2e cycle'!$A$7:$F$106,4,FALSE) -> #N/A | G69: =IF(F69="X",0,IF(F69="",0,F69)) -> 0 | I69: =IF(H69="X",0,IF(H69="",0,H69)) -> 0 | J69: =$G69+$I69 -> 0 | K69: =VLOOKUP($B69,'Équipes 2e cycle'!$A$7:$F$106,6,FALSE) -> #N/A | M69: =IFERROR((85*$J69/J8+$K69)+IF(L69="",0,1/L69/1000),0) -> 0
B70: ='Équipes 2e cycle'!A68 -> 0 | C70: =VLOOKUP($B70,'Équipes 2e cycle'!$A$7:$F$106,2,FALSE) -> #N/A | D70: =VLOOKUP($B70,'Équipes 2e cycle'!$A$7:$F$106,3,FALSE) -> #N/A | E70: =VLOOKUP($B70,'Équipes 2e cycle'!$A$7:$F$106,4,FALSE) -> #N/A | G70: =IF(F70="X",0,IF(F70="",0,F70)) -> 0 | I70: =IF(H70="X",0,IF(H70="",0,H70)) -> 0 | J70: =$G70+$I70 -> 0 | K70: =VLOOKUP($B70,'Équipes 2e cycle'!$A$7:$F$106,6,FALSE) -> #N/A | M70: =IFERROR((85*$J70/J8+$K70)+IF(L70="",0,1/L70/1000),0) -> 0
B71: ='Équipes 2e cycle'!A69 -> 0 | C71: =VLOOKUP($B71,'Équipes 2e cycle'!$A$7:$F$106,2,FALSE) -> #N/A | D71: =VLOOKUP($B71,'Équipes 2e cycle'!$A$7:$F$106,3,FALSE) -> #N/A | E71: =VLOOKUP($B71,'Équipes 2e cycle'!$A$7:$F$106,4,FALSE) -> #N/A | G71: =IF(F71="X",0,IF(F71="",0,F71)) -> 0 | I71: =IF(H71="X",0,IF(H71="",0,H71)) -> 0 | J71: =$G71+$I71 -> 0 | K71: =VLOOKUP($B71,'Équipes 2e cycle'!$A$7:$F$106,6,FALSE) -> #N/A | M71: =IFERROR((85*$J71/J8+$K71)+IF(L71="",0,1/L71/1000),0) -> 0
B72: ='Équipes 2e cycle'!A70 -> 0 | C72: =VLOOKUP($B72,'Équipes 2e cycle'!$A$7:$F$106,2,FALSE) -> #N/A | D72: =VLOOKUP($B72,'Équipes 2e cycle'!$A$7:$F$106,3,FALSE) -> #N/A | E72: =VLOOKUP($B72,'Équipes 2e cycle'!$A$7:$F$106,4,FALSE) -> #N/A | G72: =IF(F72="X",0,IF(F72="",0,F72)) -> 0 | I72: =IF(H72="X",0,IF(H72="",0,H72)) -> 0 | J72: =$G72+$I72 -> 0 | K72: =VLOOKUP($B72,'Équipes 2e cycle'!$A$7:$F$106,6,FALSE) -> #N/A | M72: =IFERROR((85*$J72/J8+$K72)+IF(L72="",0,1/L72/1000),0) -> 0
B73: ='Équipes 2e cycle'!A71 -> 0 | C73: =VLOOKUP($B73,'Équipes 2e cycle'!$A$7:$F$106,2,FALSE) -> #N/A | D73: =VLOOKUP($B73,'Équipes 2e cycle'!$A$7:$F$106,3,FALSE) -> #N/A | E73: =VLOOKUP($B73,'Équipes 2e cycle'!$A$7:$F$106,4,FALSE) -> #N/A | G73: =IF(F73="X",0,IF(F73="",0,F73)) -> 0 | I73: =IF(H73="X",0,IF(H73="",0,H73)) -> 0 | J73: =$G73+$I73 -> 0 | K73: =VLOOKUP($B73,'Équipes 2e cycle'!$A$7:$F$106,6,FALSE) -> #N/A | M73: =IFERROR((85*$J73/J8+$K73)+IF(L73="",0,1/L73/1000),0) -> 0
B74: ='Équipes 2e cycle'!A72 -> 0 | C74: =VLOOKUP($B74,'Équipes 2e cycle'!$A$7:$F$106,2,FALSE) -> #N/A | D74: =VLOOKUP($B74,'Équipes 2e cycle'!$A$7:$F$106,3,FALSE) -> #N/A | E74: =VLOOKUP($B74,'Équipes 2e cycle'!$A$7:$F$106,4,FALSE) -> #N/A | G74: =IF(F74="X",0,IF(F74="",0,F74)) -> 0 | I74: =IF(H74="X",0,IF(H74="",0,H74)) -> 0 | J74: =$G74+$I74 -> 0 | K74: =VLOOKUP($B74,'Équipes 2e cycle'!$A$7:$F$106,6,FALSE) -> #N/A | M74: =IFERROR((85*$J74/J8+$K74)+IF(L74="",0,1/L74/1000),0) -> 0
B75: ='Équipes 2e cycle'!A73 -> 0 | C75: =VLOOKUP($B75,'Équipes 2e cycle'!$A$7:$F$106,2,FALSE) -> #N/A | D75: =VLOOKUP($B75,'Équipes 2e cycle'!$A$7:$F$106,3,FALSE) -> #N/A | E75: =VLOOKUP($B75,'Équipes 2e cycle'!$A$7:$F$106,4,FALSE) -> #N/A | G75: =IF(F75="X",0,IF(F75="",0,F75)) -> 0 | I75: =IF(H75="X",0,IF(H75="",0,H75)) -> 0 | J75: =$G75+$I75 -> 0 | K75: =VLOOKUP($B75,'Équipes 2e cycle'!$A$7:$F$106,6,FALSE) -> #N/A | M75: =IFERROR((85*$J75/J8+$K75)+IF(L75="",0,1/L75/1000),0) -> 0
B76: ='Équipes 2e cycle'!A74 -> 0 | C76: =VLOOKUP($B76,'Équipes 2e cycle'!$A$7:$F$106,2,FALSE) -> #N/A | D76: =VLOOKUP($B76,'Équipes 2e cycle'!$A$7:$F$106,3,FALSE) -> #N/A | E76: =VLOOKUP($B76,'Équipes 2e cycle'!$A$7:$F$106,4,FALSE) -> #N/A | G76: =IF(F76="X",0,IF(F76="",0,F76)) -> 0 | I76: =IF(H76="X",0,IF(H76="",0,H76)) -> 0 | J76: =$G76+$I76 -> 0 | K76: =VLOOKUP($B76,'Équipes 2e cycle'!$A$7:$F$106,6,FALSE) -> #N/A | M76: =IFERROR((85*$J76/J8+$K76)+IF(L76="",0,1/L76/1000),0) -> 0
B77: ='Équipes 2e cycle'!A75 -> 0 | C77: =VLOOKUP($B77,'Équipes 2e cycle'!$A$7:$F$106,2,FALSE) -> #N/A | D77: =VLOOKUP($B77,'Équipes 2e cycle'!$A$7:$F$106,3,FALSE) -> #N/A | E77: =VLOOKUP($B77,'Équipes 2e cycle'!$A$7:$F$106,4,FALSE) -> #N/A | G77: =IF(F77="X",0,IF(F77="",0,F77)) -> 0 | I77: =IF(H77="X",0,IF(H77="",0,H77)) -> 0 | J77: =$G77+$I77 -> 0 | K77: =VLOOKUP($B77,'Équipes 2e cycle'!$A$7:$F$106,6,FALSE) -> #N/A | M77: =IFERROR((85*$J77/J8+$K77)+IF(L77="",0,1/L77/1000),0) -> 0
B78: ='Équipes 2e cycle'!A76 -> 0 | C78: =VLOOKUP($B78,'Équipes 2e cycle'!$A$7:$F$106,2,FALSE) -> #N/A | D78: =VLOOKUP($B78,'Équipes 2e cycle'!$A$7:$F$106,3,FALSE) -> #N/A | E78: =VLOOKUP($B78,'Équipes 2e cycle'!$A$7:$F$106,4,FALSE) -> #N/A | G78: =IF(F78="X",0,IF(F78="",0,F78)) -> 0 | I78: =IF(H78="X",0,IF(H78="",0,H78)) -> 0 | J78: =$G78+$I78 -> 0 | K78: =VLOOKUP($B78,'Équipes 2e cycle'!$A$7:$F$106,6,FALSE) -> #N/A | M78: =IFERROR((85*$J78/J8+$K78)+IF(L78="",0,1/L78/1000),0) -> 0
B79: ='Équipes 2e cycle'!A77 -> 0 | C79: =VLOOKUP($B79,'Équipes 2e cycle'!$A$7:$F$106,2,FALSE) -> #N/A | D79: =VLOOKUP($B79,'Équipes 2e cycle'!$A$7:$F$106,3,FALSE) -> #N/A | E79: =VLOOKUP($B79,'Équipes 2e cycle'!$A$7:$F$106,4,FALSE) -> #N/A | G79: =IF(F79="X",0,IF(F79="",0,F79)) -> 0 | I79: =IF(H79="X",0,IF(H79="",0,H79)) -> 0 | J79: =$G79+$I79 -> 0 | K79: =VLOOKUP($B79,'Équipes 2e cycle'!$A$7:$F$106,6,FALSE) -> #N/A | M79: =IFERROR((85*$J79/J8+$K79)+IF(L79="",0,1/L79/1000),0) -> 0
B80: ='Équipes 2e cycle'!A78 -> 0 | C80: =VLOOKUP($B80,'Équipes 2e cycle'!$A$7:$F$106,2,FALSE) -> #N/A | D80: =VLOOKUP($B80,'Équipes 2e cycle'!$A$7:$F$106,3,FALSE) -> #N/A | E80: =VLOOKUP($B80,'Équipes 2e cycle'!$A$7:$F$106,4,FALSE) -> #N/A | G80: =IF(F80="X",0,IF(F80="",0,F80)) -> 0 | I80: =IF(H80="X",0,IF(H80="",0,H80)) -> 0 | J80: =$G80+$I80 -> 0 | K80: =VLOOKUP($B80,'Équipes 2e cycle'!$A$7:$F$106,6,FALSE) -> #N/A | M80: =IFERROR((85*$J80/J8+$K80)+IF(L80="",0,1/L80/1000),0) -> 0
B81: ='Équipes 2e cycle'!A79 -> 0 | C81: =VLOOKUP($B81,'Équipes 2e cycle'!$A$7:$F$106,2,FALSE) -> #N/A | D81: =VLOOKUP($B81,'Équipes 2e cycle'!$A$7:$F$106,3,FALSE) -> #N/A | E81: =VLOOKUP($B81,'Équipes 2e cycle'!$A$7:$F$106,4,FALSE) -> #N/A | G81: =IF(F81="X",0,IF(F81="",0,F81)) -> 0 | I81: =IF(H81="X",0,IF(H81="",0,H81)) -> 0 | J81: =$G81+$I81 -> 0 | K81: =VLOOKUP($B81,'Équipes 2e cycle'!$A$7:$F$106,6,FALSE) -> #N/A | M81: =IFERROR((85*$J81/J8+$K81)+IF(L81="",0,1/L81/1000),0) -> 0
B82: ='Équipes 2e cycle'!A80 -> 0 | C82: =VLOOKUP($B82,'Équipes 2e cycle'!$A$7:$F$106,2,FALSE) -> #N/A | D82: =VLOOKUP($B82,'Équipes 2e cycle'!$A$7:$F$106,3,FALSE) -> #N/A | E82: =VLOOKUP($B82,'Équipes 2e cycle'!$A$7:$F$106,4,FALSE) -> #N/A | G82: =IF(F82="X",0,IF(F82="",0,F82)) -> 0 | I82: =IF(H82="X",0,IF(H82="",0,H82)) -> 0 | J82: =$G82+$I82 -> 0 | K82: =VLOOKUP($B82,'Équipes 2e cycle'!$A$7:$F$106,6,FALSE) -> #N/A | M82: =IFERROR((85*$J82/J8+$K82)+IF(L82="",0,1/L82/1000),0) -> 0
B83: ='Équipes 2e cycle'!A81 -> 0 | C83: =VLOOKUP($B83,'Équipes 2e cycle'!$A$7:$F$106,2,FALSE) -> #N/A | D83: =VLOOKUP($B83,'Équipes 2e cycle'!$A$7:$F$106,3,FALSE) -> #N/A | E83: =VLOOKUP($B83,'Équipes 2e cycle'!$A$7:$F$106,4,FALSE) -> #N/A | G83: =IF(F83="X",0,IF(F83="",0,F83)) -> 0 | I83: =IF(H83="X",0,IF(H83="",0,H83)) -> 0 | J83: =$G83+$I83 -> 0 | K83: =VLOOKUP($B83,'Équipes 2e cycle'!$A$7:$F$106,6,FALSE) -> #N/A | M83: =IFERROR((85*$J83/J8+$K83)+IF(L83="",0,1/L83/1000),0) -> 0
B84: ='Équipes 2e cycle'!A82 -> 0 | C84: =VLOOKUP($B84,'Équipes 2e cycle'!$A$7:$F$106,2,FALSE) -> #N/A | D84: =VLOOKUP($B84,'Équipes 2e cycle'!$A$7:$F$106,3,FALSE) -> #N/A | E84: =VLOOKUP($B84,'Équipes 2e cycle'!$A$7:$F$106,4,FALSE) -> #N/A | G84: =IF(F84="X",0,IF(F84="",0,F84)) -> 0 | I84: =IF(H84="X",0,IF(H84="",0,H84)) -> 0 | J84: =$G84+$I84 -> 0 | K84: =VLOOKUP($B84,'Équipes 2e cycle'!$A$7:$F$106,6,FALSE) -> #N/A | M84: =IFERROR((85*$J84/J8+$K84)+IF(L84="",0,1/L84/1000),0) -> 0
B85: ='Équipes 2e cycle'!A83 -> 0 | C85: =VLOOKUP($B85,'Équipes 2e cycle'!$A$7:$F$106,2,FALSE) -> #N/A | D85: =VLOOKUP($B85,'Équipes 2e cycle'!$A$7:$F$106,3,FALSE) -> #N/A | E85: =VLOOKUP($B85,'Équipes 2e cycle'!$A$7:$F$106,4,FALSE) -> #N/A | G85: =IF(F85="X",0,IF(F85="",0,F85)) -> 0 | I85: =IF(H85="X",0,IF(H85="",0,H85)) -> 0 | J85: =$G85+$I85 -> 0 | K85: =VLOOKUP($B85,'Équipes 2e cycle'!$A$7:$F$106,6,FALSE) -> #N/A | M85: =IFERROR((85*$J85/J8+$K85)+IF(L85="",0,1/L85/1000),0) -> 0
B86: ='Équipes 2e cycle'!A84 -> 0 | C86: =VLOOKUP($B86,'Équipes 2e cycle'!$A$7:$F$106,2,FALSE) -> #N/A | D86: =VLOOKUP($B86,'Équipes 2e cycle'!$A$7:$F$106,3,FALSE) -> #N/A | E86: =VLOOKUP($B86,'Équipes 2e cycle'!$A$7:$F$106,4,FALSE) -> #N/A | G86: =IF(F86="X",0,IF(F86="",0,F86)) -> 0 | I86: =IF(H86="X",0,IF(H86="",0,H86)) -> 0 | J86: =$G86+$I86 -> 0 | K86: =VLOOKUP($B86,'Équipes 2e cycle'!$A$7:$F$106,6,FALSE) -> #N/A | M86: =IFERROR((85*$J86/J8+$K86)+IF(L86="",0,1/L86/1000),0) -> 0
B87: ='Équipes 2e cycle'!A85 -> 0 | C87: =VLOOKUP($B87,'Équipes 2e cycle'!$A$7:$F$106,2,FALSE) -> #N/A | D87: =VLOOKUP($B87,'Équipes 2e cycle'!$A$7:$F$106,3,FALSE) -> #N/A | E87: =VLOOKUP($B87,'Équipes 2e cycle'!$A$7:$F$106,4,FALSE) -> #N/A | G87: =IF(F87="X",0,IF(F87="",0,F87)) -> 0 | I87: =IF(H87="X",0,IF(H87="",0,H87)) -> 0 | J87: =$G87+$I87 -> 0 | K87: =VLOOKUP($B87,'Équipes 2e cycle'!$A$7:$F$106,6,FALSE) -> #N/A | M87: =IFERROR((85*$J87/J8+$K87)+IF(L87="",0,1/L87/1000),0) -> 0
B88: ='Équipes 2e cycle'!A86 -> 0 | C88: =VLOOKUP($B88,'Équipes 2e cycle'!$A$7:$F$106,2,FALSE) -> #N/A | D88: =VLOOKUP($B88,'Équipes 2e cycle'!$A$7:$F$106,3,FALSE) -> #N/A | E88: =VLOOKUP($B88,'Équipes 2e cycle'!$A$7:$F$106,4,FALSE) -> #N/A | G88: =IF(F88="X",0,IF(F88="",0,F88)) -> 0 | I88: =IF(H88="X",0,IF(H88="",0,H88)) -> 0 | J88: =$G88+$I88 -> 0 | K88: =VLOOKUP($B88,'Équipes 2e cycle'!$A$7:$F$106,6,FALSE) -> #N/A | M88: =IFERROR((85*$J88/J8+$K88)+IF(L88="",0,1/L88/1000),0) -> 0
B89: ='Équipes 2e cycle'!A87 -> 0 | C89: =VLOOKUP($B89,'Équipes 2e cycle'!$A$7:$F$106,2,FALSE) -> #N/A | D89: =VLOOKUP($B89,'Équipes 2e cycle'!$A$7:$F$106,3,FALSE) -> #N/A | E89: =VLOOKUP($B89,'Équipes 2e cycle'!$A$7:$F$106,4,FALSE) -> #N/A | G89: =IF(F89="X",0,IF(F89="",0,F89)) -> 0 | I89: =IF(H89="X",0,IF(H89="",0,H89)) -> 0 | J89: =$G89+$I89 -> 0 | K89: =VLOOKUP($B89,'Équipes 2e cycle'!$A$7:$F$106,6,FALSE) -> #N/A | M89: =IFERROR((85*$J89/J8+$K89)+IF(L89="",0,1/L89/1000),0) -> 0
B90: ='Équipes 2e cycle'!A88 -> 0 | C90: =VLOOKUP($B90,'Équipes 2e cycle'!$A$7:$F$106,2,FALSE) -> #N/A | D90: =VLOOKUP($B90,'Équipes 2e cycle'!$A$7:$F$106,3,FALSE) -> #N/A | E90: =VLOOKUP($B90,'Équipes 2e cycle'!$A$7:$F$106,4,FALSE) -> #N/A | G90: =IF(F90="X",0,IF(F90="",0,F90)) -> 0 | I90: =IF(H90="X",0,IF(H90="",0,H90)) -> 0 | J90: =$G90+$I90 -> 0 | K90: =VLOOKUP($B90,'Équipes 2e cycle'!$A$7:$F$106,6,FALSE) -> #N/A | M90: =IFERROR((85*$J90/J8+$K90)+IF(L90="",0,1/L90/1000),0) -> 0
B91: ='Équipes 2e cycle'!A89 -> 0 | C91: =VLOOKUP($B91,'Équipes 2e cycle'!$A$7:$F$106,2,FALSE) -> #N/A | D91: =VLOOKUP($B91,'Équipes 2e cycle'!$A$7:$F$106,3,FALSE) -> #N/A | E91: =VLOOKUP($B91,'Équipes 2e cycle'!$A$7:$F$106,4,FALSE) -> #N/A | G91: =IF(F91="X",0,IF(F91="",0,F91)) -> 0 | I91: =IF(H91="X",0,IF(H91="",0,H91)) -> 0 | J91: =$G91+$I91 -> 0 | K91: =VLOOKUP($B91,'Équipes 2e cycle'!$A$7:$F$106,6,FALSE) -> #N/A | M91: =IFERROR((85*$J91/J8+$K91)+IF(L91="",0,1/L91/1000),0) -> 0
B92: ='Équipes 2e cycle'!A90 -> 0 | C92: =VLOOKUP($B92,'Équipes 2e cycle'!$A$7:$F$106,2,FALSE) -> #N/A | D92: =VLOOKUP($B92,'Équipes 2e cycle'!$A$7:$F$106,3,FALSE) -> #N/A | E92: =VLOOKUP($B92,'Équipes 2e cycle'!$A$7:$F$106,4,FALSE) -> #N/A | G92: =IF(F92="X",0,IF(F92="",0,F92)) -> 0 | I92: =IF(H92="X",0,IF(H92="",0,H92)) -> 0 | J92: =$G92+$I92 -> 0 | K92: =VLOOKUP($B92,'Équipes 2e cycle'!$A$7:$F$106,6,FALSE) -> #N/A | M92: =IFERROR((85*$J92/J8+$K92)+IF(L92="",0,1/L92/1000),0) -> 0
B93: ='Équipes 2e cycle'!A91 -> 0 | C93: =VLOOKUP($B93,'Équipes 2e cycle'!$A$7:$F$106,2,FALSE) -> #N/A | D93: =VLOOKUP($B93,'Équipes 2e cycle'!$A$7:$F$106,3,FALSE) -> #N/A | E93: =VLOOKUP($B93,'Équipes 2e cycle'!$A$7:$F$106,4,FALSE) -> #N/A | G93: =IF(F93="X",0,IF(F93="",0,F93)) -> 0 | I93: =IF(H93="X",0,IF(H93="",0,H93)) -> 0 | J93: =$G93+$I93 -> 0 | K93: =VLOOKUP($B93,'Équipes 2e cycle'!$A$7:$F$106,6,FALSE) -> #N/A | M93: =IFERROR((85*$J93/J8+$K93)+IF(L93="",0,1/L93/1000),0) -> 0
B94: ='Équipes 2e cycle'!A92 -> 0 | C94: =VLOOKUP($B94,'Équipes 2e cycle'!$A$7:$F$106,2,FALSE) -> #N/A | D94: =VLOOKUP($B94,'Équipes 2e cycle'!$A$7:$F$106,3,FALSE) -> #N/A | E94: =VLOOKUP($B94,'Équipes 2e cycle'!$A$7:$F$106,4,FALSE) -> #N/A | G94: =IF(F94="X",0,IF(F94="",0,F94)) -> 0 | I94: =IF(H94="X",0,IF(H94="",0,H94)) -> 0 | J94: =$G94+$I94 -> 0 | K94: =VLOOKUP($B94,'Équipes 2e cycle'!$A$7:$F$106,6,FALSE) -> #N/A | M94: =IFERROR((85*$J94/J8+$K94)+IF(L94="",0,1/L94/1000),0) -> 0
B95: ='Équipes 2e cycle'!A93 -> 0 | C95: =VLOOKUP($B95,'Équipes 2e cycle'!$A$7:$F$106,2,FALSE) -> #N/A | D95: =VLOOKUP($B95,'Équipes 2e cycle'!$A$7:$F$106,3,FALSE) -> #N/A | E95: =VLOOKUP($B95,'Équipes 2e cycle'!$A$7:$F$106,4,FALSE) -> #N/A | G95: =IF(F95="X",0,IF(F95="",0,F95)) -> 0 | I95: =IF(H95="X",0,IF(H95="",0,H95)) -> 0 | J95: =$G95+$I95 -> 0 | K95: =VLOOKUP($B95,'Équipes 2e cycle'!$A$7:$F$106,6,FALSE) -> #N/A | M95: =IFERROR((85*$J95/J8+$K95)+IF(L95="",0,1/L95/1000),0) -> 0
B96: ='Équipes 2e cycle'!A94 -> 0 | C96: =VLOOKUP($B96,'Équipes 2e cycle'!$A$7:$F$106,2,FALSE) -> #N/A | D96: =VLOOKUP($B96,'Équipes 2e cycle'!$A$7:$F$106,3,FALSE) -> #N/A | E96: =VLOOKUP($B96,'Équipes 2e cycle'!$A$7:$F$106,4,FALSE) -> #N/A | G96: =IF(F96="X",0,IF(F96="",0,F96)) -> 0 | I96: =IF(H96="X",0,IF(H96="",0,H96)) -> 0 | J96: =$G96+$I96 -> 0 | K96: =VLOOKUP($B96,'Équipes 2e cycle'!$A$7:$F$106,6,FALSE) -> #N/A | M96: =IFERROR((85*$J96/J8+$K96)+IF(L96="",0,1/L96/1000),0) -> 0
B97: ='Équipes 2e cycle'!A95 -> 0 | C97: =VLOOKUP($B97,'Équipes 2e cycle'!$A$7:$F$106,2,FALSE) -> #N/A | D97: =VLOOKUP($B97,'Équipes 2e cycle'!$A$7:$F$106,3,FALSE) -> #N/A | E97: =VLOOKUP($B97,'Équipes 2e cycle'!$A$7:$F$106,4,FALSE) -> #N/A | G97: =IF(F97="X",0,IF(F97="",0,F97)) -> 0 | I97: =IF(H97="X",0,IF(H97="",0,H97)) -> 0 | J97: =$G97+$I97 -> 0 | K97: =VLOOKUP($B97,'Équipes 2e cycle'!$A$7:$F$106,6,FALSE) -> #N/A | M97: =IFERROR((85*$J97/J8+$K97)+IF(L97="",0,1/L97/1000),0) -> 0
B98: ='Équipes 2e cycle'!A96 -> 0 | C98: =VLOOKUP($B98,'Équipes 2e cycle'!$A$7:$F$106,2,FALSE) -> #N/A | D98: =VLOOKUP($B98,'Équipes 2e cycle'!$A$7:$F$106,3,FALSE) -> #N/A | E98: =VLOOKUP($B98,'Équipes 2e cycle'!$A$7:$F$106,4,FALSE) -> #N/A | G98: =IF(F98="X",0,IF(F98="",0,F98)) -> 0 | I98: =IF(H98="X",0,IF(H98="",0,H98)) -> 0 | J98: =$G98+$I98 -> 0 | K98: =VLOOKUP($B98,'Équipes 2e cycle'!$A$7:$F$106,6,FALSE) -> #N/A | M98: =IFERROR((85*$J98/J8+$K98)+IF(L98="",0,1/L98/1000),0) -> 0
B99: ='Équipes 2e cycle'!A97 -> 0 | C99: =VLOOKUP($B99,'Équipes 2e cycle'!$A$7:$F$106,2,FALSE) -> #N/A | D99: =VLOOKUP($B99,'Équipes 2e cycle'!$A$7:$F$106,3,FALSE) -> #N/A | E99: =VLOOKUP($B99,'Équipes 2e cycle'!$A$7:$F$106,4,FALSE) -> #N/A | G99: =IF(F99="X",0,IF(F99="",0,F99)) -> 0 | I99: =IF(H99="X",0,IF(H99="",0,H99)) -> 0 | J99: =$G99+$I99 -> 0 | K99: =VLOOKUP($B99,'Équipes 2e cycle'!$A$7:$F$106,6,FALSE) -> #N/A | M99: =IFERROR((85*$J99/J8+$K99)+IF(L99="",0,1/L99/1000),0) -> 0
B100: ='Équipes 2e cycle'!A98 -> 0 | C100: =VLOOKUP($B100,'Équipes 2e cycle'!$A$7:$F$106,2,FALSE) -> #N/A | D100: =VLOOKUP($B100,'Équipes 2e cycle'!$A$7:$F$106,3,FALSE) -> #N/A | E100: =VLOOKUP($B100,'Équipes 2e cycle'!$A$7:$F$106,4,FALSE) -> #N/A | G100: =IF(F100="X",0,IF(F100="",0,F100)) -> 0 | I100: =IF(H100="X",0,IF(H100="",0,H100)) -> 0 | J100: =$G100+$I100 -> 0 | K100: =VLOOKUP($B100,'Équipes 2e cycle'!$A$7:$F$106,6,FALSE) -> #N/A | M100: =IFERROR((85*$J100/J8+$K100)+IF(L100="",0,1/L100/1000),0) -> 0
B101: ='Équipes 2e cycle'!A99 -> 0 | C101: =VLOOKUP($B101,'Équipes 2e cycle'!$A$7:$F$106,2,FALSE) -> #N/A | D101: =VLOOKUP($B101,'Équipes 2e cycle'!$A$7:$F$106,3,FALSE) -> #N/A | E101: =VLOOKUP($B101,'Équipes 2e cycle'!$A$7:$F$106,4,FALSE) -> #N/A | G101: =IF(F101="X",0,IF(F101="",0,F101)) -> 0 | I101: =IF(H101="X",0,IF(H101="",0,H101)) -> 0 | J101: =$G101+$I101 -> 0 | K101: =VLOOKUP($B101,'Équipes 2e cycle'!$A$7:$F$106,6,FALSE) -> #N/A | M101: =IFERROR((85*$J101/J8+$K101)+IF(L101="",0,1/L101/1000),0) -> 0
B102: ='Équipes 2e cycle'!A100 -> 0 | C102: =VLOOKUP($B102,'Équipes 2e cycle'!$A$7:$F$106,2,FALSE) -> #N/A | D102: =VLOOKUP($B102,'Équipes 2e cycle'!$A$7:$F$106,3,FALSE) -> #N/A | E102: =VLOOKUP($B102,'Équipes 2e cycle'!$A$7:$F$106,4,FALSE) -> #N/A | G102: =IF(F102="X",0,IF(F102="",0,F102)) -> 0 | I102: =IF(H102="X",0,IF(H102="",0,H102)) -> 0 | J102: =$G102+$I102 -> 0 | K102: =VLOOKUP($B102,'Équipes 2e cycle'!$A$7:$F$106,6,FALSE) -> #N/A | M102: =IFERROR((85*$J102/J8+$K102)+IF(L102="",0,1/L102/1000),0) -> 0
...

Sheet Résultats préliminaires 2e cy.
B1: Résultats préliminaires
B2: 2e cycle
B4: Ne tiennent pas compte des notes des rapports écrits.
B5: Équipe | C5: Participants | D5: Prototype | E5: École | F5: Pointage préliminaire
B6: ='Pointage 2e cycle'!B9 -> 0 | C6: =VLOOKUP($B6,'Pointage 1er cycle'!$B$9:$M$97,2,FALSE) -> #N/A | D6: =VLOOKUP($B6,'Pointage 2e cycle'!$B$9:$M$97,3,FALSE) -> #N/A | E6: =VLOOKUP($B6,'Pointage 1er cycle'!$B$9:$M$97,4,FALSE) -> #N/A | F6: =VLOOKUP($B6,'Pointage 2e cycle'!$B$9:$M$108,9,FALSE) -> 0
B7: ='Pointage 2e cycle'!B10 -> 0 | C7: =VLOOKUP($B7,'Pointage 1er cycle'!$B$9:$M$97,2,FALSE) -> #N/A | D7: =VLOOKUP($B7,'Pointage 2e cycle'!$B$9:$M$97,3,FALSE) -> #N/A | E7: =VLOOKUP($B7,'Pointage 1er cycle'!$B$9:$M$97,4,FALSE) -> #N/A | F7: =VLOOKUP($B7,'Pointage 2e cycle'!$B$9:$M$108,9,FALSE) -> 0
B8: ='Pointage 2e cycle'!B11 -> 0 | C8: =VLOOKUP($B8,'Pointage 1er cycle'!$B$9:$M$97,2,FALSE) -> #N/A | D8: =VLOOKUP($B8,'Pointage 2e cycle'!$B$9:$M$97,3,FALSE) -> #N/A | E8: =VLOOKUP($B8,'Pointage 1er cycle'!$B$9:$M$97,4,FALSE) -> #N/A | F8: =VLOOKUP($B8,'Pointage 2e cycle'!$B$9:$M$108,9,FALSE) -> 0
B9: ='Pointage 2e cycle'!B12 -> 0 | C9: =VLOOKUP($B9,'Pointage 1er cycle'!$B$9:$M$97,2,FALSE) -> #N/A | D9: =VLOOKUP($B9,'Pointage 2e cycle'!$B$9:$M$97,3,FALSE) -> #N/A | E9: =VLOOKUP($B9,'Pointage 1er cycle'!$B$9:$M$97,4,FALSE) -> #N/A | F9: =VLOOKUP($B9,'Pointage 2e cycle'!$B$9:$M$108,9,FALSE) -> 0
B10: ='Pointage 2e cycle'!B13 -> 0 | C10: =VLOOKUP($B10,'Pointage 1er cycle'!$B$9:$M$97,2,FALSE) -> #N/A | D10: =VLOOKUP($B10,'Pointage 2e cycle'!$B$9:$M$97,3,FALSE) -> #N/A | E10: =VLOOKUP($B10,'Pointage 1er cycle'!$B$9:$M$97,4,FALSE) -> #N/A | F10: =VLOOKUP($B10,'Pointage 2e cycle'!$B$9:$M$108,9,FALSE) -> 0
B11: ='Pointage 2e cycle'!B14 -> 0 | C11: =VLOOKUP($B11,'Pointage 1er cycle'!$B$9:$M$97,2,FALSE) -> #N/A | D11: =VLOOKUP($B11,'Pointage 2e cycle'!$B$9:$M$97,3,FALSE) -> #N/A | E11: =VLOOKUP($B11,'Pointage 1er cycle'!$B$9:$M$97,4,FALSE) -> #N/A | F11: =VLOOKUP($B11,'Pointage 2e cycle'!$B$9:$M$108,9,FALSE) -> 0
B12: ='Pointage 2e cycle'!B15 -> 0 | C12: =VLOOKUP($B12,'Pointage 1er cycle'!$B$9:$M$97,2,FALSE) -> #N/A | D12: =VLOOKUP($B12,'Pointage 2e cycle'!$B$9:$M$97,3,FALSE) -> #N/A | E12: =VLOOKUP($B12,'Pointage 1er cycle'!$B$9:$M$97,4,FALSE) -> #N/A | F12: =VLOOKUP($B12,'Pointage 2e cycle'!$B$9:$M$108,9,FALSE) -> 0
B13: ='Pointage 2e cycle'!B16 -> 0 | C13: =VLOOKUP($B13,'Pointage 1er cycle'!$B$9:$M$97,2,FALSE) -> #N/A | D13: =VLOOKUP($B13,'Pointage 2e cycle'!$B$9:$M$97,3,FALSE) -> #N/A | E13: =VLOOKUP($B13,'Pointage 1er cycle'!$B$9:$M$97,4,FALSE) -> #N/A | F13: =VLOOKUP($B13,'Pointage 2e cycle'!$B$9:$M$108,9,FALSE) -> 0
B14: ='Pointage 2e cycle'!B17 -> 0 | C14: =VLOOKUP($B14,'Pointage 1er cycle'!$B$9:$M$97,2,FALSE) -> #N/A | D14: =VLOOKUP($B14,'Pointage 2e cycle'!$B$9:$M$97,3,FALSE) -> #N/A | E14: =VLOOKUP($B14,'Pointage 1er cycle'!$B$9:$M$97,4,FALSE) -> #N/A | F14: =VLOOKUP($B14,'Pointage 2e cycle'!$B$9:$M$108,9,FALSE) -> 0
B15: ='Pointage 2e cycle'!B18 -> 0 | C15: =VLOOKUP($B15,'Pointage 1er cycle'!$B$9:$M$97,2,FALSE) -> #N/A | D15: =VLOOKUP($B15,'Pointage 2e cycle'!$B$9:$M$97,3,FALSE) -> #N/A | E15: =VLOOKUP($B15,'Pointage 1er cycle'!$B$9:$M$97,4,FALSE) -> #N/A | F15: =VLOOKUP($B15,'Pointage 2e cycle'!$B$9:$M$108,9,FALSE) -> 0
B16: ='Pointage 2e cycle'!B19 -> 0 | C16: =VLOOKUP($B16,'Pointage 1er cycle'!$B$9:$M$97,2,FALSE) -> #N/A | D16: =VLOOKUP($B16,'Pointage 2e cycle'!$B$9:$M$97,3,FALSE) -> #N/A | E16: =VLOOKUP($B16,'Pointage 1er cycle'!$B$9:$M$97,4,FALSE) -> #N/A | F16: =VLOOKUP($B16,'Pointage 2e cycle'!$B$9:$M$108,9,FALSE) -> 0
B17: ='Pointage 2e cycle'!B20 -> 0 | C17: =VLOOKUP($B17,'Pointage 1er cycle'!$B$9:$M$97,2,FALSE) -> #N/A | D17: =VLOOKUP($B17,'Pointage 2e cycle'!$B$9:$M$97,3,FALSE) -> #N/A | E17: =VLOOKUP($B17,'Pointage 1er cycle'!$B$9:$M$97,4,FALSE) -> #N/A | F17: =VLOOKUP($B17,'Pointage 2e cycle'!$B$9:$M$108,9,FALSE) -> 0
... B105: ='Pointage 2e cycle'!B108 -> 0 | C105: =VLOOKUP($B105,'Pointage 1er cycle'!$B$9:$M$97,2,FALSE) -> #N/A | D105: =VLOOKUP($B105,'Pointage 2e cycle'!$B$9:$M$97,3,FALSE) -> #N/A | E105: =VLOOKUP($B105,'Pointage 1er cycle'!$B$9:$M$97,4,FALSE) -> #N/A | F105: =VLOOKUP($B105,'Pointage 2e cycle'!$B$9:$M$108,9,FALSE) -> 0

Sheet Classement 2e cycle
B1: Classement final
B2: 2e cycle
B4: Classement | C4: Équipe | D4: Nom | E4: Prototype | F4: École | G4: Pointage
B5: 1 | C5: =VLOOKUP(G5,'Pointage 2e cycle'!$A$9:$M$108,2,FALSE) -> 0 | D5: =VLOOKUP($C5,'Équipes 1er cycle'!$A$7:$D$100,2,FALSE) -> #N/A | E5: =VLOOKUP($C5,'Équipes 2e cycle'!$A$7:$D$108,3,FALSE) -> #N/A | F5: =VLOOKUP($C5,'Équipes 1er cycle'!$A$7:$D$100,4,FALSE) -> #N/A | G5: =LARGE('Pointage 2e cycle'!$M$9:$M$108,B5) -> 0
B6: 2 | C6: =VLOOKUP(G6,'Pointage 2e cycle'!$A$9:$M$108,2,FALSE) -> 0 | D6: =VLOOKUP($C6,'Équipes 1er cycle'!$A$7:$D$100,2,FALSE) -> #N/A | E6: =VLOOKUP($C6,'Équipes 2e cycle'!$A$7:$D$108,3,FALSE) -> #N/A | F6: =VLOOKUP($C6,'Équipes 1er cycle'!$A$7:$D$100,4,FALSE) -> #N/A | G6: =LARGE('Pointage 2e cycle'!$M$9:$M$108,B6) -> 0
B7: 3 | C7: =VLOOKUP(G7,'Pointage 2e cycle'!$A$9:$M$108,2,FALSE) -> 0 | D7: =VLOOKUP($C7,'Équipes 1er cycle'!$A$7:$D$100,2,FALSE) -> #N/A | E7: =VLOOKUP($C7,'Équipes 2e cycle'!$A$7:$D$108,3,FALSE) -> #N/A | F7: =VLOOKUP($C7,'Équipes 1er cycle'!$A$7:$D$100,4,FALSE) -> #N/A | G7: =LARGE('Pointage 2e cycle'!$M$9:$M$108,B7) -> 0
B8: 4 | C8: =VLOOKUP(G8,'Pointage 2e cycle'!$A$9:$M$108,2,FALSE) -> 0 | D8: =VLOOKUP($C8,'Équipes 1er cycle'!$A$7:$D$100,2,FALSE) -> #N/A | E8: =VLOOKUP($C8,'Équipes 2e cycle'!$A$7:$D$108,3,FALSE) -> #N/A | F8: =VLOOKUP($C8,'Équipes 1er cycle'!$A$7:$D$100,4,FALSE) -> #N/A | G8: =LARGE('Pointage 2e cycle'!$M$9:$M$108,B8) -> 0
B9: 5 | C9: =VLOOKUP(G9,'Pointage 2e cycle'!$A$9:$M$108,2,FALSE) -> 0 | D9: =VLOOKUP($C9,'Équipes 1er cycle'!$A$7:$D$100,2,FALSE) -> #N/A | E9: =VLOOKUP($C9,'Équipes 2e cycle'!$A$7:$D$108,3,FALSE) -> #N/A | F9: =VLOOKUP($C9,'Équipes 1er cycle'!$A$7:$D$100,4,FALSE) -> #N/A | G9: =LARGE('Pointage 2e cycle'!$M$9:$M$108,B9) -> 0
B10: 6 | C10: =VLOOKUP(G10,'Pointage 2e cycle'!$A$9:$M$108,2,FALSE) -> 0 | D10: =VLOOKUP($C10,'Équipes 1er cycle'!$A$7:$D$100,2,FALSE) -> #N/A | E10: =VLOOKUP($C10,'Équipes 2e cycle'!$A$7:$D$108,3,FALSE) -> #N/A | F10: =VLOOKUP($C10,'Équipes 1er cycle'!$A$7:$D$100,4,FALSE) -> #N/A | G10: =LARGE('Pointage 2e cycle'!$M$9:$M$108,B10) -> 0
B11: 7 | C11: =VLOOKUP(G11,'Pointage 2e cycle'!$A$9:$M$108,2,FALSE) -> 0 | D11: =VLOOKUP($C11,'Équipes 1er cycle'!$A$7:$D$100,2,FALSE) -> #N/A | E11: =VLOOKUP($C11,'Équipes 2e cycle'!$A$7:$D$108,3,FALSE) -> #N/A | F11: =VLOOKUP($C11,'Équipes 1er cycle'!$A$7:$D$100,4,FALSE) -> #N/A | G11: =LARGE('Pointage 2e cycle'!$M$9:$M$108,B11) -> 0
B12: 8 | C12: =VLOOKUP(G12,'Pointage 2e cycle'!$A$9:$M$108,2,FALSE) -> 0 | D12: =VLOOKUP($C12,'Équipes 1er cycle'!$A$7:$D$100,2,FALSE) -> #N/A | E12: =VLOOKUP($C12,'Équipes 2e cycle'!$A$7:$D$108,3,FALSE) -> #N/A | F12: =VLOOKUP($C12,'Équipes 1er cycle'!$A$7:$D$100,4,FALSE) -> #N/A | G12: =LARGE('Pointage 2e cycle'!$M$9:$M$108,B12) -> 0
B13: 9 | C13: =VLOOKUP(G13,'Pointage 2e cycle'!$A$9:$M$108,2,FALSE) -> 0 | D13: =VLOOKUP($C13,'Équipes 1er cycle'!$A$7:$D$100,2,FALSE) -> #N/A | E13: =VLOOKUP($C13,'Équipes 2e cycle'!$A$7:$D$108,3,FALSE) -> #N/A | F13: =VLOOKUP($C13,'Équipes 1er cycle'!$A$7:$D$100,4,FALSE) -> #N/A | G13: =LARGE('Pointage 2e cycle'!$M$9:$M$108,B13) -> 0
B14: 10 | C14: =VLOOKUP(G14,'Pointage 2e cycle'!$A$9:$M$108,2,FALSE) -> 0 | D14: =VLOOKUP($C14,'Équipes 1er cycle'!$A$7:$D$100,2,FALSE) -> #N/A | E14: =VLOOKUP($C14,'Équipes 2e cycle'!$A$7:$D$108,3,FALSE) -> #N/A | F14: =VLOOKUP($C14,'Équipes 1er cycle'!$A$7:$D$100,4,FALSE) -> #N/A | G14: =LARGE('Pointage 2e cycle'!$M$9:$M$108,B14) -> 0
B15: 11 | C15: =VLOOKUP(G15,'Pointage 2e cycle'!$A$9:$M$108,2,FALSE) -> 0 | D15: =VLOOKUP($C15,'Équipes 1er cycle'!$A$7:$D$100,2,FALSE) -> #N/A | E15: =VLOOKUP($C15,'Équipes 2e cycle'!$A$7:$D$108,3,FALSE) -> #N/A | F15: =VLOOKUP($C15,'Équipes 1er cycle'!$A$7:$D$100,4,FALSE) -> #N/A | G15: =LARGE('Pointage 2e cycle'!$M$9:$M$108,B15) -> 0
B16: 12 | C16: =VLOOKUP(G16,'Pointage 2e cycle'!$A$9:$M$108,2,FALSE) -> 0 | D16: =VLOOKUP($C16,'Équipes 1er cycle'!$A$7:$D$100,2,FALSE) -> #N/A | E16: =VLOOKUP($C16,'Équipes 2e cycle'!$A$7:$D$108,3,FALSE) -> #N/A | F16: =VLOOKUP($C16,'Équipes 1er cycle'!$A$7:$D$100,4,FALSE) -> #N/A | G16: =LARGE('Pointage 2e cycle'!$M$9:$M$108,B16) -> 0
... B54: 50 | C54: =VLOOKUP(G54,'Pointage 2e cycle'!$A$9:$M$108,2,FALSE) -> 0 | D54: =VLOOKUP($C54,'Équipes 1er cycle'!$A$7:$D$100,2,FALSE) -> #N/A | E54: =VLOOKUP($C54,'Équipes 2e cycle'!$A$7:$D$108,3,FALSE) -> #N/A | F54: =VLOOKUP($C54,'Équipes 1er cycle'!$A$7:$D$100,4,FALSE) -> #N/A | G54: =LARGE('Pointage 2e cycle'!$M$9:$M$108,B54) -> 0
B55: 51 | C55: =VLOOKUP(G55,'Pointage 2e cycle'!$A$9:$M$108,2,FALSE) -> 0 | E55: =VLOOKUP($C55,'Équipes 2e cycle'!$A$7:$D$108,3,FALSE) -> #N/A | G55: =LARGE('Pointage 2e cycle'!$M$9:$M$108,B55) -> 0
B56: 52 | C56: =VLOOKUP(G56,'Pointage 2e cycle'!$A$9:$M$108,2,FALSE) -> 0 | E56: =VLOOKUP($C56,'Équipes 2e cycle'!$A$7:$D$108,3,FALSE) -> #N/A | G56: =LARGE('Pointage 2e cycle'!$M$9:$M$108,B56) -> 0
B57: 53 | C57: =VLOOKUP(G57,'Pointage 2e cycle'!$A$9:$M$108,2,FALSE) -> 0 | E57: =VLOOKUP($C57,'Équipes 2e cycle'!$A$7:$D$108,3,FALSE) -> #N/A | G57: =LARGE('Pointage 2e cycle'!$M$9:$M$108,B57) -> 0
B58: 54 | C58: =VLOOKUP(G58,'Pointage 2e cycle'!$A$9:$M$108,2,FALSE) -> 0 | E58: =VLOOKUP($C58,'Équipes 2e cycle'!$A$7:$D$108,3,FALSE) -> #N/A | G58: =LARGE('Pointage 2e cycle'!$M$9:$M$108,B58) -> 0
B59: 55 | C59: =VLOOKUP(G59,'Pointage 2e cycle'!$A$9:$M$108,2,FALSE) -> 0 | E59: =VLOOKUP($C59,'Équipes 2e cycle'!$A$7:$D$108,3,FALSE) -> #N/A | G59: =LARGE('Pointage 2e cycle'!$M$9:$M$108,B59) -> 0
B60: 56 | C60: =VLOOKUP(G60,'Pointage 2e cycle'!$A$9:$M$108,2,FALSE) -> 0 | E60: =VLOOKUP($C60,'Équipes 2e cycle'!$A$7:$D$108,3,FALSE) -> #N/A | G60: =LARGE('Pointage 2e cycle'!$M$9:$M$108,B60) -> 0
B61: 57 | C61: =VLOOKUP(G61,'Pointage 2e cycle'!$A$9:$M$108,2,FALSE) -> 0 | E61: =VLOOKUP($C61,'Équipes 2e cycle'!$A$7:$D$108,3,FALSE) -> #N/A | G61: =LARGE('Pointage 2e cycle'!$M$9:$M$108,B61) -> 0
B62: 58 | C62: =VLOOKUP(G62,'Pointage 2e cycle'!$A$9:$M$108,2,FALSE) -> 0 | E62: =VLOOKUP($C62,'Équipes 2e cycle'!$A$7:$D$108,3,FALSE) -> #N/A | G62: =LARGE('Pointage 2e cycle'!$M$9:$M$108,B62) -> 0
B63: 59 | C63: =VLOOKUP(G63,'Pointage 2e cycle'!$A$9:$M$108,2,FALSE) -> 0 | E63: =VLOOKUP($C63,'Équipes 2e cycle'!$A$7:$D$108,3,FALSE) -> #N/A | G63: =LARGE('Pointage 2e cycle'!$M$9:$M$108,B63) -> 0
B64: 60 | C64: =VLOOKUP(G64,'Pointage 2e cycle'!$A$9:$M$108,2,FALSE) -> 0 | E64: =VLOOKUP($C64,'Équipes 2e cycle'!$A$7:$D$108,3,FALSE) -> #N/A | G64: =LARGE('Pointage 2e cycle'!$M$9:$M$108,B64) -> 0
B65: 61 | C65: =VLOOKUP(G65,'Pointage 2e cycle'!$A$9:$M$108,2,FALSE) -> 0 | E65: =VLOOKUP($C65,'Équipes 2e cycle'!$A$7:$D$108,3,FALSE) -> #N/A | G65: =LARGE('Pointage 2e cycle'!$M$9:$M$108,B65) -> 0
B66: 62 | C66: =VLOOKUP(G66,'Pointage 2e cycle'!$A$9:$M$108,2,FALSE) -> 0 | E66: =VLOOKUP($C66,'Équipes 2e cycle'!$A$7:$D$108,3,FALSE) -> #N/A | G66: =LARGE('Pointage 2e cycle'!$M$9:$M$108,B66) -> 0
... B104: 100 | C104: =VLOOKUP(G104,'Pointage 2e cycle'!$A$9:$M$108,2,FALSE) -> 0 | E104: =VLOOKUP($C104,'Équipes 2e cycle'!$A$7:$D$108,3,FALSE) -> #N/A | G104: =LARGE('Pointage 2e cycle'!$M$9:$M$108,B104) -> 0
