Workbook

Sheet Mode d'emploi
B1: Mode d'emploi du tableau de pointage
B3: Pour tous·tes les utilisateur·trice·s,
B4: Nous sommes heureux de vous offrir ce système de comptabilisation des points pour votre finale locale du DGI 2025-2026.
B5: Assurez-vous de bien lire ces instructions avant d'utiliser le fichier Excel. Nous recommandons de faire des tests avec celui-ci avant votre finale.
B6: Si vous rencontrez des problèmes avec le fichier, veuillez nous écrire au faqdgi@technoscience.ca. Merci et bon défi!
B8: Onglets Équipes :
B9: - | C9: Entrer les numéros d'équipe, les nom des participant·e·s, les noms des prototypes et les noms d'écoles.
B10: - | C10: Entrer les résultats des rapports écrits dans la colonne /100.
B11: - | C11: Les noms s'inscriront automatiquement dans les onglets "Pointage" et dans les tableaux de classement.
B12: - | C12: ATTENTION : Il est nécessaire d'inscrire des numéros d'équipe pour que le calcul du pointage s'effectue de la bonne façon. Rentrer uniquement des chiffres entiers (et non des lettres ou des décimales).
B14: Onglets Pointage :
B15: - | C15: Entrer la distance parcourue et mesurée en cm, par le prototype (mesurée à partir du milieu de la ligne de départ jusqu'au point de la chaîne le plus éloigné de celle-ci).
B16: - | C16: Si l'équipe n'a pas réussi à installer son prototype en 30 secondes, inscrire X dans la case "d" (d = 0).
B18: Onglets Résultats préliminaires :
B19: - | C19: Les résultats de la 1ère et 2e manches s'affichent dans l'onglet correspondant.
B20: - | C20: Ils ne tiennent pas compte des notes des rapports écrits.
B22: Onglets Classement :
B23: - | C23: Les résultats finaux présentés selon le classement s'affichent dans l'onglet correspondant. Ils incluent la note du rapport écrit.
B25: En cas d'égalité :
B26: - | C26: Si deux équipes arrivent à égalité, la masse de leur prototype sera prise en compte. L’équipe dont le véhicule aura la masse la plus faible s’assurera du meilleur classement.
B27: - | C27: Dans ce cas, les résultats des équipes ex-aequo s'affichent en rouge dans les tableaux "Pointage".
B28: - | C28: Une fois les deux véhicules pesés, inscrire le classement de chacun dans la colonne ex-aequo (ex: 1 et 2)
B29: - | C29: S'il y a des équipes ex-aequo et qu'elles n'ont pas été départagées dans le tableau "Pointage", des cases rouges apparaîtront dans le tableau "Classement" également.

Sheet Équipes 1er cycle
A1: Résultats des rapports écrits
A2: 1er cycle
A4: No d'équipe | B4: Participant·e·s | C4: Prototype | D4: École | E4: Note du rapport écrit
E5: /100 | F5: /15
A6: 1 | B6: Léo & Florence | C6: La licorne magique | D6: Polyvalente | E6: 75 | F6: =E6*15/100 -> 11.25
F7: =ROUND(E7*15/100,2) -> 0
F8: =ROUND(E8*15/100,2) -> 0
F9: =ROUND(E9*15/100,2) -> 0
F10: =ROUND(E10*15/100,2) -> 0
F11: =ROUND(E11*15/100,2) -> 0
F12: =ROUND(E12*15/100,2) -> 0
F13: =ROUND(E13*15/100,2) -> 0
F14: =ROUND(E14*15/100,2) -> 0
F15: =ROUND(E15*15/100,2) -> 0
F16: =ROUND(E16*15/100,2) -> 0
F17: =ROUND(E17*15/100,2) -> 0
F18: =ROUND(E18*15/100,2) -> 0
... F106: =ROUND(E106*15/100,2) -> 0

Sheet Pointage 1er cycle
B2: Édition 2025-2026
B3: TIRE LA CHAÎNE!
B4: Nom de l'école
B5: 1er cycle
A7: GRAND TOTAL | B7: No d'équipe | C7: Participant·e·s | D7: Prototype | E7: École | F7: Manche 1 | H7: Manche 2 | J7: m1 + m2 | K7: Rapport écrit | L7: Classement des ex-aequo | M7: GRAND TOTAL
F8: d1 (cm) "X" si l'équipe n'a pas réussi à installer son prototype en moins de 30 secondes ou si la chaîne dépasse le prototype. | G8: m1 | H8: d2 (cm) "X" si l'équipe n'a pas réussi à installer son prototype en moins de 30 secondes ou si la chaîne dépasse le prototype. | I8: m2 | J8: =MAX($J$9:$J$108) -> 0 | K8: R /15
A9: =M9 -> 0 | B9: ='Équipes 1er cycle'!A7 -> 0 | C9: =VLOOKUP($B9,'Équipes 1er cycle'!$A$7:$F$106,2,FALSE) -> #N/A | D9: =VLOOKUP($B9,'Équipes 1er cycle'!$A$7:$F$106,3,FALSE) -> #N/A | E9: =VLOOKUP($B9,'Équipes 1er cycle'!$A$7:$F$106,4,FALSE) -> #N/A | G9: =IF(F9="X",0,IF(F9="",0,F9)) -> 0 | I9: =IF(H9="X",0,IF(H9="",0,H9)) -> 0 | J9: =$G9+$I9 -> 0 | K9: =VLOOKUP($B9,'Équipes 1er cycle'!$A$7:$F$106,6,FALSE) -> #N/A | M9: =IFERROR((85*$J9/J8+$K9)+IF(L9="",0,1/L9/1000),0) -> 0
A10: =M10 -> 0 | B10: ='Équipes 1er cycle'!A8 -> 0 | C10: =VLOOKUP($B10,'Équipes 1er cycle'!$A$7:$F$106,2,FALSE) -> #N/A | D10: =VLOOKUP($B10,'Équipes 1er cycle'!$A$7:$F$106,3,FALSE) -> #N/A | E10: =VLOOKUP($B10,'Équipes 1er cycle'!$A$7:$F$106,4,FALSE) -> #N/A | G10: =IF(F10="X",0,IF(F10="",0,F10)) -> 0 | I10: =IF(H10="X",0,IF(H10="",0,H10)) -> 0 | J10: =$G10+$I10 -> 0 | K10: =VLOOKUP($B10,'Équipes 1er cycle'!$A$7:$F$106,6,FALSE) -> #N/A | M10: =IFERROR((85*$J10/J8+$K10)+IF(L10="",0,1/L10/1000),0) -> 0
A11: =M11 -> 0 | B11: ='Équipes 1er cycle'!A9 -> 0 | C11: =VLOOKUP($B11,'Équipes 1er cycle'!$A$7:$F$106,2,FALSE) -> #N/A | D11: =VLOOKUP($B11,'Équipes 1er cycle'!$A$7:$F$106,3,FALSE) -> #N/A | E11: =VLOOKUP($B11,'Équipes 1er cycle'!$A$7:$F$106,4,FALSE) -> #N/A | G11: =IF(F11="X",0,IF(F11="",0,F11)) -> 0 | I11: =IF(H11="X",0,IF(H11="",0,H11)) -> 0 | J11: =$G11+$I11 -> 0 | K11: =VLOOKUP($B11,'Équipes 1er cycle'!$A$7:$F$106,6,FALSE) -> #N/A | M11: =IFERROR((85*$J11/J8+$K11)+IF(L11="",0,1/L11/1000),0) -> 0
A12: =M12 -> 0 | B12: ='Équipes 1er cycle'!A10 -> 0 | C12: =VLOOKUP($B12,'Équipes 1er cycle'!$A$7:$F$106,2,FALSE) -> #N/A | D12: =VLOOKUP($B12,'Équipes 1er cycle'!$A$7:$F$106,3,FALSE) -> #N/A | E12: =VLOOKUP($B12,'Équipes 1er cycle'!$A$7:$F$106,4,FALSE) -> #N/A | G12: =IF(F12="X",0,IF(F12="",0,F12)) -> 0 | I12: =IF(H12="X",0,IF(H12="",0,H12)) -> 0 | J12: =$G12+$I12 -> 0 | K12: =VLOOKUP($B12,'Équipes 1er cycle'!$A$7:$F$106,6,FALSE) -> #N/A | M12: =IFERROR((85*$J12/J8+$K12)+IF(L12="",0,1/L12/1000),0) -> 0
A13: =M13 -> 0 | B13: ='Équipes 1er cycle'!A11 -> 0 | C13: =VLOOKUP($B13,'Équipes 1er cycle'!$A$7:$F$106,2,FALSE) -> #N/A | D13: =VLOOKUP($B13,'Équipes 1er cycle'!$A$7:$F$106,3,FALSE) -> #N/A | E13: =VLOOKUP($B13,'Équipes 1er cycle'!$A$7:$F$106,4,FALSE) -> #N/A | G13: =IF(F13="X",0,IF(F13="",0,F13)) -> 0 | I13: =IF(H13="X",0,IF(H13="",0,H13)) -> 0 | J13: =$G13+$I13 -> 0 | K13: =VLOOKUP($B13,'Équipes 1er cycle'!$A$7:$F$106,6,FALSE) -> #N/A | M13: =IFERROR((85*$J13/J8+$K13)+IF(L13="",0,1/L13/1000),0) -> 0
A14: =M14 -> 0 | B14: ='Équipes 1er cycle'!A12 -> 0 | C14: =VLOOKUP($B14,'Équipes 1er cycle'!$A$7:$F$106,2,FALSE) -> #N/A | D14: =VLOOKUP($B14,'Équipes 1er cycle'!$A$7:$F$106,3,FALSE) -> #N/A | E14: =VLOOKUP($B14,'Équipes 1er cycle'!$A$7:$F$106,4,FALSE) -> #N/A | G14: =IF(F14="X",0,IF(F14="",0,F14)) -> 0 | I14: =IF(H14="X",0,IF(H14="",0,H14)) -> 0 | J14: =$G14+$I14 -> 0 | K14: =VLOOKUP($B14,'Équipes 1er cycle'!$A$7:$F$106,6,FALSE) -> #N/A | M14: =IFERROR((85*$J14/J8+$K14)+IF(L14="",0,1/L14/1000),0) -> 0
A15: =M15 -> 0 | B15: ='Équipes 1er cycle'!A13 -> 0 | C15: =VLOOKUP($B15,'Équipes 1er cycle'!$A$7:$F$106,2,FALSE) -> #N/A | D15: =VLOOKUP($B15,'Équipes 1er cycle'!$A$7:$F$106,3,FALSE) -> #N/A | E15: =VLOOKUP($B15,'Équipes 1er cycle'!$A$7:$F$106,4,FALSE) -> #N/A | G15: =IF(F15="X",0,IF(F15="",0,F15)) -> 0 | I15: =IF(H15="X",0,IF(H15="",0,H15)) -> 0 | J15: =$G15+$I15 -> 0 | K15: =VLOOKUP($B15,'Équipes 1er cycle'!$A$7:$F$106,6,FALSE) -> #N/A | M15: =IFERROR((85*$J15/J8+$K15)+IF(L15="",0,1/L15/1000),0) -> 0
A16: =M16 -> 0 | B16: ='Équipes 1er cycle'!A14 -> 0 | C16: =VLOOKUP($B16,'Équipes 1er cycle'!$A$7:$F$106,2,FALSE) -> #N/A | D16: =VLOOKUP($B16,'Équipes 1er cycle'!$A$7:$F$106,3,FALSE) -> #N/A | E16: =VLOOKUP($B16,'Équipes 1er cycle'!$A$7:$F$106,4,FALSE) -> #N/A | G16: =IF(F16="X",0,IF(F16="",0,F16)) -> 0 | I16: =IF(H16="X",0,IF(H16="",0,H16)) -> 0 | J16: =$G16+$I16 -> 0 | K16: =VLOOKUP($B16,'Équipes 1er cycle'!$A$7:$F$106,6,FALSE) -> #N/A | M16: =IFERROR((85*$J16/J8+$K16)+IF(L16="",0,1/L16/1000),0) -> 0
A17: =M17 -> 0 | B17: ='Équipes 1er cycle'!A15 -> 0 | C17: =VLOOKUP($B17,'Équipes 1er cycle'!$A$7:$F$106,2,FALSE) -> #N/A | D17: =VLOOKUP($B17,'Équipes 1er cycle'!$A$7:$F$106,3,FALSE) -> #N/A | E17: =VLOOKUP($B17,'Équipes 1er cycle'!$A$7:$F$106,4,FALSE) -> #N/A | G17: =IF(F17="X",0,IF(F17="",0,F17)) -> 0 | I17: =IF(H17="X",0,IF(H17="",0,H17)) -> 0 | J17: =$G17+$I17 -> 0 | K17: =VLOOKUP($B17,'Équipes 1er cycle'!$A$7:$F$106,6,FALSE) -> #N/A | M17: =IFERROR((85*$J17/J8+$K17)+IF(L17="",0,1/L17/1000),0) -> 0
A18: =M18 -> 0 | B18: ='Équipes 1er cycle'!A16 -> 0 | C18: =VLOOKUP($B18,'Équipes 1er cycle'!$A$7:$F$106,2,FALSE) -> #N/A | D18: =VLOOKUP($B18,'Équipes 1er cycle'!$A$7:$F$106,3,FALSE) -> #N/A | E18: =VLOOKUP($B18,'Équipes 1er cycle'!$A$7:$F$106,4,FALSE) -> #N/A | G18: =IF(F18="X",0,IF(F18="",0,F18)) -> 0 | I18: =IF(H18="X",0,IF(H18="",0,H18)) -> 0 | J18: =$G18+$I18 -> 0 | K18: =VLOOKUP($B18,'Équipes 1er cycle'!$A$7:$F$106,6,FALSE) -> #N/A | M18: =IFERROR((85*$J18/J8+$K18)+IF(L18="",0,1/L18/1000),0) -> 0
A19: =M19 -> 0 | B19: ='Équipes 1er cycle'!A17 -> 0 | C19: =VLOOKUP($B19,'Équipes 1er cycle'!$A$7:$F$106,2,FALSE) -> #N/A | D19: =VLOOKUP($B19,'Équipes 1er cycle'!$A$7:$F$106,3,FALSE) -> #N/A | E19: =VLOOKUP($B19,'Équipes 1er cycle'!$A$7:$F$106,4,FALSE) -> #N/A | G19: =IF(F19="X",0,IF(F19="",0,F19)) -> 0 | I19: =IF(H19="X",0,IF(H19="",0,H19)) -> 0 | J19: =$G19+$I19 -> 0 | K19: =VLOOKUP($B19,'Équipes 1er cycle'!$A$7:$F$106,6,FALSE) -> #N/A | M19: =IFERROR((85*$J19/J8+$K19)+IF(L19="",0,1/L19/1000),0) -> 0
A20: =M20 -> 0 | B20: ='Équipes 1er cycle'!A18 -> 0 | C20: =VLOOKUP($B20,'Équipes 1er cycle'!$A$7:$F$106,2,FALSE) -> #N/A | D20: =VLOOKUP($B20,'Équipes 1er cycle'!$A$7:$F$106,3,FALSE) -> #N/A | E20: =VLOOKUP($B20,'Équipes 1er cycle'!$A$7:$F$106,4,FALSE) -> #N/A | G20: =IF(F20="X",0,IF(F20="",0,F20)) -> 0 | I20: =IF(H20="X",0,IF(H20="",0,H20)) -> 0 | J20: =$G20+$I20 -> 0 | K20: =VLOOKUP($B20,'Équipes 1er cycle'!$A$7:$F$106,6,FALSE) -> #N/A | M20: =IFERROR((85*$J20/J8+$K20)+IF(L20="",0,1/L20/1000),0) -> 0
A21: =M21 -> 0 | B21: ='Équipes 1er cycle'!A19 -> 0 | C21: =VLOOKUP($B21,'Équipes 1er cycle'!$A$7:$F$106,2,FALSE) -> #N/A | D21: =VLOOKUP($B21,'Équipes 1er cycle'!$A$7:$F$106,3,FALSE) -> #N/A | E21: =VLOOKUP($B21,'Équipes 1er cycle'!$A$7:$F$106,4,FALSE) -> #N/A | G21: =IF(F21="X",0,IF(F21="",0,F21)) -> 0 | I21: =IF(H21="X",0,IF(H21="",0,H21)) -> 0 | J21: =$G21+$I21 -> 0 | K21: =VLOOKUP($B21,'Équipes 1er cycle'!$A$7:$F$106,6,FALSE) -> #N/A | M21: =IFERROR((85*$J21/J8+$K21)+IF(L21="",0,1/L21/1000),0) -> 0
A22: =M22 -> 0 | B22: ='Équipes 1er cycle'!A20 -> 0 | C22: =VLOOKUP($B22,'Équipes 1er cycle'!$A$7:$F$106,2,FALSE) -> #N/A | D22: =VLOOKUP($B22,'Équipes 1er cycle'!$A$7:$F$106,3,FALSE) -> #N/A | E22: =VLOOKUP($B22,'Équipes 1er cycle'!$A$7:$F$106,4,FALSE) -> #N/A | G22: =IF(F22="X",0,IF(F22="",0,F22)) -> 0 | I22: =IF(H22="X",0,IF(H22="",0,H22)) -> 0 | J22: =$G22+$I22 -> 0 | K22: =VLOOKUP($B22,'Équipes 1er cycle'!$A$7:$F$106,6,FALSE) -> #N/A | M22: =IFERROR((85*$J22/J8+$K22)+IF(L22="",0,1/L22/1000),0) -> 0
A23: =M23 -> 0 | B23: ='Équipes 1er cycle'!A21 -> 0 | C23: =VLOOKUP($B23,'Équipes 1er cycle'!$A$7:$F$106,2,FALSE) -> #N/A | D23: =VLOOKUP($B23,'Équipes 1er cycle'!$A$7:$F$106,3,FALSE) -> #N/A | E23: =VLOOKUP($B23,'Équipes 1er cycle'!$A$7:$F$106,4,FALSE) -> #N/A | G23: =IF(F23="X",0,IF(F23="",0,F23)) -> 0 | I23: =IF(H23="X",0,IF(H23="",0,H23)) -> 0 | J23: =$G23+$I23 -> 0 | K23: =VLOOKUP($B23,'Équipes 1er cycle'!$A$7:$F$106,6,FALSE) -> #N/A | M23: =IFERROR((85*$J23/J8+$K23)+IF(L23="",0,1/L23/1000),0) -> 0
A24: =M24 -> 0 | B24: ='Équipes 1er cycle'!A22 -> 0 | C24: =VLOOKUP($B24,'Équipes 1er cycle'!$A$7:$F$106,2,FALSE) -> #N/A | D24: =VLOOKUP($B24,'Équipes 1er cycle'!$A$7:$F$106,3,FALSE) -> #N/A | E24: =VLOOKUP($B24,'Équipes 1er cycle'!$A$7:$F$106,4,FALSE) -> #N/A | G24: =IF(F24="X",0,IF(F24="",0,F24)) -> 0 | I24: =IF(H24="X",0,IF(H24="",0,H24)) -> 0 | J24: =$G24+$I24 -> 0 | K24: =VLOOKUP($B24,'Équipes 1er cycle'!$A$7:$F$106,6,FALSE) -> #N/A | M24: =IFERROR((85*$J24/J8+$K24)+IF(L24="",0,1/L24/1000),0) -> 0
A25: =M25 -> 0 | B25: ='Équipes 1er cycle'!A23 -> 0 | C25: =VLOOKUP($B25,'Équipes 1er cycle'!$A$7:$F$106,2,FALSE) -> #N/A | D25: =VLOOKUP($B25,'Équipes 1er cycle'!$A$7:$F$106,3,FALSE) -> #N/A | E25: =VLOOKUP($B25,'Équipes 1er cycle'!$A$7:$F$106,4,FALSE) -> #N/A | G25: =IF(F25="X",0,IF(F25="",0,F25)) -> 0 | I25: =IF(H25="X",0,IF(H25="",0,H25)) -> 0 | J25: =$G25+$I25 -> 0 | K25: =VLOOKUP($B25,'Équipes 1er cycle'!$A$7:$F$106,6,FALSE) -> #N/A | M25: =IFERROR((85*$J25/J8+$K25)+IF(L25="",0,1/L25/1000),0) -> 0
A26: =M26 -> 0 | B26: ='Équipes 1er cycle'!A24 -> 0 | C26: =VLOOKUP($B26,'Équipes 1er cycle'!$A$7:$F$106,2,FALSE) -> #N/A | D26: =VLOOKUP($B26,'Équipes 1er cycle'!$A$7:$F$106,3,FALSE) -> #N/A | E26: =VLOOKUP($B26,'Équipes 1er cycle'!$A$7:$F$106,4,FALSE) -> #N/A | G26: =IF(F26="X",0,IF(F26="",0,F26)) -> 0 | I26: =IF(H26="X",0,IF(H26="",0,H26)) -> 0 | J26: =$G26+$I26 -> 0 | K26: =VLOOKUP($B26,'Équipes 1er cycle'!$A$7:$F$106,6,FALSE) -> #N/A | M26: =IFERROR((85*$J26/J8+$K26)+IF(L26="",0,1/L26/1000),0) -> 0
A27: =M27 -> 0 | B27: ='Équipes 1er cycle'!A25 -> 0 | C27: =VLOOKUP($B27,'Équipes 1er cycle'!$A$7:$F$106,2,FALSE) -> #N/A | D27: =VLOOKUP($B27,'Équipes 1er cycle'!$A$7:$F$106,3,FALSE) -> #N/A | E27: =VLOOKUP($B27,'Équipes 1er cycle'!$A$7:$F$106,4,FALSE) -> #N/A | G27: =IF(F27="X",0,IF(F27="",0,F27)) -> 0 | I27: =IF(H27="X",0,IF(H27="",0,H27)) -> 0 | J27: =$G27+$I27 -> 0 | K27: =VLOOKUP($B27,'Équipes 1er cycle'!$A$7:$F$106,6,FALSE) -> #N/A | M27: =IFERROR((85*$J27/J8+$K27)+IF(L27="",0,1/L27/1000),0) -> 0
A28: =M28 -> 0 | B28: ='Équipes 1er cycle'!A26 -> 0 | C28: =VLOOKUP($B28,'Équipes 1er cycle'!$A$7:$F$106,2,FALSE) -> #N/A | D28: =VLOOKUP($B28,'Équipes 1er cycle'!$A$7:$F$106,3,FALSE) -> #N/A | E28: =VLOOKUP($B28,'Équipes 1er cycle'!$A$7:$F$106,4,FALSE) -> #N/A | G28: =IF(F28="X",0,IF(F28="",0,F28)) -> 0 | I28: =IF(H28="X",0,IF(H28="",0,H28)) -> 0 | J28: =$G28+$I28 -> 0 | K28: =VLOOKUP($B28,'Équipes 1er cycle'!$A$7:$F$106,6,FALSE) -> #N/A | M28: =IFERROR((85*$J28/J8+$K28)+IF(L28="",0,1/L28/1000),0) -> 0
A29: =M29 -> 0 | B29: ='Équipes 1er cycle'!A27 -> 0 | C29: =VLOOKUP($B29,'Équipes 1er cycle'!$A$7:$F$106,2,FALSE) -> #N/A | D29: =VLOOKUP($B29,'Équipes 1er cycle'!$A$7:$F$106,3,FALSE) -> #N/A | E29: =VLOOKUP($B29,'Équipes 1er cycle'!$A$7:$F$106,4,FALSE) -> #N/A | G29: =IF(F29="X",0,IF(F29="",0,F29)) -> 0 | I29: =IF(H29="X",0,IF(H29="",0,H29)) -> 0 | J29: =$G29+$I29 -> 0 | K29: =VLOOKUP($B29,'Équipes 1er cycle'!$A$7:$F$106,6,FALSE) -> #N/A | M29: =IFERROR((85*$J29/J8+$K29)+IF(L29="",0,1/L29/1000),0) -> 0
A30: =M30 -> 0 | B30: ='Équipes 1er cycle'!A28 -> 0 | C30: =VLOOKUP($B30,'Équipes 1er cycle'!$A$7:$F$106,2,FALSE) -> #N/A | D30: =VLOOKUP($B30,'Équipes 1er cycle'!$A$7:$F$106,3,FALSE) -> #N/A | E30: =VLOOKUP($B30,'Équipes 1er cycle'!$A$7:$F$106,4,FALSE) -> #N/A | G30: =IF(F30="X",0,IF(F30="",0,F30)) -> 0 | I30: =IF(H30="X",0,IF(H30="",0,H30)) -> 0 | J30: =$G30+$I30 -> 0 | K30: =VLOOKUP($B30,'Équipes 1er cycle'!$A$7:$F$106,6,FALSE) -> #N/A | M30: =IFERROR((85*$J30/J8+$K30)+IF(L30="",0,1/L30/1000),0) -> 0
A31: =M31 -> 0 | B31: ='Équipes 1er cycle'!A29 -> 0 | C31: =VLOOKUP($B31,'Équipes 1er cycle'!$A$7:$F$106,2,FALSE) -> #N/A | D31: =VLOOKUP($B31,'Équipes 1er cycle'!$A$7:$F$106,3,FALSE) -> #N/A | E31: =VLOOKUP($B31,'Équipes 1er cycle'!$A$7:$F$106,4,FALSE) -> #N/A | G31: =IF(F31="X",0,IF(F31="",0,F31)) -> 0 | I31: =IF(H31="X",0,IF(H31="",0,H31)) -> 0 | J31: =$G31+$I31 -> 0 | K31: =VLOOKUP($B31,'Équipes 1er cycle'!$A$7:$F$106,6,FALSE) -> #N/A | M31: =IFERROR((85*$J31/J8+$K31)+IF(L31="",0,1/L31/1000),0) -> 0
A32: =M32 -> 0 | B32: ='Équipes 1er cycle'!A30 -> 0 | C32: =VLOOKUP($B32,'Équipes 1er cycle'!$A$7:$F$106,2,FALSE) -> #N/A | D32: =VLOOKUP($B32,'Équipes 1er cycle'!$A$7:$F$106,3,FALSE) -> #N/A | E32: =VLOOKUP($B32,'Équipes 1er cycle'!$A$7:$F$106,4,FALSE) -> #N/A | G32: =IF(F32="X",0,IF(F32="",0,F32)) -> 0 | I32: =IF(H32="X",0,IF(H32="",0,H32)) -> 0 | J32: =$G32+$I32 -> 0 | K32: =VLOOKUP($B32,'Équipes 1er cycle'!$A$7:$F$106,6,FALSE) -> #N/A | M32: =IFERROR((85*$J32/J8+$K32)+IF(L32="",0,1/L32/1000),0) -> 0
A33: =M33 -> 0 | B33: ='Équipes 1er cycle'!A31 -> 0 | C33: =VLOOKUP($B33,'Équipes 1er cycle'!$A$7:$F$106,2,FALSE) -> #N/A | D33: =VLOOKUP($B33,'Équipes 1er cycle'!$A$7:$F$106,3,FALSE) -> #N/A | E33: =VLOOKUP($B33,'Équipes 1er cycle'!$A$7:$F$106,4,FALSE) -> #N/A | G33: =IF(F33="X",0,IF(F33="",0,F33)) -> 0 | I33: =IF(H33="X",0,IF(H33="",0,H33)) -> 0 | J33: =$G33+$I33 -> 0 | K33: =VLOOKUP($B33,'Équipes 1er cycle'!$A$7:$F$106,6,FALSE) -> #N/A | M33: =IFERROR((85*$J33/J8+$K33)+IF(L33="",0,1/L33/1000),0) -> 0
A34: =M34 -> 0 | B34: ='Équipes 1er cycle'!A32 -> 0 | C34: =VLOOKUP($B34,'Équipes 1er cycle'!$A$7:$F$106,2,FALSE) -> #N/A | D34: =VLOOKUP($B34,'Équipes 1er cycle'!$A$7:$F$106,3,FALSE) -> #N/A | E34: =VLOOKUP($B34,'Équipes 1er cycle'!$A$7:$F$106,4,FALSE) -> #N/A | G34: =IF(F34="X",0,IF(F34="",0,F34)) -> 0 | I34: =IF(H34="X",0,IF(H34="",0,H34)) -> 0 | J34: =$G34+$I34 -> 0 | K34: =VLOOKUP($B34,'Équipes 1er cycle'!$A$7:$F$106,6,FALSE) -> #N/A | M34: =IFERROR((85*$J34/J8+$K34)+IF(L34="",0,1/L34/1000),0) -> 0
A35: =M35 -> 0 | B35: ='Équipes 1er cycle'!A33 -> 0 | C35: =VLOOKUP($B35,'Équipes 1er cycle'!$A$7:$F$106,2,FALSE) -> #N/A | D35: =VLOOKUP($B35,'Équipes 1er cycle'!$A$7:$F$106,3,FALSE) -> #N/A | E35: =VLOOKUP($B35,'Équipes 1er cycle'!$A$7:$F$106,4,FALSE) -> #N/A | G35: =IF(F35="X",0,IF(F35="",0,F35)) -> 0 | I35: =IF(H35="X",0,IF(H35="",0,H35)) -> 0 | J35: =$G35+$I35 -> 0 | K35: =VLOOKUP($B35,'Équipes 1er cycle'!$A$7:$F$106,6,FALSE) -> #N/A | M35: =IFERROR((85*$J35/J8+$K35)+IF(L35="",0,1/L35/1000),0) -> 0
A36: =M36 -> 0 | B36: ='Équipes 1er cycle'!A34 -> 0 | C36: =VLOOKUP($B36,'Équipes 1er cycle'!$A$7:$F$106,2,FALSE) -> #N/A | D36: =VLOOKUP($B36,'Équipes 1er cycle'!$A$7:$F$106,3,FALSE) -> #N/A | E36: =VLOOKUP($B36,'Équipes 1er cycle'!$A$7:$F$106,4,FALSE) -> #N/A | G36: =IF(F36="X",0,IF(F36="",0,F36)) -> 0 | I36: =IF(H36="X",0,IF(H36="",0,H36)) -> 0 | J36: =$G36+$I36 -> 0 | K36: =VLOOKUP($B36,'Équipes 1er cycle'!$A$7:$F$106,6,FALSE) -> #N/A | M36: =IFERROR((85*$J36/J8+$K36)+IF(L36="",0,1/L36/1000),0) -> 0
A37: =M37 -> 0 | B37: ='Équipes 1er cycle'!A35 -> 0 | C37: =VLOOKUP($B37,'Équipes 1er cycle'!$A$7:$F$106,2,FALSE) -> #N/A | D37: =VLOOKUP($B37,'Équipes 1er cycle'!$A$7:$F$106,3,FALSE) -> #N/A | E37: =VLOOKUP($B37,'Équipes 1er cycle'!$A$7:$F$106,4,FALSE) -> #N/A | G37: =IF(F37="X",0,IF(F37="",0,F37)) -> 0 | I37: =IF(H37="X",0,IF(H37="",0,H37)) -> 0 | J37: =$G37+$I37 -> 0 | K37: =VLOOKUP($B37,'Équipes 1er cycle'!$A$7:$F$106,6,FALSE) -> #N/A | M37: =IFERROR((85*$J37/J8+$K37)+IF(L37="",0,1/L37/1000),0) -> 0
A38: =M38 -> 0 | B38: ='Équipes 1er cycle'!A36 -> 0 | C38: =VLOOKUP($B38,'Équipes 1er cycle'!$A$7:$F$106,2,FALSE) -> #N/A | D38: =VLOOKUP($B38,'Équipes 1er cycle'!$A$7:$F$106,3,FALSE) -> #N/A | E38: =VLOOKUP($B38,'Équipes 1er cycle'!$A$7:$F$106,4,FALSE) -> #N/A | G38: =IF(F38="X",0,IF(F38="",0,F38)) -> 0 | I38: =IF(H38="X",0,IF(H38="",0,H38)) -> 0 | J38: =$G38+$I38 -> 0 | K38: =VLOOKUP($B38,'Équipes 1er cycle'!$A$7:$F$106,6,FALSE) -> #N/A | M38: =IFERROR((85*$J38/J8+$K38)+IF(L38="",0,1/L38/1000),0) -> 0
B39: ='Équipes 1er cycle'!A37 -> 0 | C39: =VLOOKUP($B39,'Équipes 1er cycle'!$A$7:$F$106,2,FALSE) -> #N/A | D39: =VLOOKUP($B39,'Équipes 1er cycle'!$A$7:$F$106,3,FALSE) -> #N/A | E39: =VLOOKUP($B39,'Équipes 1er cycle'!$A$7:$F$106,4,FALSE) -> #N/A | G39: =IF(F39="X",0,IF(F39="",0,F39)) -> 0 | I39: =IF(H39="X",0,IF(H39="",0,H39)) -> 0 | J39: =$G39+$I39 -> 0 | K39: =VLOOKUP($B39,'Équipes 1er cycle'!$A$7:$F$106,6,FALSE) -> #N/A | M39: =IFERROR((85*$J39/J8+$K39)+IF(L39="",0,1/L39/1000),0) -> 0
B40: ='Équipes 1er cycle'!A38 -> 0 | C40: =VLOOKUP($B40,'Équipes 1er cycle'!$A$7:$F$106,2,FALSE) -> #N/A | D40: =VLOOKUP($B40,'Équipes 1er cycle'!$A$7:$F$106,3,FALSE) -> #N/A | E40: =VLOOKUP($B40,'Équipes 1er cycle'!$A$7:$F$106,4,FALSE) -> #N/A | G40: =IF(F40="X",0,IF(F40="",0,F40)) -> 0 | I40: =IF(H40="X",0,IF(H40="",0,H40)) -> 0 | J40: =$G40+$I40 -> 0 | K40: =VLOOKUP($B40,'Équipes 1er cycle'!$A$7:$F$106,6,FALSE) -> #N/A | M40: =IFERROR((85*$J40/J8+$K40)+IF(L40="",0,1/L40/1000),0) -> 0
B41: ='Équipes 1er cycle'!A39 -> 0 | C41: =VLOOKUP($B41,'Équipes 1er cycle'!$A$7:$F$106,2,FALSE) -> #N/A | D41: =VLOOKUP($B41,'Équipes 1er cycle'!$A$7:$F$106,3,FALSE) -> #N/A | E41: =VLOOKUP($B41,'Équipes 1er cycle'!$A$7:$F$106,4,FALSE) -> #N/A | G41: =IF(F41="X",0,IF(F41="",0,F41)) -> 0 | I41: =IF(H41="X",0,IF(H41="",0,H41)) -> 0 | J41: =$G41+$I41 -> 0 | K41: =VLOOKUP($B41,'Équipes 1er cycle'!$A$7:$F$106,6,FALSE) -> #N/A | M41: =IFERROR((85*$J41/J8+$K41)+IF(L41="",0,1/L41/1000),0) -> 0
B42: ='Équipes 1er cycle'!A40 -> 0 | C42: =VLOOKUP($B42,'Équipes 1er cycle'!$A$7:$F$106,2,FALSE) -> #N/A | D42: =VLOOKUP($B42,'Équipes 1er cycle'!$A$7:$F$106,3,FALSE) -> #N/A | E42: =VLOOKUP($B42,'Équipes 1er cycle'!$A$7:$F$106,4,FALSE) -> #N/A | G42: =IF(F42="X",0,IF(F42="",0,F42)) -> 0 | I42: =IF(H42="X",0,IF(H42="",0,H42)) -> 0 | J42: =$G42+$I42 -> 0 | K42: =VLOOKUP($B42,'Équipes 1er cycle'!$A$7:$F$106,6,FALSE) -> #N/A | M42: =IFERROR((85*$J42/J8+$K42)+IF(L42="",0,1/L42/1000),0) -> 0
...

Sheet Résultats préliminaires 1er cy.
B1: Résultats préliminaires
B2: 1er cycle
B4: Ne tiennent pas compte des notes des rapports écrits.
B5: Équipe | C5: Participants | D5: Prototype | E5: École | F5: Pointage préliminaire
B6: ='Pointage 1er cycle'!B9 -> 0 | C6: =VLOOKUP($B6,'Pointage 1er cycle'!$B$9:$M$97,2,FALSE) -> #N/A | D6: =VLOOKUP($B6,'Pointage 1er cycle'!$B$9:$M$97,3,FALSE) -> #N/A | E6: =VLOOKUP($B6,'Pointage 1er cycle'!$B$9:$M$97,4,FALSE) -> #N/A | F6: =VLOOKUP($B6,'Pointage 1er cycle'!$B$9:$M$108,9,FALSE) -> 0
B7: ='Pointage 1er cycle'!B10 -> 0 | C7: =VLOOKUP($B7,'Pointage 1er cycle'!$B$9:$M$97,2,FALSE) -> #N/A | D7: =VLOOKUP($B7,'Pointage 1er cycle'!$B$9:$M$97,3,FALSE) -> #N/A | E7: =VLOOKUP($B7,'Pointage 1er cycle'!$B$9:$M$97,4,FALSE) -> #N/A | F7: =VLOOKUP($B7,'Pointage 1er cycle'!$B$9:$M$108,9,FALSE) -> 0
B8: ='Pointage 1er cycle'!B11 -> 0 | C8: =VLOOKUP($B8,'Pointage 1er cycle'!$B$9:$M$97,2,FALSE) -> #N/A | D8: =VLOOKUP($B8,'Pointage 1er cycle'!$B$9:$M$97,3,FALSE) -> #N/A | E8: =VLOOKUP($B8,'Pointage 1er cycle'!$B$9:$M$97,4,FALSE) -> #N/A | F8: =VLOOKUP($B8,'Pointage 1er cycle'!$B$9:$M$108,9,FALSE) -> 0
B9: ='Pointage 1er cycle'!B12 -> 0 | C9: =VLOOKUP($B9,'Pointage 1er cycle'!$B$9:$M$97,2,FALSE) -> #N/A | D9: =VLOOKUP($B9,'Pointage 1er cycle'!$B$9:$M$97,3,FALSE) -> #N/A | E9: =VLOOKUP($B9,'Pointage 1er cycle'!$B$9:$M$97,4,FALSE) -> #N/A | F9: =VLOOKUP($B9,'Pointage 1er cycle'!$B$9:$M$108,9,FALSE) -> 0
B10: ='Pointage 1er cycle'!B13 -> 0 | C10: =VLOOKUP($B10,'Pointage 1er cycle'!$B$9:$M$97,2,FALSE) -> #N/A | D10: =VLOOKUP($B10,'Pointage 1er cycle'!$B$9:$M$97,3,FALSE) -> #N/A | E10: =VLOOKUP($B10,'Pointage 1er cycle'!$B$9:$M$97,4,FALSE) -> #N/A | F10: =VLOOKUP($B10,'Pointage 1er cycle'!$B$9:$M$108,9,FALSE) -> 0
B11: ='Pointage 1er cycle'!B14 -> 0 | C11: =VLOOKUP($B11,'Pointage 1er cycle'!$B$9:$M$97,2,FALSE) -> #N/A | D11: =VLOOKUP($B11,'Pointage 1er cycle'!$B$9:$M$97,3,FALSE) -> #N/A | E11: =VLOOKUP($B11,'Pointage 1er cycle'!$B$9:$M$97,4,FALSE) -> #N/A | F11: =VLOOKUP($B11,'Pointage 1er cycle'!$B$9:$M$108,9,FALSE) -> 0
B12: ='Pointage 1er cycle'!B15 -> 0 | C12: =VLOOKUP($B12,'Pointage 1er cycle'!$B$9:$M$97,2,FALSE) -> #N/A | D12: =VLOOKUP($B12,'Pointage 1er cycle'!$B$9:$M$97,3,FALSE) -> #N/A | E12: =VLOOKUP($B12,'Pointage 1er cycle'!$B$9:$M$97,4,FALSE) -> #N/A | F12: =VLOOKUP($B12,'Pointage 1er cycle'!$B$9:$M$108,9,FALSE) -> 0
B13: ='Pointage 1er cycle'!B16 -> 0 | C13: =VLOOKUP($B13,'Pointage 1er cycle'!$B$9:$M$97,2,FALSE) -> #N/A | D13: =VLOOKUP($B13,'Pointage 1er cycle'!$B$9:$M$97,3,FALSE) -> #N/A | E13: =VLOOKUP($B13,'Pointage 1er cycle'!$B$9:$M$97,4,FALSE) -> #N/A | F13: =VLOOKUP($B13,'Pointage 1er cycle'!$B$9:$M$108,9,FALSE) -> 0
B14: ='Pointage 1er cycle'!B17 -> 0 | C14: =VLOOKUP($B14,'Pointage 1er cycle'!$B$9:$M$97,2,FALSE) -> #N/A | D14: =VLOOKUP($B14,'Pointage 1er cycle'!$B$9:$M$97,3,FALSE) -> #N/A | E14: =VLOOKUP($B14,'Pointage 1er cycle'!$B$9:$M$97,4,FALSE) -> #N/A | F14: =VLOOKUP($B14,'Pointage 1er cycle'!$B$9:$M$108,9,FALSE) -> 0
B15: ='Pointage 1er cycle'!B18 -> 0 | C15: =VLOOKUP($B15,'Pointage 1er cycle'!$B$9:$M$97,2,FALSE) -> #N/A | D15: =VLOOKUP($B15,'Pointage 1er cycle'!$B$9:$M$97,3,FALSE) -> #N/A | E15: =VLOOKUP($B15,'Pointage 1er cycle'!$B$9:$M$97,4,FALSE) -> #N/A | F15: =VLOOKUP($B15,'Pointage 1er cycle'!$B$9:$M$108,9,FALSE) -> 0
B16: ='Pointage 1er cycle'!B19 -> 0 | C16: =VLOOKUP($B16,'Pointage 1er cycle'!$B$9:$M$97,2,FALSE) -> #N/A | D16: =VLOOKUP($B16,'Pointage 1er cycle'!$B$9:$M$97,3,FALSE) -> #N/A | E16: =VLOOKUP($B16,'Pointage 1er cycle'!$B$9:$M$97,4,FALSE) -> #N/A | F16: =VLOOKUP($B16,'Pointage 1er cycle'!$B$9:$M$108,9,FALSE) -> 0
B17: ='Pointage 1er cycle'!B20 -> 0 | C17: =VLOOKUP($B17,'Pointage 1er cycle'!$B$9:$M$97,2,FALSE) -> #N/A | D17: =VLOOKUP($B17,'Pointage 1er cycle'!$B$9:$M$97,3,FALSE) -> #N/A | E17: =VLOOKUP($B17,'Pointage 1er cycle'!$B$9:$M$97,4,FALSE) -> #N/A | F17: =VLOOKUP($B17,'Pointage 1er cycle'!$B$9:$M$108,9,FALSE) -> 0
... B105: ='Pointage 1er cycle'!B108 -> 0 | C105: =VLOOKUP($B105,'Pointage 1er cycle'!$B$9:$M$97,2,FALSE) -> #N/A | D105: =VLOOKUP($B105,'Pointage 1er cycle'!$B$9:$M$97,3,FALSE) -> #N/A | E105: =VLOOKUP($B105,'Pointage 1er cycle'!$B$9:$M$97,4,FALSE) -> #N/A | F105: =VLOOKUP($B105,'Pointage 1er cycle'!$B$9:$M$108,9,FALSE) -> 0

Sheet Classement 1er cycle
B1: Classement final
B2: 1er cycle
B4: Classement | C4: Équipe | D4: Nom | E4: Prototype | F4: École | G4: Pointage
B5: 1 | C5: =VLOOKUP(G5,'Pointage 1er cycle'!$A$9:$M$108,2,FALSE) -> 0 | D5: =VLOOKUP($C5,'Équipes 1er cycle'!$A$7:$D$100,2,FALSE) -> #N/A | E5: =VLOOKUP($C5,'Équipes 1er cycle'!$A$7:$D$108,3,FALSE) -> #N/A | F5: =VLOOKUP($C5,'Équipes 1er cycle'!$A$7:$D$100,4,FALSE) -> #N/A | G5: =LARGE('Pointage 1er cycle'!$M$9:$M$108,B5) -> 0
B6: 2 | C6: =VLOOKUP(G6,'Pointage 1er cycle'!$A$9:$M$108,2,FALSE) -> 0 | D6: =VLOOKUP($C6,'Équipes 1er cycle'!$A$7:$D$100,2,FALSE) -> #N/A | E6: =VLOOKUP($C6,'Équipes 1er cycle'!$A$7:$D$108,3,FALSE) -> #N/A | F6: =VLOOKUP($C6,'Équipes 1er cycle'!$A$7:$D$100,4,FALSE) -> #N/A | G6: =LARGE('Pointage 1er cycle'!$M$9:$M$108,B6) -> 0
B7: 3 | C7: =VLOOKUP(G7,'Pointage 1er cycle'!$A$9:$M$108,2,FALSE) -> 0 | D7: =VLOOKUP($C7,'Équipes 1er cycle'!$A$7:$D$100,2,FALSE) -> #N/A | E7: =VLOOKUP($C7,'Équipes 1er cycle'!$A$7:$D$108,3,FALSE) -> #N/A | F7: =VLOOKUP($C7,'Équipes 1er cycle'!$A$7:$D$100,4,FALSE) -> #N/A | G7: =LARGE('Pointage 1er cycle'!$M$9:$M$108,B7) -> 0
B8: 4 | C8: =VLOOKUP(G8,'Pointage 1er cycle'!$A$9:$M$108,2,FALSE) -> 0 | D8: =VLOOKUP($C8,'Équipes 1er cycle'!$A$7:$D$100,2,FALSE) -> #N/A | E8: =VLOOKUP($C8,'Équipes 1er cycle'!$A$7:$D$108,3,FALSE) -> #N/A | F8: =VLOOKUP($C8,'Équipes 1er cycle'!$A$7:$D$100,4,FALSE) -> #N/A | G8: =LARGE('Pointage 1er cycle'!$M$9:$M$108,B8) -> 0
B9: 5 | C9: =VLOOKUP(G9,'Pointage 1er cycle'!$A$9:$M$108,2,FALSE) -> 0 | D9: =VLOOKUP($C9,'Équipes 1er cycle'!$A$7:$D$100,2,FALSE) -> #N/A | E9: =VLOOKUP($C9,'Équipes 1er cycle'!$A$7:$D$108,3,FALSE) -> #N/A | F9: =VLOOKUP($C9,'Équipes 1er cycle'!$A$7:$D$100,4,FALSE) -> #N/A | G9: =LARGE('Pointage 1er cycle'!$M$9:$M$108,B9) -> 0
B10: 6 | C10: =VLOOKUP(G10,'Pointage 1er cycle'!$A$9:$M$108,2,FALSE) -> 0 | D10: =VLOOKUP($C10,'Équipes 1er cycle'!$A$7:$D$100,2,FALSE) -> #N/A | E10: =VLOOKUP($C10,'Équipes 1er cycle'!$A$7:$D$108,3,FALSE) -> #N/A | F10: =VLOOKUP($C10,'Équipes 1er cycle'!$A$7:$D$100,4,FALSE) -> #N/A | G10: =LARGE('Pointage 1er cycle'!$M$9:$M$108,B10) -> 0
B11: 7 | C11: =VLOOKUP(G11,'Pointage 1er cycle'!$A$9:$M$108,2,FALSE) -> 0 | D11: =VLOOKUP($C11,'Équipes 1er cycle'!$A$7:$D$100,2,FALSE) -> #N/A | E11: =VLOOKUP($C11,'Équipes 1er cycle'!$A$7:$D$108,3,FALSE) -> #N/A | F11: =VLOOKUP($C11,'Équipes 1er cycle'!$A$7:$D$100,4,FALSE) -> #N/A | G11: =LARGE('Pointage 1er cycle'!$M$9:$M$108,B11) -> 0
B12: 8 | C12: =VLOOKUP(G12,'Pointage 1er cycle'!$A$9:$M$108,2,FALSE) -> 0 | D12: =VLOOKUP($C12,'Équipes 1er cycle'!$A$7:$D$100,2,FALSE) -> #N/A | E12: =VLOOKUP($C12,'Équipes 1er cycle'!$A$7:$D$108,3,FALSE) -> #N/A | F12: =VLOOKUP($C12,'Équipes 1er cycle'!$A$7:$D$100,4,FALSE) -> #N/A | G12: =LARGE('Pointage 1er cycle'!$M$9:$M$108,B12) -> 0
B13: 9 | C13: =VLOOKUP(G13,'Pointage 1er cycle'!$A$9:$M$108,2,FALSE) -> 0 | D13: =VLOOKUP($C13,'Équipes 1er cycle'!$A$7:$D$100,2,FALSE) -> #N/A | E13: =VLOOKUP($C13,'Équipes 1er cycle'!$A$7:$D$108,3,FALSE) -> #N/A | F13: =VLOOKUP($C13,'Équipes 1er cycle'!$A$7:$D$100,4,FALSE) -> #N/A | G13: =LARGE('Pointage 1er cycle'!$M$9:$M$108,B13) -> 0
B14: 10 | C14: =VLOOKUP(G14,'Pointage 1er cycle'!$A$9:$M$108,2,FALSE) -> 0 | D14: =VLOOKUP($C14,'Équipes 1er cycle'!$A$7:$D$100,2,FALSE) -> #N/A | E14: =VLOOKUP($C14,'Équipes 1er cycle'!$A$7:$D$108,3,FALSE) -> #N/A | F14: =VLOOKUP($C14,'Équipes 1er cycle'!$A$7:$D$100,4,FALSE) -> #N/A | G14: =LARGE('Pointage 1er cycle'!$M$9:$M$108,B14) -> 0
B15: 11 | C15: =VLOOKUP(G15,'Pointage 1er cycle'!$A$9:$M$108,2,FALSE) -> 0 | D15: =VLOOKUP($C15,'Équipes 1er cycle'!$A$7:$D$100,2,FALSE) -> #N/A | E15: =VLOOKUP($C15,'Équipes 1er cycle'!$A$7:$D$108,3,FALSE) -> #N/A | F15: =VLOOKUP($C15,'Équipes 1er cycle'!$A$7:$D$100,4,FALSE) -> #N/A | G15: =LARGE('Pointage 1er cycle'!$M$9:$M$108,B15) -> 0
B16: 12 | C16: =VLOOKUP(G16,'Pointage 1er cycle'!$A$9:$M$108,2,FALSE) -> 0 | D16: =VLOOKUP($C16,'Équipes 1er cycle'!$A$7:$D$100,2,FALSE) -> #N/A | E16: =VLOOKUP($C16,'Équipes 1er cycle'!$A$7:$D$108,3,FALSE) -> #N/A | F16: =VLOOKUP($C16,'Équipes 1er cycle'!$A$7:$D$100,4,FALSE) -> #N/A | G16: =LARGE('Pointage 1er cycle'!$M$9:$M$108,B16) -> 0
... B54: 50 | C54: =VLOOKUP(G54,'Pointage 1er cycle'!$A$9:$M$108,2,FALSE) -> 0 | D54: =VLOOKUP($C54,'Équipes 1er cycle'!$A$7:$D$100,2,FALSE) -> #N/A | E54: =VLOOKUP($C54,'Équipes 1er cycle'!$A$7:$D$108,3,FALSE) -> #N/A | F54: =VLOOKUP($C54,'Équipes 1er cycle'!$A$7:$D$100,4,FALSE) -> #N/A | G54: =LARGE('Pointage 1er cycle'!$M$9:$M$108,B54) -> 0
B55: 51 | C55: =VLOOKUP(G55,'Pointage 1er cycle'!$A$9:$M$108,2,FALSE) -> 0 | E55: =VLOOKUP($C55,'Équipes 1er cycle'!$A$7:$D$108,3,FALSE) -> #N/A | G55: =LARGE('Pointage 1er cycle'!$M$9:$M$108,B55) -> 0
B56: 52 | C56: =VLOOKUP(G56,'Pointage 1er cycle'!$A$9:$M$108,2,FALSE) -> 0 | E56: =VLOOKUP($C56,'Équipes 1er cycle'!$A$7:$D$108,3,FALSE) -> #N/A | G56: =LARGE('Pointage 1er cycle'!$M$9:$M$108,B56) -> 0
B57: 53 | C57: =VLOOKUP(G57,'Pointage 1er cycle'!$A$9:$M$108,2,FALSE) -> 0 | E57: =VLOOKUP($C57,'Équipes 1er cycle'!$A$7:$D$108,3,FALSE) -> #N/A | G57: =LARGE('Pointage 1er cycle'!$M$9:$M$108,B57) -> 0
B58: 54 | C58: =VLOOKUP(G58,'Pointage 1er cycle'!$A$9:$M$108,2,FALSE) -> 0 | E58: =VLOOKUP($C58,'Équipes 1er cycle'!$A$7:$D$108,3,FALSE) -> #N/A | G58: =LARGE('Pointage 1er cycle'!$M$9:$M$108,B58) -> 0
B59: 55 | C59: =VLOOKUP(G59,'Pointage 1er cycle'!$A$9:$M$108,2,FALSE) -> 0 | E59: =VLOOKUP($C59,'Équipes 1er cycle'!$A$7:$D$108,3,FALSE) -> #N/A | G59: =LARGE('Pointage 1er cycle'!$M$9:$M$108,B59) -> 0
B60: 56 | C60: =VLOOKUP(G60,'Pointage 1er cycle'!$A$9:$M$108,2,FALSE) -> 0 | E60: =VLOOKUP($C60,'Équipes 1er cycle'!$A$7:$D$108,3,FALSE) -> #N/A | G60: =LARGE('Pointage 1er cycle'!$M$9:$M$108,B60) -> 0
B61: 57 | C61: =VLOOKUP(G61,'Pointage 1er cycle'!$A$9:$M$108,2,FALSE) -> 0 | E61: =VLOOKUP($C61,'Équipes 1er cycle'!$A$7:$D$108,3,FALSE) -> #N/A | G61: =LARGE('Pointage 1er cycle'!$M$9:$M$108,B61) -> 0
B62: 58 | C62: =VLOOKUP(G62,'Pointage 1er cycle'!$A$9:$M$108,2,FALSE) -> 0 | E62: =VLOOKUP($C62,'Équipes 1er cycle'!$A$7:$D$108,3,FALSE) -> #N/A | G62: =LARGE('Pointage 1er cycle'!$M$9:$M$108,B62) -> 0
B63: 59 | C63: =VLOOKUP(G63,'Pointage 1er cycle'!$A$9:$M$108,2,FALSE) -> 0 | E63: =VLOOKUP($C63,'Équipes 1er cycle'!$A$7:$D$108,3,FALSE) -> #N/A | G63: =LARGE('Pointage 1er cycle'!$M$9:$M$108,B63) -> 0
B64: 60 | C64: =VLOOKUP(G64,'Pointage 1er cycle'!$A$9:$M$108,2,FALSE) -> 0 | E64: =VLOOKUP($C64,'Équipes 1er cycle'!$A$7:$D$108,3,FALSE) -> #N/A | G64: =LARGE('Pointage 1er cycle'!$M$9:$M$108,B64) -> 0
B65: 61 | C65: =VLOOKUP(G65,'Pointage 1er cycle'!$A$9:$M$108,2,FALSE) -> 0 | E65: =VLOOKUP($C65,'Équipes 1er cycle'!$A$7:$D$108,3,FALSE) -> #N/A | G65: =LARGE('Pointage 1er cycle'!$M$9:$M$108,B65) -> 0
B66: 62 | C66: =VLOOKUP(G66,'Pointage 1er cycle'!$A$9:$M$108,2,FALSE) -> 0 | E66: =VLOOKUP($C66,'Équipes 1er cycle'!$A$7:$D$108,3,FALSE) -> #N/A | G66: =LARGE('Pointage 1er cycle'!$M$9:$M$108,B66) -> 0
... B104: 100 | C104: =VLOOKUP(G104,'Pointage 1er cycle'!$A$9:$M$108,2,FALSE) -> 0 | E104: =VLOOKUP($C104,'Équipes 1er cycle'!$A$7:$D$108,3,FALSE) -> #N/A | G104: =LARGE('Pointage 1er cycle'!$M$9:$M$108,B104) -> 0

Sheet Équipes 2e cycle
A1: Résultats des rapports écrits
A2: 2e cycle
A4: No d'équipe | B4: Participant·e·s | C4: Prototype | D4: École | E4: Note du rapport écrit
E5: /100 | F5: /15
A6: 1 | B6: Léo & Florence | C6: La licorne magique | D6: Polyvalente | E6: 75 | F6: =E6*15/100 -> 11.25
F7: =ROUND(E7*15/100,2) -> 0
F8: =ROUND(E8*15/100,2) -> 0
F9: =ROUND(E9*15/100,2) -> 0
F10: =ROUND(E10*15/100,2) -> 0
F11: =ROUND(E11*15/100,2) -> 0
F12: =ROUND(E12*15/100,2) -> 0
F13: =ROUND(E13*15/100,2) -> 0
F14: =ROUND(E14*15/100,2) -> 0
F15: =ROUND(E15*15/100,2) -> 0
F16: =ROUND(E16*15/100,2) -> 0
F17: =ROUND(E17*15/100,2) -> 0
F18: =ROUND(E18*15/100,2) -> 0
... F106: =ROUND(E106*15/100,2) -> 0

Sheet Pointage 2e cycle
B2: Édition 2025-2026
B3: TIRE LA CHAÎNE!
B4: Nom de l'école
B5: 2e cycle
A7: GRAND TOTAL | B7: No d'équipe | C7: Participant·e·s | D7: Prototype | E7: École | F7: Manche 1 | H7: Manche 2 | J7: m1 + m2 | K7: Rapport écrit | L7: Classement des ex-aequo | M7: GRAND TOTAL
F8: d1 (cm) "X" si l'équipe n'a pas réussi à installer son prototype en moins de 30 secondes ou si la chaîne dépasse le prototype. | G8: m1 | H8: d2 (cm) "X" si l'équipe n'a pas réussi à installer son prototype en moins de 30 secondes ou si la chaîne dépasse le prototype. | I8: m2 | J8: =MAX($J$9:$J$108) -> 0 | K8: R /15
A9: =M9 -> 0 | B9: ='Équipes 2e cycle'!A7 -> 0 | C9: =VLOOKUP($B9,'Équipes 2e cycle'!$A$7:$F$106,2,FALSE) -> #N/A | D9: =VLOOKUP($B9,'Équipes 2e cycle'!$A$7:$F$106,3,FALSE) -> #N/A | E9: =VLOOKUP($B9,'Équipes 2e cycle'!$A$7:$F$106,4,FALSE) -> #N/A | G9: =IF(F9="X",0,IF(F9="",0,F9)) -> 0 | I9: =IF(H9="X",0,IF(H9="",0,H9)) -> 0 | J9: =$G9+$I9 -> 0 | K9: =VLOOKUP($B9,'Équipes 2e cycle'!$A$7:$F$106,6,FALSE) -> #N/A | M9: =IFERROR((85*$J9/J8+$K9)+IF(L9="",0,1/L9/1000),0) -> 0
A10: =M10 -> 0 | B10: ='Équipes 2e cycle'!A8 -> 0 | C10: =VLOOKUP($B10,'Équipes 2e cycle'!$A$7:$F$106,2,FALSE) -> #N/A | D10: =VLOOKUP($B10,'Équipes 2e cycle'!$A$7:$F$106,3,FALSE) -> #N/A | E10: =VLOOKUP($B10,'Équipes 2e cycle'!$A$7:$F$106,4,FALSE) -> #N/A | G10: =IF(F10="X",0,IF(F10="",0,F10)) -> 0 | I10: =IF(H10="X",0,IF(H10="",0,H10)) -> 0 | J10: =$G10+$I10 -> 0 | K10: =VLOOKUP($B10,'Équipes 2e cycle'!$A$7:$F$106,6,FALSE) -> #N/A | M10: =IFERROR((85*$J10/J8+$K10)+IF(L10="",0,1/L10/1000),0) -> 0
A11: =M11 -> 0 | B11: ='Équipes 2e cycle'!A9 -> 0 | C11: =VLOOKUP($B11,'Équipes 2e cycle'!$A$7:$F$106,2,FALSE) -> #N/A | D11: =VLOOKUP($B11,'Équipes 2e cycle'!$A$7:$F$106,3,FALSE) -> #N/A | E11: =VLOOKUP($B11,'Équipes 2e cycle'!$A$7:$F$106,4,FALSE) -> #N/A | G11: =IF(F11="X",0,IF(F11="",0,F11)) -> 0 | I11: =IF(H11="X",0,IF(H11="",0,H11)) -> 0 | J11: =$G11+$I11 -> 0 | K11: =VLOOKUP($B11,'Équipes 2e cycle'!$A$7:$F$106,6,FALSE) -> #N/A | M11: =IFERROR((85*$J11/J8+$K11)+IF(L11="",0,1/L11/1000),0) -> 0
A12: =M12 -> 0 | B12: ='Équipes 2e cycle'!A10 -> 0 | C12: =VLOOKUP($B12,'Équipes 2e cycle'!$A$7:$F$106,2,FALSE) -> #N/A | D12: =VLOOKUP($B12,'Équipes 2e cycle'!$A$7:$F$106,3,FALSE) -> #N/A | E12: =VLOOKUP($B12,'Équipes 2e cycle'!$A$7:$F$106,4,FALSE) -> #N/A | G12: =IF(F12="X",0,IF(F12="",0,F12)) -> 0 | I12: =IF(H12="X",0,IF(H12="",0,H12)) -> 0 | J12: =$G12+$I12 -> 0 | K12: =VLOOKUP($B12,'Équipes 2e cycle'!$A$7:$F$106,6,FALSE) -> #N/A | M12: =IFERROR((85*$J12/J8+$K12)+IF(L12="",0,1/L12/1000),0) -> 0
A13: =M13 -> 0 | B13: ='Équipes 2e cycle'!A11 -> 0 | C13: =VLOOKUP($B13,'Équipes 2e cycle'!$A$7:$F$106,2,FALSE) -> #N/A | D13: =VLOOKUP($B13,'Équipes 2e cycle'!$A$7:$F$106,3,FALSE) -> #N/A | E13: =VLOOKUP($B13,'Équipes 2e cycle'!$A$7:$F$106,4,FALSE) -> #N/A | G13: =IF(F13="X",0,IF(F13="",0,F13)) -> 0 | I13: =IF(H13="X",0,IF(H13="",0,H13)) -> 0 | J13: =$G13+$I13 -> 0 | K13: =VLOOKUP($B13,'Équipes 2e cycle'!$A$7:$F$106,6,FALSE) -> #N/A | M13: =IFERROR((85*$J13/J8+$K13)+IF(L13="",0,1/L13/1000),0) -> 0
A14: =M14 -> 0 | B14: ='Équipes 2e cycle'!A12 -> 0 | C14: =VLOOKUP($B14,'Équipes 2e cycle'!$A$7:$F$106,2,FALSE) -> #N/A | D14: =VLOOKUP($B14,'Équipes 2e cycle'!$A$7:$F$106,3,FALSE) -> #N/A | E14: =VLOOKUP($B14,'Équipes 2e cycle'!$A$7:$F$106,4,FALSE) -> #N/A | G14: =IF(F14="X",0,IF(F14="",0,F14)) -> 0 | I14: =IF(H14="X",0,IF(H14="",0,H14)) -> 0 | J14: =$G14+$I14 -> 0 | K14: =VLOOKUP($B14,'Équipes 2e cycle'!$A$7:$F$106,6,FALSE) -> #N/A | M14: =IFERROR((85*$J14/J8+$K14)+IF(L14="",0,1/L14/1000),0) -> 0
A15: =M15 -> 0 | B15: ='Équipes 2e cycle'!A13 -> 0 | C15: =VLOOKUP($B15,'Équipes 2e cycle'!$A$7:$F$106,2,FALSE) -> #N/A | D15: =VLOOKUP($B15,'Équipes 2e cycle'!$A$7:$F$106,3,FALSE) -> #N/A | E15: =VLOOKUP($B15,'Équipes 2e cycle'!$A$7:$F$106,4,FALSE) -> #N/A | G15: =IF(F15="X",0,IF(F15="",0,F15)) -> 0 | I15: =IF(H15="X",0,IF(H15="",0,H15)) -> 0 | J15: =$G15+$I15 -> 0 | K15: =VLOOKUP($B15,'Équipes 2e cycle'!$A$7:$F$106,6,FALSE) -> #N/A | M15: =IFERROR((85*$J15/J8+$K15)+IF(L15="",0,1/L15/1000),0) -> 0
A16: =M16 -> 0 | B16: ='Équipes 2e cycle'!A14 -> 0 | C16: =VLOOKUP($B16,'Équipes 2e cycle'!$A$7:$F$106,2,FALSE) -> #N/A | D16: =VLOOKUP($B16,'Équipes 2e cycle'!$A$7:$F$106,3,FALSE) -> #N/A | E16: =VLOOKUP($B16,'Équipes 2e cycle'!$A$7:$F$106,4,FALSE) -> #N/A | G16: =IF(F16="X",0,IF(F16="",0,F16)) -> 0 | I16: =IF(H16="X",0,IF(H16="",0,H16)) -> 0 | J16: =$G16+$I16 -> 0 | K16: =VLOOKUP($B16,'Équipes 2e cycle'!$A$7:$F$106,6,FALSE) -> #N/A | M16: =IFERROR((85*$J16/J8+$K16)+IF(L16="",0,1/L16/1000),0) -> 0
A17: =M17 -> 0 | B17: ='Équipes 2e cycle'!A15 -> 0 | C17: =VLOOKUP($B17,'Équipes 2e cycle'!$A$7:$F$106,2,FALSE) -> #N/A | D17: =VLOOKUP($B17,'Équipes 2e cycle'!$A$7:$F$106,3,FALSE) -> #N/A | E17: =VLOOKUP($B17,'Équipes 2e cycle'!$A$7:$F$106,4,FALSE) -> #N/A | G17: =IF(F17="X",0,IF(F17="",0,F17)) -> 0 | I17: =IF(H17="X",0,IF(H17="",0,H17)) -> 0 | J17: =$G17+$I17 -> 0 | K17: =VLOOKUP($B17,'Équipes 2e cycle'!$A$7:$F$106,6,FALSE) -> #N/A | M17: =IFERROR((85*$J17/J8+$K17)+IF(L17="",0,1/L17/1000),0) -> 0
A18: =M18 -> 0 | B18: ='Équipes 2e cycle'!A16 -> 0 | C18: =VLOOKUP($B18,'Équipes 2e cycle'!$A$7:$F$106,2,FALSE) -> #N/A | D18: =VLOOKUP($B18,'Équipes 2e cycle'!$A$7:$F$106,3,FALSE) -> #N/A | E18: =VLOOKUP($B18,'Équipes 2e cycle'!$A$7:$F$106,4,FALSE) -> #N/A | G18: =IF(F18="X",0,IF(F18="",0,F18)) -> 0 | I18: =IF(H18="X",0,IF(H18="",0,H18)) -> 0 | J18: =$G18+$I18 -> 0 | K18: =VLOOKUP($B18,'Équipes 2e cycle'!$A$7:$F$106,6,FALSE) -> #N/A | M18: =IFERROR((85*$J18/J8+$K18)+IF(L18="",0,1/L18/1000),0) -> 0
A19: =M19 -> 0 | B19: ='Équipes 2e cycle'!A17 -> 0 | C19: =VLOOKUP($B19,'Équipes 2e cycle'!$A$7:$F$106,2,FALSE) -> #N/A | D19: =VLOOKUP($B19,'Équipes 2e cycle'!$A$7:$F$106,3,FALSE) -> #N/A | E19: =VLOOKUP($B19,'Équipes 2e cycle'!$A$7:$F$106,4,FALSE) -> #N/A | G19: =IF(F19="X",0,IF(F19="",0,F19)) -> 0 | I19: =IF(H19="X",0,IF(H19="",0,H19)) -> 0 | J19: =$G19+$I19 -> 0 | K19: =VLOOKUP($B19,'Équipes 2e cycle'!$A$7:$F$106,6,FALSE) -> #N/A | M19: =IFERROR((85*$J19/J8+$K19)+IF(L19="",0,1/L19/1000),0) -> 0
A20: =M20 -> 0 | B20: ='Équipes 2e cycle'!A18 -> 0 | C20: =VLOOKUP($B20,'Équipes 2e cycle'!$A$7:$F$106,2,FALSE) -> #N/A | D20: =VLOOKUP($B20,'Équipes 2e cycle'!$A$7:$F$106,3,FALSE) -> #N/A | E20: =VLOOKUP($B20,'Équipes 2e cycle'!$A$7:$F$106,4,FALSE) -> #N/A | G20: =IF(F20="X",0,IF(F20="",0,F20)) -> 0 | I20: =IF(H20="X",0,IF(H20="",0,H20)) -> 0 | J20: =$G20+$I20 -> 0 | K20: =VLOOKUP($B20,'Équipes 2e cycle'!$A$7:$F$106,6,FALSE) -> #N/A | M20: =IFERROR((85*$J20/J8+$K20)+IF(L20="",0,1/L20/1000),0) -> 0
A21: =M21 -> 0 | B21: ='Équipes 2e cycle'!A19 -> 0 | C21: =VLOOKUP($B21,'Équipes 2e cycle'!$A$7:$F$106,2,FALSE) -> #N/A | D21: =VLOOKUP($B21,'Équipes 2e cycle'!$A$7:$F$106,3,FALSE) -> #N/A | E21: =VLOOKUP($B21,'Équipes 2e cycle'!$A$7:$F$106,4,FALSE) -> #N/A | G21: =IF(F21="X",0,IF(F21="",0,F21)) -> 0 | I21: =IF(H21="X",0,IF(H21="",0,H21)) -> 0 | J21: =$G21+$I21 -> 0 | K21: =VLOOKUP($B21,'Équipes 2e cycle'!$A$7:$F$106,6,FALSE) -> #N/A | M21: =IFERROR((85*$J21/J8+$K21)+IF(L21="",0,1/L21/1000),0) -> 0
A22: =M22 -> 0 | B22: ='Équipes 2e cycle'!A20 -> 0 | C22: =VLOOKUP($B22,'Équipes 2e cycle'!$A$7:$F$106,2,FALSE) -> #N/A | D22: =VLOOKUP($B22,'Équipes 2e cycle'!$A$7:$F$106,3,FALSE) -> #N/A | E22: =VLOOKUP($B22,'Équipes 2e cycle'!$A$7:$F$106,4,FALSE) -> #N/A | G22: =IF(F22="X",0,IF(F22="",0,F22)) -> 0 | I22: =IF(H22="X",0,IF(H22="",0,H22)) -> 0 | J22: =$G22+$I22 -> 0 | K22: =VLOOKUP($B22,'Équipes 2e cycle'!$A$7:$F$106,6,FALSE) -> #N/A | M22: =IFERROR((85*$J22/J8+$K22)+IF(L22="",0,1/L22/1000),0) -> 0
A23: =M23 -> 0 | B23: ='Équipes 2e cycle'!A21 -> 0 | C23: =VLOOKUP($B23,'Équipes 2e cycle'!$A$7:$F$106,2,FALSE) -> #N/A | D23: =VLOOKUP($B23,'Équipes 2e cycle'!$A$7:$F$106,3,FALSE) -> #N/A | E23: =VLOOKUP($B23,'Équipes 2e cycle'!$A$7:$F$106,4,FALSE) -> #N/A | G23: =IF(F23="X",0,IF(F23="",0,F23)) -> 0 | I23: =IF(H23="X",0,IF(H23="",0,H23)) -> 0 | J23: =$G23+$I23 -> 0 | K23: =VLOOKUP($B23,'Équipes 2e cycle'!$A$7:$F$106,6,FALSE) -> #N/A | M23: =IFERROR((85*$J23/J8+$K23)+IF(L23="",0,1/L23/1000),0) -> 0
A24: =M24 -> 0 | B24: ='Équipes 2e cycle'!A22 -> 0 | C24: =VLOOKUP($B24,'Équipes 2e cycle'!$A$7:$F$106,2,FALSE) -> #N/A | D24: =VLOOKUP($B24,'Équipes 2e cycle'!$A$7:$F$106,3,FALSE) -> #N/A | E24: =VLOOKUP($B24,'Équipes 2e cycle'!$A$7:$F$106,4,FALSE) -> #N/A | G24: =IF(F24="X",0,IF(F24="",0,F24)) -> 0 | I24: =IF(H24="X",0,IF(H24="",0,H24)) -> 0 | J24: =$G24+$I24 -> 0 | K24: =VLOOKUP($B24,'Équipes 2e cycle'!$A$7:$F$106,6,FALSE) -> #N/A | M24: =IFERROR((85*$J24/J8+$K24)+IF(L24="",0,1/L24/1000),0) -> 0
A25: =M25 -> 0 | B25: ='Équipes 2e cycle'!A23 -> 0 | C25: =VLOOKUP($B25,'Équipes 2e cycle'!$A$7:$F$106,2,FALSE) -> #N/A | D25: =VLOOKUP($B25,'Équipes 2e cycle'!$A$7:$F$106,3,FALSE) -> #N/A | E25: =VLOOKUP($B25,'Équipes 2e cycle'!$A$7:$F$106,4,FALSE) -> #N/A | G25: =IF(F25="X",0,IF(F25="",0,F25)) -> 0 | I25: =IF(H25="X",0,IF(H25="",0,H25)) -> 0 | J25: =$G25+$I25 -> 0 | K25: =VLOOKUP($B25,'Équipes 2e cycle'!$A$7:$F$106,6,FALSE) -> #N/A | M25: =IFERROR((85*$J25/J8+$K25)+IF(L25="",0,1/L25/1000),0) -> 0
A26: =M26 -> 0 | B26: ='Équipes 2e cycle'!A24 -> 0 | C26: =VLOOKUP($B26,'Équipes 2e cycle'!$A$7:$F$106,2,FALSE) -> #N/A | D26: =VLOOKUP($B26,'Équipes 2e cycle'!$A$7:$F$106,3,FALSE) -> #N/A | E26: =VLOOKUP($B26,'Équipes 2e cycle'!$A$7:$F$106,4,FALSE) -> #N/A | G26: =IF(F26="X",0,IF(F26="",0,F26)) -> 0 | I26: =IF(H26="X",0,IF(H26="",0,H26)) -> 0 | J26: =$G26+$I26 -> 0 | K26: =VLOOKUP($B26,'Équipes 2e cycle'!$A$7:$F$106,6,FALSE) -> #N/A | M26: =IFERROR((85*$J26/J8+$K26)+IF(L26="",0,1/L26/1000),0) -> 0
A27: =M27 -> 0 | B27: ='Équipes 2e cycle'!A25 -> 0 | C27: =VLOOKUP($B27,'Équipes 2e cycle'!$A$7:$F$106,2,FALSE) -> #N/A | D27: =VLOOKUP($B27,'Équipes 2e cycle'!$A$7:$F$106,3,FALSE) -> #N/A | E27: =VLOOKUP($B27,'Équipes 2e cycle'!$A$7:$F$106,4,FALSE) -> #N/A | G27: =IF(F27="X",0,IF(F27="",0,F27)) -> 0 | I27: =IF(H27="X",0,IF(H27="",0,H27)) -> 0 | J27: =$G27+$I27 -> 0 | K27: =VLOOKUP($B27,'Équipes 2e cycle'!$A$7:$F$106,6,FALSE) -> #N/A | M27: =IFERROR((85*$J27/J8+$K27)+IF(L27="",0,1/L27/1000),0) -> 0
A28: =M28 -> 0 | B28: ='Équipes 2e cycle'!A26 -> 0 | C28: =VLOOKUP($B28,'Équipes 2e cycle'!$A$7:$F$106,2,FALSE) -> #N/A | D28: =VLOOKUP($B28,'Équipes 2e cycle'!$A$7:$F$106,3,FALSE) -> #N/A | E28: =VLOOKUP($B28,'Équipes 2e cycle'!$A$7:$F$106,4,FALSE) -> #N/A | G28: =IF(F28="X",0,IF(F28="",0,F28)) -> 0 | I28: =IF(H28="X",0,IF(H28="",0,H28)) -> 0 | J28: =$G28+$I28 -> 0 | K28: =VLOOKUP($B28,'Équipes 2e cycle'!$A$7:$F$106,6,FALSE) -> #N/A | M28: =IFERROR((85*$J28/J8+$K28)+IF(L28="",0,1/L28/1000),0) -> 0
A29: =M29 -> 0 | B29: ='Équipes 2e cycle'!A27 -> 0 | C29: =VLOOKUP($B29,'Équipes 2e cycle'!$A$7:$F$106,2,FALSE) -> #N/A | D29: =VLOOKUP($B29,'Équipes 2e cycle'!$A$7:$F$106,3,FALSE) -> #N/A | E29: =VLOOKUP($B29,'Équipes 2e cycle'!$A$7:$F$106,4,FALSE) -> #N/A | G29: =IF(F29="X",0,IF(F29="",0,F29)) -> 0 | I29: =IF(H29="X",0,IF(H29="",0,H29)) -> 0 | J29: =$G29+$I29 -> 0 | K29: =VLOOKUP($B29,'Équipes 2e cycle'!$A$7:$F$106,6,FALSE) -> #N/A | M29: =IFERROR((85*$J29/J8+$K29)+IF(L29="",0,1/L29/1000),0) -> 0
A30: =M30 -> 0 | B30: ='Équipes 2e cycle'!A28 -> 0 | C30: =VLOOKUP($B30,'Équipes 2e cycle'!$A$7:$F$106,2,FALSE) -> #N/A | D30: =VLOOKUP($B30,'Équipes 2e cycle'!$A$7:$F$106,3,FALSE) -> #N/A | E30: =VLOOKUP($B30,'Équipes 2e cycle'!$A$7:$F$106,4,FALSE) -> #N/A | G30: =IF(F30="X",0,IF(F30="",0,F30)) -> 0 | I30: =IF(H30="X",0,IF(H30="",0,H30)) -> 0 | J30: =$G30+$I30 -> 0 | K30: =VLOOKUP($B30,'Équipes 2e cycle'!$A$7:$F$106,6,FALSE) -> #N/A | M30: =IFERROR((85*$J30/J8+$K30)+IF(L30="",0,1/L30/1000),0) -> 0
A31: =M31 -> 0 | B31: ='Équipes 2e cycle'!A29 -> 0 | C31: =VLOOKUP($B31,'Équipes 2e cycle'!$A$7:$F$106,2,FALSE) -> #N/A | D31: =VLOOKUP($B31,'Équipes 2e cycle'!$A$7:$F$106,3,FALSE) -> #N/A | E31: =VLOOKUP($B31,'Équipes 2e cycle'!$A$7:$F$106,4,FALSE) -> #N/A | G31: =IF(F31="X",0,IF(F31="",0,F31)) -> 0 | I31: =IF(H31="X",0,IF(H31="",0,H31)) -> 0 | J31: =$G31+$I31 -> 0 | K31: =VLOOKUP($B31,'Équipes 2e cycle'!$A$7:$F$106,6,FALSE) -> #N/A | M31: =IFERROR((85*$J31/J8+$K31)+IF(L31="",0,1/L31/1000),0) -> 0
A32: =M32 -> 0 | B32: ='Équipes 2e cycle'!A30 -> 0 | C32: =VLOOKUP($B32,'Équipes 2e cycle'!$A$7:$F$106,2,FALSE) -> #N/A | D32: =VLOOKUP($B32,'Équipes 2e cycle'!$A$7:$F$106,3,FALSE) -> #N/A | E32: =VLOOKUP($B32,'Équipes 2e cycle'!$A$7:$F$106,4,FALSE) -> #N/A | G32: =IF(F32="X",0,IF(F32="",0,F32)) -> 0 | I32: =IF(H32="X",0,IF(H32="",0,H32)) -> 0 | J32: =$G32+$I32 -> 0 | K32: =VLOOKUP($B32,'Équipes 2e cycle'!$A$7:$F$106,6,FALSE) -> #N/A | M32: =IFERROR((85*$J32/J8+$K32)+IF(L32="",0,1/L32/1000),0) -> 0
A33: =M33 -> 0 | B33: ='Équipes 2e cycle'!A31 -> 0 | C33: =VLOOKUP($B33,'Équipes 2e cycle'!$A$7:$F$106,2,FALSE) -> #N/A | D33: =VLOOKUP($B33,'Équipes 2e cycle'!$A$7:$F$106,3,FALSE) -> #N/A | E33: =VLOOKUP($B33,'Équipes 2e cycle'!$A$7:$F$106,4,FALSE) -> #N/A | G33: =IF(F33="X",0,IF(F33="",0,F33)) -> 0 | I33: =IF(H33="X",0,IF(H33="",0,H33)) -> 0 | J33: =$G33+$I33 -> 0 | K33: =VLOOKUP($B33,'Équipes 2e cycle'!$A$7:$F$106,6,FALSE) -> #N/A | M33: =IFERROR((85*$J33/J8+$K33)+IF(L33="",0,1/L33/1000),0) -> 0
A34: =M34 -> 0 | B34: ='Équipes 2e cycle'!A32 -> 0 | C34: =VLOOKUP($B34,'Équipes 2e cycle'!$A$7:$F$106,2,FALSE) -> #N/A | D34: =VLOOKUP($B34,'Équipes 2e cycle'!$A$7:$F$106,3,FALSE) -> #N/A | E34: =VLOOKUP($B34,'Équipes 2e cycle'!$A$7:$F$106,4,FALSE) -> #N/A | G34: =IF(F34="X",0,IF(F34="",0,F34)) -> 0 | I34: =IF(H34="X",0,IF(H34="",0,H34)) -> 0 | J34: =$G34+$I34 -> 0 | K34: =VLOOKUP($B34,'Équipes 2e cycle'!$A$7:$F$106,6,FALSE) -> #N/A | M34: =IFERROR((85*$J34/J8+$K34)+IF(L34="",0,1/L34/1000),0) -> 0
A35: =M35 -> 0 | B35: ='Équipes 2e cycle'!A33 -> 0 | C35: =VLOOKUP($B35,'Équipes 2e cycle'!$A$7:$F$106,2,FALSE) -> #N/A | D35: =VLOOKUP($B35,'Équipes 2e cycle'!$A$7:$F$106,3,FALSE) -> #N/A | E35: =VLOOKUP($B35,'Équipes 2e cycle'!$A$7:$F$106,4,FALSE) -> #N/A | G35: =IF(F35="X",0,IF(F35="",0,F35)) -> 0 | I35: =IF(H35="X",0,IF(H35="",0,H35)) -> 0 | J35: =$G35+$I35 -> 0 | K35: =VLOOKUP($B35,'Équipes 2e cycle'!$A$7:$F$106,6,FALSE) -> #N/A | M35: =IFERROR((85*$J35/J8+$K35)+IF(L35="",0,1/L35/1000),0) -> 0
A36: =M36 -> 0 | B36: ='Équipes 2e cycle'!A34 -> 0 | C36: =VLOOKUP($B36,'Équipes 2e cycle'!$A$7:$F$106,2,FALSE) -> #N/A | D36: =VLOOKUP($B36,'Équipes 2e cycle'!$A$7:$F$106,3,FALSE) -> #N/A | E36: =VLOOKUP($B36,'Équipes 2e cycle'!$A$7:$F$106,4,FALSE) -> #N/A | G36: =IF(F36="X",0,IF(F36="",0,F36)) -> 0 | I36: =IF(H36="X",0,IF(H36="",0,H36)) -> 0 | J36: =$G36+$I36 -> 0 | K36: =VLOOKUP($B36,'Équipes 2e cycle'!$A$7:$F$106,6,FALSE) -> #N/A | M36: =IFERROR((85*$J36/J8+$K36)+IF(L36="",0,1/L36/1000),0) -> 0
A37: =M37 -> 0 | B37: ='Équipes 2e cycle'!A35 -> 0 | C37: =VLOOKUP($B37,'Équipes 2e cycle'!$A$7:$F$106,2,FALSE) -> #N/A | D37: =VLOOKUP($B37,'Équipes 2e cycle'!$A$7:$F$106,3,FALSE) -> #N/A | E37: =VLOOKUP($B37,'Équipes 2e cycle'!$A$7:$F$106,4,FALSE) -> #N/A | G37: =IF(F37="X",0,IF(F37="",0,F37)) -> 0 | I37: =IF(H37="X",0,IF(H37="",0,H37)) -> 0 | J37: =$G37+$I37 -> 0 | K37: =VLOOKUP($B37,'Équipes 2e cycle'!$A$7:$F$106,6,FALSE) -> #N/A | M37: =IFERROR((85*$J37/J8+$K37)+IF(L37="",0,1/L37/1000),0) -> 0
A38: =M38 -> 0 | B38: ='Équipes 2e cycle'!A36 -> 0 | C38: =VLOOKUP($B38,'Équipes 2e cycle'!$A$7:$F$106,2,FALSE) -> #N/A | D38: =VLOOKUP($B38,'Équipes 2e cycle'!$A$7:$F$106,3,FALSE) -> #N/A | E38: =VLOOKUP($B38,'Équipes 2e cycle'!$A$7:$F$106,4,FALSE) -> #N/A | G38: =IF(F38="X",0,IF(F38="",0,F38)) -> 0 | I38: =IF(H38="X",0,IF(H38="",0,H38)) -> 0 | J38: =$G38+$I38 -> 0 | K38: =VLOOKUP($B38,'Équipes 2e cycle'!$A$7:$F$106,6,FALSE) -> #N/A | M38: =IFERROR((85*$J38/J8+$K38)+IF(L38="",0,1/L38/1000),0) -> 0
B39: ='Équipes 2e cycle'!A37 -> 0 | C39: =VLOOKUP($B39,'Équipes 2e cycle'!$A$7:$F$106,2,FALSE) -> #N/A | D39: =VLOOKUP($B39,'Équipes 2e cycle'!$A$7:$F$106,3,FALSE) -> #N/A | E39: =VLOOKUP($B39,'Équipes 2e cycle'!$A$7:$F$106,4,FALSE) -> #N/A | G39: =IF(F39="X",0,IF(F39="",0,F39)) -> 0 | I39: =IF(H39="X",0,IF(H39="",0,H39)) -> 0 | J39: =$G39+$I39 -> 0 | K39: =VLOOKUP($B39,'Équipes 2e cycle'!$A$7:$F$106,6,FALSE) -> #N/A | M39: =IFERROR((85*$J39/J8+$K39)+IF(L39="",0,1/L39/1000),0) -> 0
B40: ='Équipes 2e cycle'!A38 -> 0 | C40: =VLOOKUP($B40,'Équipes 2e cycle'!$A$7:$F$106,2,FALSE) -> #N/A | D40: =VLOOKUP($B40,'Équipes 2e cycle'!$A$7:$F$106,3,FALSE) -> #N/A | E40: =VLOOKUP($B40,'Équipes 2e cycle'!$A$7:$F$106,4,FALSE) -> #N/A | G40: =IF(F40="X",0,IF(F40="",0,F40)) -> 0 | I40: =IF(H40="X",0,IF(H40="",0,H40)) -> 0 | J40: =$G40+$I40 -> 0 | K40: =VLOOKUP($B40,'Équipes 2e cycle'!$A$7:$F$106,6,FALSE) -> #N/A | M40: =IFERROR((85*$J40/J8+$K40)+IF(L40="",0,1/L40/1000),0) -> 0
B41: ='Équipes 2e cycle'!A39 -> 0 | C41: =VLOOKUP($B41,'Équipes 2e cycle'!$A$7:$F$106,2,FALSE) -> #N/A | D41: =VLOOKUP($B41,'Équipes 2e cycle'!$A$7:$F$106,3,FALSE) -> #N/A | E41: =VLOOKUP($B41,'Équipes 2e cycle'!$A$7:$F$106,4,FALSE) -> #N/A | G41: =IF(F41="X",0,IF(F41="",0,F41)) -> 0 | I41: =IF(H41="X",0,IF(H41="",0,H41)) -> 0 | J41: =$G41+$I41 -> 0 | K41: =VLOOKUP($B41,'Équipes 2e cycle'!$A$7:$F$106,6,FALSE) -> #N/A | M41: =IFERROR((85*$J41/J8+$K41)+IF(L41="",0,1/L41/1000),0) -> 0
B42: ='Équipes 2e cycle'!A40 -> 0 | C42: =VLOOKUP($B42,'Équipes 2e cycle'!$A$7:$F$106,2,FALSE) -> #N/A | D42: =VLOOKUP($B42,'Équipes 2e cycle'!$A$7:$F$106,3,FALSE) -> #N/A | E42: =VLOOKUP($B42,'Équipes 2e cycle'!$A$7:$F$106,4,FALSE) -> #N/A | G42: =IF(F42="X",0,IF(F42="",0,F42)) -> 0 | I42: =IF(H42="X",0,IF(H42="",0,H42)) -> 0 | J42: =$G42+$I42 -> 0 | K42: =VLOOKUP($B42,'Équipes 2e cycle'!$A$7:$F$106,6,FALSE) -> #N/A | M42: =IFERROR((85*$J42/J8+$K42)+IF(L42="",0,1/L42/1000),0) -> 0
...

Sheet Résultats préliminaires 2e cy.
B1: Résultats préliminaires
B2: 2e cycle
B4: Ne tiennent pas compte des notes des rapports écrits.
B5: Équipe | C5: Participants | D5: Prototype | E5: École | F5: Pointage préliminaire
B6: ='Pointage 2e cycle'!B9 -> 0 | C6: =VLOOKUP($B6,'Pointage 1er cycle'!$B$9:$M$97,2,FALSE) -> #N/A | D6: =VLOOKUP($B6,'Pointage 2e cycle'!$B$9:$M$97,3,FALSE) -> #N/A | E6: =VLOOKUP($B6,'Pointage 1er cycle'!$B$9:$M$97,4,FALSE) -> #N/A | F6: =VLOOKUP($B6,'Pointage 2e cycle'!$B$9:$M$108,9,FALSE) -> 0
B7: ='Pointage 2e cycle'!B10 -> 0 | C7: =VLOOKUP($B7,'Pointage 1er cycle'!$B$9:$M$97,2,FALSE) -> #N/A | D7: =VLOOKUP($B7,'Pointage 2e cycle'!$B$9:$M$97,3,FALSE) -> #N/A | E7: =VLOOKUP($B7,'Pointage 1er cycle'!$B$9:$M$97,4,FALSE) -> #N/A | F7: =VLOOKUP($B7,'Pointage 2e cycle'!$B$9:$M$108,9,FALSE) -> 0
B8: ='Pointage 2e cycle'!B11 -> 0 | C8: =VLOOKUP($B8,'Pointage 1er cycle'!$B$9:$M$97,2,FALSE) -> #N/A | D8: =VLOOKUP($B8,'Pointage 2e cycle'!$B$9:$M$97,3,FALSE) -> #N/A | E8: =VLOOKUP($B8,'Pointage 1er cycle'!$B$9:$M$97,4,FALSE) -> #N/A | F8: =VLOOKUP($B8,'Pointage 2e cycle'!$B$9:$M$108,9,FALSE) -> 0
B9: ='Pointage 2e cycle'!B12 -> 0 | C9: =VLOOKUP($B9,'Pointage 1er cycle'!$B$9:$M$97,2,FALSE) -> #N/A | D9: =VLOOKUP($B9,'Pointage 2e cycle'!$B$9:$M$97,3,FALSE) -> #N/A | E9: =VLOOKUP($B9,'Pointage 1er cycle'!$B$9:$M$97,4,FALSE) -> #N/A | F9: =VLOOKUP($B9,'Pointage 2e cycle'!$B$9:$M$108,9,FALSE) -> 0
B10: ='Pointage 2e cycle'!B13 -> 0 | C10: =VLOOKUP($B10,'Pointage 1er cycle'!$B$9:$M$97,2,FALSE) -> #N/A | D10: =VLOOKUP($B10,'Pointage 2e cycle'!$B$9:$M$97,3,FALSE) -> #N/A | E10: =VLOOKUP($B10,'Pointage 1er cycle'!$B$9:$M$97,4,FALSE) -> #N/A | F10: =VLOOKUP($B10,'Pointage 2e cycle'!$B$9:$M$108,9,FALSE) -> 0
B11: ='Pointage 2e cycle'!B14 -> 0 | C11: =VLOOKUP($B11,'Pointage 1er cycle'!$B$9:$M$97,2,FALSE) -> #N/A | D11: =VLOOKUP($B11,'Pointage 2e cycle'!$B$9:$M$97,3,FALSE) -> #N/A | E11: =VLOOKUP($B11,'Pointage 1er cycle'!$B$9:$M$97,4,FALSE) -> #N/A | F11: =VLOOKUP($B11,'Pointage 2e cycle'!$B$9:$M$108,9,FALSE) -> 0
B12: ='Pointage 2e cycle'!B15 -> 0 | C12: =VLOOKUP($B12,'Pointage 1er cycle'!$B$9:$M$97,2,FALSE) -> #N/A | D12: =VLOOKUP($B12,'Pointage 2e cycle'!$B$9:$M$97,3,FALSE) -> #N/A | E12: =VLOOKUP($B12,'Pointage 1er cycle'!$B$9:$M$97,4,FALSE) -> #N/A | F12: =VLOOKUP($B12,'Pointage 2e cycle'!$B$9:$M$108,9,FALSE) -> 0
B13: ='Pointage 2e cycle'!B16 -> 0 | C13: =VLOOKUP($B13,'Pointage 1er cycle'!$B$9:$M$97,2,FALSE) -> #N/A | D13: =VLOOKUP($B13,'Pointage 2e cycle'!$B$9:$M$97,3,FALSE) -> #N/A | E13: =VLOOKUP($B13,'Pointage 1er cycle'!$B$9:$M$97,4,FALSE) -> #N/A | F13: =VLOOKUP($B13,'Pointage 2e cycle'!$B$9:$M$108,9,FALSE) -> 0
B14: ='Pointage 2e cycle'!B17 -> 0 | C14: =VLOOKUP($B14,'Pointage 1er cycle'!$B$9:$M$97,2,FALSE) -> #N/A | D14: =VLOOKUP($B14,'Pointage 2e cycle'!$B$9:$M$97,3,FALSE) -> #N/A | E14: =VLOOKUP($B14,'Pointage 1er cycle'!$B$9:$M$97,4,FALSE) -> #N/A | F14: =VLOOKUP($B14,'Pointage 2e cycle'!$B$9:$M$108,9,FALSE) -> 0
B15: ='Pointage 2e cycle'!B18 -> 0 | C15: =VLOOKUP($B15,'Pointage 1er cycle'!$B$9:$M$97,2,FALSE) -> #N/A | D15: =VLOOKUP($B15,'Pointage 2e cycle'!$B$9:$M$97,3,FALSE) -> #N/A | E15: =VLOOKUP($B15,'Pointage 1er cycle'!$B$9:$M$97,4,FALSE) -> #N/A | F15: =VLOOKUP($B15,'Pointage 2e cycle'!$B$9:$M$108,9,FALSE) -> 0
B16: ='Pointage 2e cycle'!B19 -> 0 | C16: =VLOOKUP($B16,'Pointage 1er cycle'!$B$9:$M$97,2,FALSE) -> #N/A | D16: =VLOOKUP($B16,'Pointage 2e cycle'!$B$9:$M$97,3,FALSE) -> #N/A | E16: =VLOOKUP($B16,'Pointage 1er cycle'!$B$9:$M$97,4,FALSE) -> #N/A | F16: =VLOOKUP($B16,'Pointage 2e cycle'!$B$9:$M$108,9,FALSE) -> 0
B17: ='Pointage 2e cycle'!B20 -> 0 | C17: =VLOOKUP($B17,'Pointage 1er cycle'!$B$9:$M$97,2,FALSE) -> #N/A | D17: =VLOOKUP($B17,'Pointage 2e cycle'!$B$9:$M$97,3,FALSE) -> #N/A | E17: =VLOOKUP($B17,'Pointage 1er cycle'!$B$9:$M$97,4,FALSE) -> #N/A | F17: =VLOOKUP($B17,'Pointage 2e cycle'!$B$9:$M$108,9,FALSE) -> 0
... B105: ='Pointage 2e cycle'!B108 -> 0 | C105: =VLOOKUP($B105,'Pointage 1er cycle'!$B$9:$M$97,2,FALSE) -> #N/A | D105: =VLOOKUP($B105,'Pointage 2e cycle'!$B$9:$M$97,3,FALSE) -> #N/A | E105: =VLOOKUP($B105,'Pointage 1er cycle'!$B$9:$M$97,4,FALSE) -> #N/A | F105: =VLOOKUP($B105,'Pointage 2e cycle'!$B$9:$M$108,9,FALSE) -> 0

Sheet Classement 2e cycle
B1: Classement final
B2: 2e cycle
B4: Classement | C4: Équipe | D4: Nom | E4: Prototype | F4: École | G4: Pointage
B5: 1 | C5: =VLOOKUP(G5,'Pointage 2e cycle'!$A$9:$M$108,2,FALSE) -> 0 | D5: =VLOOKUP($C5,'Équipes 1er cycle'!$A$7:$D$100,2,FALSE) -> #N/A | E5: =VLOOKUP($C5,'Équipes 2e cycle'!$A$7:$D$108,3,FALSE) -> #N/A | F5: =VLOOKUP($C5,'Équipes 1er cycle'!$A$7:$D$100,4,FALSE) -> #N/A | G5: =LARGE('Pointage 2e cycle'!$M$9:$M$108,B5) -> 0
B6: 2 | C6: =VLOOKUP(G6,'Pointage 2e cycle'!$A$9:$M$108,2,FALSE) -> 0 | D6: =VLOOKUP($C6,'Équipes 1er cycle'!$A$7:$D$100,2,FALSE) -> #N/A | E6: =VLOOKUP($C6,'Équipes 2e cycle'!$A$7:$D$108,3,FALSE) -> #N/A | F6: =VLOOKUP($C6,'Équipes 1er cycle'!$A$7:$D$100,4,FALSE) -> #N/A | G6: =LARGE('Pointage 2e cycle'!$M$9:$M$108,B6) -> 0
B7: 3 | C7: =VLOOKUP(G7,'Pointage 2e cycle'!$A$9:$M$108,2,FALSE) -> 0 | D7: =VLOOKUP($C7,'Équipes 1er cycle'!$A$7:$D$100,2,FALSE) -> #N/A | E7: =VLOOKUP($C7,'Équipes 2e cycle'!$A$7:$D$108,3,FALSE) -> #N/A | F7: =VLOOKUP($C7,'Équipes 1er cycle'!$A$7:$D$100,4,FALSE) -> #N/A | G7: =LARGE('Pointage 2e cycle'!$M$9:$M$108,B7) -> 0
B8: 4 | C8: =VLOOKUP(G8,'Pointage 2e cycle'!$A$9:$M$108,2,FALSE) -> 0 | D8: =VLOOKUP($C8,'Équipes 1er cycle'!$A$7:$D$100,2,FALSE) -> #N/A | E8: =VLOOKUP($C8,'Équipes 2e cycle'!$A$7:$D$108,3,FALSE) -> #N/A | F8: =VLOOKUP($C8,'Équipes 1er cycle'!$A$7:$D$100,4,FALSE) -> #N/A | G8: =LARGE('Pointage 2e cycle'!$M$9:$M$108,B8) -> 0
B9: 5 | C9: =VLOOKUP(G9,'Pointage 2e cycle'!$A$9:$M$108,2,FALSE) -> 0 | D9: =VLOOKUP($C9,'Équipes 1er cycle'!$A$7:$D$100,2,FALSE) -> #N/A | E9: =VLOOKUP($C9,'Équipes 2e cycle'!$A$7:$D$108,3,FALSE) -> #N/A | F9: =VLOOKUP($C9,'Équipes 1er cycle'!$A$7:$D$100,4,FALSE) -> #N/A | G9: =LARGE('Pointage 2e cycle'!$M$9:$M$108,B9) -> 0
B10: 6 | C10: =VLOOKUP(G10,'Pointage 2e cycle'!$A$9:$M$108,2,FALSE) -> 0 | D10: =VLOOKUP($C10,'Équipes 1er cycle'!$A$7:$D$100,2,FALSE) -> #N/A | E10: =VLOOKUP($C10,'Équipes 2e cycle'!$A$7:$D$108,3,FALSE) -> #N/A | F10: =VLOOKUP($C10,'Équipes 1er cycle'!$A$7:$D$100,4,FALSE) -> #N/A | G10: =LARGE('Pointage 2e cycle'!$M$9:$M$108,B10) -> 0
B11: 7 | C11: =VLOOKUP(G11,'Pointage 2e cycle'!$A$9:$M$108,2,FALSE) -> 0 | D11: =VLOOKUP($C11,'Équipes 1er cycle'!$A$7:$D$100,2,FALSE) -> #N/A | E11: =VLOOKUP($C11,'Équipes 2e cycle'!$A$7:$D$108,3,FALSE) -> #N/A | F11: =VLOOKUP($C11,'Équipes 1er cycle'!$A$7:$D$100,4,FALSE) -> #N/A | G11: =LARGE('Pointage 2e cycle'!$M$9:$M$108,B11) -> 0
B12: 8 | C12: =VLOOKUP(G12,'Pointage 2e cycle'!$A$9:$M$108,2,FALSE) -> 0 | D12: =VLOOKUP($C12,'Équipes 1er cycle'!$A$7:$D$100,2,FALSE) -> #N/A | E12: =VLOOKUP($C12,'Équipes 2e cycle'!$A$7:$D$108,3,FALSE) -> #N/A | F12: =VLOOKUP($C12,'Équipes 1er cycle'!$A$7:$D$100,4,FALSE) -> #N/A | G12: =LARGE('Pointage 2e cycle'!$M$9:$M$108,B12) -> 0
B13: 9 | C13: =VLOOKUP(G13,'Pointage 2e cycle'!$A$9:$M$108,2,FALSE) -> 0 | D13: =VLOOKUP($C13,'Équipes 1er cycle'!$A$7:$D$100,2,FALSE) -> #N/A | E13: =VLOOKUP($C13,'Équipes 2e cycle'!$A$7:$D$108,3,FALSE) -> #N/A | F13: =VLOOKUP($C13,'Équipes 1er cycle'!$A$7:$D$100,4,FALSE) -> #N/A | G13: =LARGE('Pointage 2e cycle'!$M$9:$M$108,B13) -> 0
B14: 10 | C14: =VLOOKUP(G14,'Pointage 2e cycle'!$A$9:$M$108,2,FALSE) -> 0 | D14: =VLOOKUP($C14,'Équipes 1er cycle'!$A$7:$D$100,2,FALSE) -> #N/A | E14: =VLOOKUP($C14,'Équipes 2e cycle'!$A$7:$D$108,3,FALSE) -> #N/A | F14: =VLOOKUP($C14,'Équipes 1er cycle'!$A$7:$D$100,4,FALSE) -> #N/A | G14: =LARGE('Pointage 2e cycle'!$M$9:$M$108,B14) -> 0
B15: 11 | C15: =VLOOKUP(G15,'Pointage 2e cycle'!$A$9:$M$108,2,FALSE) -> 0 | D15: =VLOOKUP($C15,'Équipes 1er cycle'!$A$7:$D$100,2,FALSE) -> #N/A | E15: =VLOOKUP($C15,'Équipes 2e cycle'!$A$7:$D$108,3,FALSE) -> #N/A | F15: =VLOOKUP($C15,'Équipes 1er cycle'!$A$7:$D$100,4,FALSE) -> #N/A | G15: =LARGE('Pointage 2e cycle'!$M$9:$M$108,B15) -> 0
B16: 12 | C16: =VLOOKUP(G16,'Pointage 2e cycle'!$A$9:$M$108,2,FALSE) -> 0 | D16: =VLOOKUP($C16,'Équipes 1er cycle'!$A$7:$D$100,2,FALSE) -> #N/A | E16: =VLOOKUP($C16,'Équipes 2e cycle'!$A$7:$D$108,3,FALSE) -> #N/A | F16: =VLOOKUP($C16,'Équipes 1er cycle'!$A$7:$D$100,4,FALSE) -> #N/A | G16: =LARGE('Pointage 2e cycle'!$M$9:$M$108,B16) -> 0
... B54: 50 | C54: =VLOOKUP(G54,'Pointage 2e cycle'!$A$9:$M$108,2,FALSE) -> 0 | D54: =VLOOKUP($C54,'Équipes 1er cycle'!$A$7:$D$100,2,FALSE) -> #N/A | E54: =VLOOKUP($C54,'Équipes 2e cycle'!$A$7:$D$108,3,FALSE) -> #N/A | F54: =VLOOKUP($C54,'Équipes 1er cycle'!$A$7:$D$100,4,FALSE) -> #N/A | G54: =LARGE('Pointage 2e cycle'!$M$9:$M$108,B54) -> 0
B55: 51 | C55: =VLOOKUP(G55,'Pointage 2e cycle'!$A$9:$M$108,2,FALSE) -> 0 | E55: =VLOOKUP($C55,'Équipes 2e cycle'!$A$7:$D$108,3,FALSE) -> #N/A | G55: =LARGE('Pointage 2e cycle'!$M$9:$M$108,B55) -> 0
B56: 52 | C56: =VLOOKUP(G56,'Pointage 2e cycle'!$A$9:$M$108,2,FALSE) -> 0 | E56: =VLOOKUP($C56,'Équipes 2e cycle'!$A$7:$D$108,3,FALSE) -> #N/A | G56: =LARGE('Pointage 2e cycle'!$M$9:$M$108,B56) -> 0
